BEGIN:VCALENDAR
VERSION:2.0
PRODID:-//Virtuelle PH - ECPv6.6.4.2//NONSGML v1.0//EN
CALSCALE:GREGORIAN
METHOD:PUBLISH
X-WR-CALNAME:Virtuelle PH
X-ORIGINAL-URL:https://www.virtuelle-ph.at
X-WR-CALDESC:Veranstaltungen für Virtuelle PH
REFRESH-INTERVAL;VALUE=DURATION:PT1H
X-Robots-Tag:noindex
X-PUBLISHED-TTL:PT1H
BEGIN:VTIMEZONE
TZID:Europe/Vienna
BEGIN:DAYLIGHT
TZOFFSETFROM:+0100
TZOFFSETTO:+0200
TZNAME:CEST
DTSTART:20220327T010000
END:DAYLIGHT
BEGIN:STANDARD
TZOFFSETFROM:+0200
TZOFFSETTO:+0100
TZNAME:CET
DTSTART:20221030T010000
END:STANDARD
END:VTIMEZONE
BEGIN:VEVENT
DTSTART;TZID=Europe/Vienna:20220119T170000
DTEND;TZID=Europe/Vienna:20220119T180000
DTSTAMP:20260425T153420
CREATED:20210913T090201Z
LAST-MODIFIED:20220120T075613Z
UID:10003556-1642611600-1642615200@www.virtuelle-ph.at
SUMMARY:eLecture: SchuBu - Einführung in den digitalen Unterricht
DESCRIPTION:zur Aufzeichnung\n    \n\n						Seit diesem Schuljahr sind viele Schüler*innen mit digitalen Endgeräten über die Geräteinitiative ausgestattet. \nWie vermittelt man aber ganz konkret Lerninhalte im Klassenkontext mithilfe der verfügbaren digitalen Infrastruktur? \nSchuBu stellt die lehrplankonformen Lehr- und Lerninhalte optimal digital aufbereitet für den Unterricht im Klassenzimmer zur Verfügung. \nPaul Beyer Klinkosch ist einer der Mitgründer von SchuBu ( www.schubu.at ) und stellt in dieser eLecture die Konzepte und – anhand von Beispielen – die Anwendung von SchuBu vor. \nDie Teilnehmer*innen lernen das Bedienkonzept sowie die Arbeit mit dem digitalen interaktiven Schulbuch kennen. \nEs wird dabei besonderes Augenmerk darauf gelegt\, wie man die „SchuBücher“ auf die Bedürfnisse der eigenen Klasse optimieren kann.  \nDarüber hinaus wird gezeigt\, wie man mithilfe von SchuBu ganz einfach Übungen vergeben und durchführen kann. \nDiese eLecture ist für Sie geeignet wenn: \n– sie die digitalen Endgeräte ihrer Schüler*innen optimal nutzen wollen\, um Fachinhalte zu erarbeiten und zu vermitteln\n– sie im Klassenzimmer auch mit digitalen Whiteboards oder PC & Beamer interaktiv arbeiten möchten\n– sie die intrinsische Motivation ihrer Schüler*innen wecken möchten und sich dabei auch digitaler Hilfsmittel bedienen. \n\nCoModeration: Sabrina Gerth \n\nExpert_in: Paul Beyer Klinkosch \n\n\n			\n				\n			\n			Teilnahmekriterien & Info\n		 \n		\n			Lernziele\n		 \n		\n			Voraussetzungen\n		\n		 \n		\n			\n				\n					\n			So treten Sie der Veranstaltung im virtuellen Lernraum bei: \n1. Rufen Sie 5 min vor Terminstart den Link zum Virtuellen Lernraum auf: \nvirtuelle-ph-at.zoom.us/my/virtuelleph.electuredrei \n2. Geben Sie bitte Ihren vollen Namen ein und klicken Sie den Button „Einem Meeting Beitreten“.                              \n3. Klicken Sie den grünen Button „Per Computer dem Audio beitreten“ an. \nDas bewirkt\, dass Sie uns hören und sehen können. Sie werden in Kürze eingelassen. \nDie Teilnahme an allen eLectures der Virtuellen PH ist für österreichische Hochschullehrende\, Lehrkräfte und Studierende eines Lehramts kostenlos.\n		 \n		\n			# Die Teilnehmer*innen können SchuBu im Rahmen des Unterrichts verwenden. \n# Die Teilnehmer*innen können SchuBu als Erweiterung und Ergänzung des klassischen Schulbuchs anwenden. \n# Die Teilnehmer*innen können jedes „SchuBuch“ mit eigenen Inhalten erweitern. \n# Die Teilnehmer*innen können ihren SuS Aufgaben und Übungen zuordnen und diese auch überprüfen.
URL:https://www.virtuelle-ph.at/veranstaltung/electure-schubu-einfuehrung-in-den-digitalen-unterricht/
CATEGORIES:eLecture
END:VEVENT
END:VCALENDAR