BEGIN:VCALENDAR
VERSION:2.0
PRODID:-//Virtuelle PH - ECPv6.6.4.2//NONSGML v1.0//EN
CALSCALE:GREGORIAN
METHOD:PUBLISH
X-ORIGINAL-URL:https://www.virtuelle-ph.at
X-WR-CALDESC:Veranstaltungen für Virtuelle PH
REFRESH-INTERVAL;VALUE=DURATION:PT1H
X-Robots-Tag:noindex
X-PUBLISHED-TTL:PT1H
BEGIN:VTIMEZONE
TZID:Europe/Vienna
BEGIN:DAYLIGHT
TZOFFSETFROM:+0100
TZOFFSETTO:+0200
TZNAME:CEST
DTSTART:20250330T010000
END:DAYLIGHT
BEGIN:STANDARD
TZOFFSETFROM:+0200
TZOFFSETTO:+0100
TZNAME:CET
DTSTART:20251026T010000
END:STANDARD
END:VTIMEZONE
BEGIN:VEVENT
DTSTART;TZID=Europe/Vienna:20250506T170000
DTEND;TZID=Europe/Vienna:20250506T180000
DTSTAMP:20260420T074708
CREATED:20250507T033221Z
LAST-MODIFIED:20250507T033221Z
UID:10006073-1746550800-1746554400@www.virtuelle-ph.at
SUMMARY:eLecture: Mathematik FLINK be-greifen
DESCRIPTION:Zur Anmeldung \n\n						Zum virtuellen Lernraum\n						\n\n						Kostenlose\, qualitätsgesicherte FLINK-Materialien bieten eine Möglichkeit\, die digitalen Endgeräte sinnvoll im Mathematik-Unterricht der Sekundarstufe 1 einzusetzen. Das Projekt “FLINK in Mathe” der JKU Linz (www.jku.at/flink)  ist mit dem Gütesiegel Lern-Apps und dem Comenius-EduMedia-Siegel ausgezeichnet und bildet den neuen Lehrplan ab. \nPaul Schranz ist Professor an der PH OÖ und Schulbuchautor von “Zahlen\, bitte!”.\nEinerseits können Schüler*innen mit FLINK-Materialien digital ihre mathematischen Fähigkeiten üben und vertiefen. Andererseits ist es wichtig\, dass Mathematik immer wieder im wahrsten Sinne des Wortes „be-griffen“ wird. Die haptische Seite der Mathematik und der Technologieeinsatz sollen sich nicht widersprechen\, sondern Hand in Hand gehen. In dieser eLecture lernen Sie exemplarische Beispiele für die Verbindung haptischer und digitaler Materialien beim Erlernen neuer mathematischer Inhalte kennen. \nDiese Fortbildung ist für Sie interessant\, wenn Sie\n# Mathematik in der Sekundarstufe 1 unterrichten\n# wissen möchten\, wie sich digitale FLINK-Materialien UND haptische Materialien optimal ergänzen können \n\nExpert_in: Paul Schranz \n\n\n			\n				\n			\n			Teilnahmekriterien & Info\n		 \n		\n			Lernziele\n		 \n		\n			Voraussetzungen\n		\n		 \n		\n			\n				\n					\n			So treten Sie der Veranstaltung im virtuellen Lernraum bei: \n1. Rufen Sie 5 min vor Terminstart den Link zum Virtuellen Lernraum auf: \nvirtuelle-ph-at.zoom.us/my/electures \n2. Geben Sie bitte Ihren vollen Namen ein und klicken Sie den Button „Einem Meeting Beitreten“.                              \n3. Klicken Sie den grünen Button „Per Computer dem Audio beitreten“ an. \nDas bewirkt\, dass Sie uns hören und sehen können. Sie werden in Kürze eingelassen. \nDie Teilnahme an allen eLectures der Virtuellen PH ist für österreichische Hochschullehrende\, Lehrkräfte und Studierende eines Lehramts kostenlos.\n		 \n		\n			Lernziele:\n-Best-Practice Beispiele zur Kombination von FLINK-Büchern UND haptischer Mathematik\n-Neuerungen des LP NEU mit FLINK-Büchern UND haptischen Materialien in Kombination umsetzen\n-der Schnittstellenproblematik VS/SEK1 und SEK1/SEK2 begegnen
URL:https://www.virtuelle-ph.at/veranstaltung/electure-mathematik-flink-be-greifen-2/
CATEGORIES:eLecture,Reihe flink
END:VEVENT
BEGIN:VEVENT
DTSTART;TZID=Europe/Vienna:20250506T170000
DTEND;TZID=Europe/Vienna:20250506T180000
DTSTAMP:20260420T074708
CREATED:20250211T033037Z
LAST-MODIFIED:20250506T033122Z
UID:10005718-1746550800-1746554400@www.virtuelle-ph.at
SUMMARY:eLecture: Mathematik FLINK be-greifen
DESCRIPTION:Zur Anmeldung \n\n						Zum virtuellen Lernraum\n						\n\n						Kostenlose\, qualitätsgesicherte FLINK-Materialien bieten eine Möglichkeit\, die digitalen Endgeräte sinnvoll im Mathematik-Unterricht der Sekundarstufe 1 einzusetzen. Das Projekt “FLINK in Mathe” der JKU Linz (www.jku.at/flink)  ist mit dem Gütesiegel Lern-Apps und dem Comenius-EduMedia-Siegel ausgezeichnet und bildet den neuen Lehrplan ab. \nPaul Schranz ist Professor an der PH OÖ und Schulbuchautor von “Zahlen\, bitte!”.\nEinerseits können Schüler*innen mit FLINK-Materialien digital ihre mathematischen Fähigkeiten üben und vertiefen. Andererseits ist es wichtig\, dass Mathematik immer wieder im wahrsten Sinne des Wortes „be-griffen“ wird. Die haptische Seite der Mathematik und der Technologieeinsatz sollen sich nicht widersprechen\, sondern Hand in Hand gehen. In dieser eLecture lernen Sie exemplarische Beispiele für die Verbindung haptischer und digitaler Materialien beim Erlernen neuer mathematischer Inhalte kennen. \nDiese Fortbildung ist für Sie interessant\, wenn Sie\n# Mathematik in der Sekundarstufe 1 unterrichten\n# wissen möchten\, wie sich digitale FLINK-Materialien UND haptische Materialien optimal ergänzen können \n\nExpert_in: Paul Schranz \n\n\n			\n				\n			\n			Teilnahmekriterien & Info\n		 \n		\n			Lernziele\n		 \n		\n			Voraussetzungen\n		\n		 \n		\n			\n				\n					\n			So treten Sie der Veranstaltung im virtuellen Lernraum bei: \n1. Rufen Sie 5 min vor Terminstart den Link zum Virtuellen Lernraum auf: \nvirtuelle-ph-at.zoom.us/my/electures \n2. Geben Sie bitte Ihren vollen Namen ein und klicken Sie den Button „Einem Meeting Beitreten“.                              \n3. Klicken Sie den grünen Button „Per Computer dem Audio beitreten“ an. \nDas bewirkt\, dass Sie uns hören und sehen können. Sie werden in Kürze eingelassen. \nDie Teilnahme an allen eLectures der Virtuellen PH ist für österreichische Hochschullehrende\, Lehrkräfte und Studierende eines Lehramts kostenlos.\n		 \n		\n			Lernziele:\n-Best-Practice Beispiele zur Kombination von FLINK-Büchern UND haptischer Mathematik\n-Neuerungen des LP NEU mit FLINK-Büchern UND haptischen Materialien in Kombination umsetzen\n-der Schnittstellenproblematik VS/SEK1 und SEK1/SEK2 begegnen
URL:https://www.virtuelle-ph.at/veranstaltung/electure-mathematik-flink-be-greifen/
CATEGORIES:eLecture,Reihe flink
END:VEVENT
END:VCALENDAR