BEGIN:VCALENDAR
VERSION:2.0
PRODID:-//Virtuelle PH - ECPv6.6.4.2//NONSGML v1.0//EN
CALSCALE:GREGORIAN
METHOD:PUBLISH
X-WR-CALNAME:Virtuelle PH
X-ORIGINAL-URL:https://www.virtuelle-ph.at
X-WR-CALDESC:Veranstaltungen für Virtuelle PH
REFRESH-INTERVAL;VALUE=DURATION:PT1H
X-Robots-Tag:noindex
X-PUBLISHED-TTL:PT1H
BEGIN:VTIMEZONE
TZID:Europe/Berlin
BEGIN:DAYLIGHT
TZOFFSETFROM:+0100
TZOFFSETTO:+0200
TZNAME:CEST
DTSTART:20200329T010000
END:DAYLIGHT
BEGIN:STANDARD
TZOFFSETFROM:+0200
TZOFFSETTO:+0100
TZNAME:CET
DTSTART:20201025T010000
END:STANDARD
END:VTIMEZONE
BEGIN:VEVENT
DTSTART;TZID=Europe/Berlin:20200127T180000
DTEND;TZID=Europe/Berlin:20200127T190000
DTSTAMP:20260421T011829
CREATED:20190927T073419Z
LAST-MODIFIED:20200128T091846Z
UID:10003481-1580148000-1580151600@www.virtuelle-ph.at
SUMMARY:electure #digiGruBi: Scratch & Co - kreative Nutzung von Programmiersprachen
DESCRIPTION:zur Aufzeichnung\n\n\n						Scratch war eine der ersten Blockbasierten Programmiersprachen und wurde speziell für Kinder entwickelt. Mittlerweile haben sich diese Programmiersprachen in vielen Anwendungen durchgesetzt\, da sie abgesehen von der Programmierlogik wenig Vorwissen benötigen. Dadurch wird das Programmieren von einfachen Anwendungen oder Robotern für alle zugänglich. Zu den gängigen Anwendungsbeispielen zählen z.B. Animationen oder Digital Stories oder selbstentwickelte (Lern-)spiele. Für verschiedene Plattformen (z.B. Lego\, Micro:bit) sind Blöcke entwickelt worden die sich einfach zu komplexen Programmen zusammensetzen lassen.  \nZiel der Lehrveranstaltung ist es unter Anderem\, einen kurzer Überblick über die Programme zu geben und die unterschiedlichen Möglichkeiten zu veranschaulichen. Weiters soll gezeigt werden\, dass diese Programme nicht nur im Informatikunterricht eine Rolle spielen\, sondern für viele andere Fächer genützt werden können.  Neben den kreativen Fächern wie Musik und Bildnerische Erziehung sind natürlich auch die naturwissenschaftlichen Fächer Zielgruppe.  \nDiese eLecture ist für Sie geeignet\,  \n-wenn Sie der Meinung sind\, Programmieren ist nur etwas für ausgebildete Informatiker und Gamedesigner.  \n-wenn Sie Anregungen und Beispiele für Ihren Unterricht suchen \n-Sie digitale Grundbildung breitgefächert anbieten wollen \n—————- \nDiese eLecture ist Teil einer Reihe zur Digitalen Grundbildung in Kooperation mit der PH Wien. Vertiefend können Sie an einer Ringveranstaltung der Virtuellen PH teilnehmen\, wenn Sie weiter zu den aufgeworfenen Themen arbeiten wollen! Mehr dazu finden Sie unter: www.virtuelle-ph.at/digigrubi \nCoModeration: Gerlinde Schwabl \n\n			\n				\n			\n			Teilnahmekriterien & Info\n		 \n		\n			Lernziele\n		 \n		\n			Voraussetzungen\n		\n		 \n		\n			\n				\n					\n			Diese Veranstaltung wird via Zoom abgehalten (siehe Voraussetzungen). So treten Sie der eLecture im virtuellen Lernraum bei:  \n1. Rufen Sie 10 min vor Terminstart folgende Seite auf: \nzoom.us/j/684979517 \n2. Geben Sie bitte Ihren vollen Namen und eine Email-Adresse ein und klicken Sie „Dem Webinar beitreten“ an. Bitte klicken Sie im nächsten Schritt auch „Per Computer dem Audio beitreten“ an: das bewirkt\, dass Sie uns hören und sehen können. \n3. Folgen Sie den Anweisungen auf dem Bildschirm. Sie werden in Kürze eingelassen. \nDie Teilnahme an allen eLectures der Virtuellen PH ist für österreichische Hochschullehrende\, Lehrkräfte und Studierende eines Lehramts kostenlos. \nSie können sich via Audio (Headset mit Mikrofon) in einigen Teilen der eLecture zuschalten und mitdiskutieren!\nInfos dazu unter: https://www.virtuelle-ph.at/digigrubi/#el\n		 \n		\n			– Sie können selbständig eine einfache Animation mit Scratch erstellen \n– Sie können andere blockbasierte Programme nach ihrer Komplexität beurteilen und verwenden \n– Sie verstehen Abläufe und können bestehende Programme analysieren und erkennen einfache implementierte Algorithmen.  \n– Sie verwenden die Grundbausteine von Algorithmen und kreieren eigene logische Abläufe.  \n– Sie bedienen sich einfacher Techniken\, um die Interaktion zwischen Mensch und Computer umzusetzen.
URL:https://www.virtuelle-ph.at/veranstaltung/electure-digigrubi-scratch-co-kreative-nutzung-von-programmiersprachen/
CATEGORIES:eLecture,Reihe Digitale Grundbildung
END:VEVENT
END:VCALENDAR