BEGIN:VCALENDAR
VERSION:2.0
PRODID:-//Virtuelle PH - ECPv6.6.4.2//NONSGML v1.0//EN
CALSCALE:GREGORIAN
METHOD:PUBLISH
X-WR-CALNAME:Virtuelle PH
X-ORIGINAL-URL:https://www.virtuelle-ph.at
X-WR-CALDESC:Veranstaltungen für Virtuelle PH
REFRESH-INTERVAL;VALUE=DURATION:PT1H
X-Robots-Tag:noindex
X-PUBLISHED-TTL:PT1H
BEGIN:VTIMEZONE
TZID:Europe/Vienna
BEGIN:DAYLIGHT
TZOFFSETFROM:+0100
TZOFFSETTO:+0200
TZNAME:CEST
DTSTART:20260329T010000
END:DAYLIGHT
BEGIN:STANDARD
TZOFFSETFROM:+0200
TZOFFSETTO:+0100
TZNAME:CET
DTSTART:20261025T010000
END:STANDARD
END:VTIMEZONE
BEGIN:VEVENT
DTSTART;TZID=Europe/Vienna:20260601T170000
DTEND;TZID=Europe/Vienna:20260601T183000
DTSTAMP:20260420T103329
CREATED:20260121T033240Z
LAST-MODIFIED:20260420T033037Z
UID:10006611-1780333200-1780338600@www.virtuelle-ph.at
SUMMARY:eLecture: digi.case - Forschen mit Informatischem Denken
DESCRIPTION:Zur Anmeldung \n\n						Zum virtuellen Lernraum\n						\n\n						In jeder Forschung finden sich Methoden des Informatischen Denkens wieder\, unter anderem Evaluation und Verallgemeinerung. Mit analogen und digitalen Werkzeugen lernen Schülerinnen und Schüler der Primarstufe einen kindgerechten und spielerischen Einstieg in die Welt des wissenschaftlichen Arbeitens. Schwerpuntkspiel: Türme von Hanoi und Bibergeheimwörter. \n\nExpert_in: Peter Walchshofer \n\n\n			\n				\n			\n			Teilnahmekriterien & Info\n		 \n		\n			Lernziele\n		 \n		\n			Voraussetzungen\n		\n		 \n		\n			\n				\n					\n			So treten Sie der Veranstaltung im virtuellen Lernraum bei: \n1. Rufen Sie 5 min vor Terminstart den Link zum Virtuellen Lernraum auf: \nvirtuelle-ph-at.zoom.us/my/electures \n2. Geben Sie bitte Ihren vollen Namen ein und klicken Sie den Button „Einem Meeting Beitreten“.                              \n3. Klicken Sie den grünen Button „Per Computer dem Audio beitreten“ an. \nDas bewirkt\, dass Sie uns hören und sehen können. Sie werden in Kürze eingelassen. \nDie Teilnahme an allen eLectures der Virtuellen PH ist für österreichische Hochschullehrende\, Lehrkräfte und Studierende eines Lehramts kostenlos.\n		 \n		\n			Die Lehrenden möchten digitale Grundbildung in der Primarstufe umsetzen\nDie Lehrenden möchten analoge und digitale Werkzeuge verwenden\, um Problemlösedenken bei den Lernende zu entwickeln.\nDie Lehrenden möchten den Medienkoffer digi.case in den Unterrichtfächern einsetzen können.
URL:https://www.virtuelle-ph.at/veranstaltung/electure-digi-case-forschen-mit-informatischem-denken-5/
CATEGORIES:eLecture,Reihe digicase
END:VEVENT
END:VCALENDAR