BEGIN:VCALENDAR
VERSION:2.0
PRODID:-//Virtuelle PH - ECPv6.6.4.2//NONSGML v1.0//EN
CALSCALE:GREGORIAN
METHOD:PUBLISH
X-ORIGINAL-URL:https://www.virtuelle-ph.at
X-WR-CALDESC:Veranstaltungen für Virtuelle PH
REFRESH-INTERVAL;VALUE=DURATION:PT1H
X-Robots-Tag:noindex
X-PUBLISHED-TTL:PT1H
BEGIN:VTIMEZONE
TZID:Europe/Berlin
BEGIN:DAYLIGHT
TZOFFSETFROM:+0100
TZOFFSETTO:+0200
TZNAME:CEST
DTSTART:20200329T010000
END:DAYLIGHT
BEGIN:STANDARD
TZOFFSETFROM:+0200
TZOFFSETTO:+0100
TZNAME:CET
DTSTART:20201025T010000
END:STANDARD
END:VTIMEZONE
BEGIN:VEVENT
DTSTART;TZID=Europe/Berlin:20200615T183000
DTEND;TZID=Europe/Berlin:20200615T193000
DTSTAMP:20260420T155232
CREATED:20200508T103106Z
LAST-MODIFIED:20200616T071922Z
UID:10003672-1592245800-1592249400@www.virtuelle-ph.at
SUMMARY:eLecture: Konfliktklärung mit Blick auf die Corona-Krise
DESCRIPTION:zur Aufzeichnung\n\n\n						Sich selbst in einem Konflikt mit einem oder mehreren Menschen zu befinden\, ist keine einfache Angelegenheit. Die Energie\, die dadurch verbraucht wird\, ist enorm und hindert einen daran\, kreative und produktive Fähigkeiten zu etablieren. Auch das Verneinen\, das Negieren\, das „Nicht-Anerkennen“ eines Konfliktes nagt an unseren Kräften. Und oft erkennen wir das sehr spät. \n\nKonflikte sind per se nichts negatives\, sie sind sogar essenziell\, um persönliche aber auch gesellschaftliche Entwicklung zu ermöglichen. \n\nIn der Zeit der Corona-Krise sind neue und alte Konflikte an die Oberfläche gekommen. Manche davon waren immer schon "schwelend" in der Gesellschaft\, manche kamen neu hinzu. Auch in der Online-Kommunikation\, besonders beim Distance Learning\, spielen diese Konflikte selbstverständlich eine große Rolle. Die Frage der Hierarchie und Kompetenzen von Eltern und Lehrenden wurde neu definiert und auch in Frage gestellt (Rollenkonflikt). Und schließlich stellt sich immer wieder die Frage nach den "neuen" Technologien und wer wie kompetent damit umgehen kann. (Generationenkonflikt). \n\nUm Konflikte nicht ins Negative gleiten zu lassen\, ist es notwendig einige Grundkenntnisse zu erwerben\, die ich Ihnen in dieser eLecture zeigen möchte. Die Themen\, die ich Ihnen vorstelle\, werden von Geschichten und Erzählungen aus meinem Berufsalltag begleitet. \n\nPhilipp Rodleitner ist Magister der Internationalen Entwicklung\, Mediator und Safer-Internet-Trainer für Volksschulen (Schüler_innen\, Lehrende\, Eltern).\nDies sind Themen der Einheit: \n# Was ist eigentlich ein Konflikt? Und woran kann ich ihn erkennen? ("Mir gehts gut – die Schuld liegt bei meinem Gegenüber!") \n\n# Warum ist die Konfliktklärung so wichtig? ("Ist doch egal\, worum's geht\, ich hab recht!") \n\n# Was hat es mit dem Konflikthirn auf sich\, und warum ist es manchmal wichtig\, sich "herauszunehmen"? ("Keine Ahnung warum\, aber ich renn' mal davon!") \n\n# Lehrende als Konfliktbearbeiter_innen – Hierarchie als Herausforderung. ("Hat der Jäger eigentlich mal Rotkäppchens Wolf gefragt\, warum er das getan hat?") \n\nDiese eLecture ist für Sie interessant\, wenn Sie… \n\n# … schon einmal einen Konflikt mit einer anderen Personen hatten. \n\n# … im beruflichen\, als auch im privaten Umfeld gerne kompetenter mit Konflikten umgehen und die Mechanismen dahinter verstehen wollen. \n\n# … ihre (zukünftigen) Schüler_innen bei der Bewältigung von Konflikten in der sich verändernden Welt unterstützen möchten. \n\nExpert_in: Philipp Rodleitner \n\n\n			\n				\n			\n			Teilnahmekriterien & Info\n		 \n		\n			Lernziele\n		 \n		\n			Voraussetzungen\n		\n		 \n		\n			\n				\n					\n			Technische Voraussetzungen: Grundlegende Computerkenntnisse\, gute Internetverbindung; optional: Headset.  \nSo treten Sie der eLecture im virtuellen Lernraum bei:  \n1. Rufen Sie 10 min vor Terminstart folgende Seite auf:  \n	vph.adobeconnect.com/eins/ \n2. Geben Sie bitte Ihren Vor- und Nachnamen ein und „Betreten Sie den Raum“ mit Klick auf den Button. \n3. Folgen Sie den Anweisungen auf dem Bildschirm. Sie werden in Kürze eingelassen. \nWenn Sie noch an keiner eLecture teilgenommen haben\, finden Sie alle Infos zum Einstieg unter: www.virtuelle-ph.at/electures/#einstieg \nDie Teilnahme an allen eLectures der Virtuellen PH ist für österreichische Lehrkräfte und Studierende eines Lehramts kostenlos.\n		 \n		\n			# Verstehen und erkennen\, was einen Konflikt ausmacht. \n# Den Unterschied benennen können\, ob ein intra- oder interpersoneller Konflikt (oder beides) vorliegt. \n# Mögliche Konfliktklärungswege (er)kennen. \n# Die Auswirkungen des Konflikthirnes verstehen. \n# Erkennen verschiedener Konfliktarten (Werte-\, Generationen-\, Rollen-\,…) – auch in Bezug auf die Corona-Krise.
URL:https://www.virtuelle-ph.at/veranstaltung/electure-konfliktklaerung-mit-blick-auf-die-corona-krise/
CATEGORIES:eLecture
END:VEVENT
END:VCALENDAR