BEGIN:VCALENDAR
VERSION:2.0
PRODID:-//Virtuelle PH - ECPv6.6.4.2//NONSGML v1.0//EN
CALSCALE:GREGORIAN
METHOD:PUBLISH
X-ORIGINAL-URL:https://www.virtuelle-ph.at
X-WR-CALDESC:Veranstaltungen für Virtuelle PH
REFRESH-INTERVAL;VALUE=DURATION:PT1H
X-Robots-Tag:noindex
X-PUBLISHED-TTL:PT1H
BEGIN:VTIMEZONE
TZID:Europe/Berlin
BEGIN:DAYLIGHT
TZOFFSETFROM:+0100
TZOFFSETTO:+0200
TZNAME:CEST
DTSTART:20200329T010000
END:DAYLIGHT
BEGIN:STANDARD
TZOFFSETFROM:+0200
TZOFFSETTO:+0100
TZNAME:CET
DTSTART:20201025T010000
END:STANDARD
END:VTIMEZONE
BEGIN:VEVENT
DTSTART;TZID=Europe/Berlin:20200526T170000
DTEND;TZID=Europe/Berlin:20200526T180000
DTSTAMP:20260420T132346
CREATED:20200331T100646Z
LAST-MODIFIED:20200527T061122Z
UID:10003317-1590512400-1590516000@www.virtuelle-ph.at
SUMMARY:eLecture: Klappe und Action! Schüler_innenvideos mit Flipgrid erstellen
DESCRIPTION:zur Aufzeichnung\n\n\n						Videos sind in der Lebenswelt der Kinder und Jugendlichen allgegenwärtig. Warum also diese Tatsache nicht auch im Unterricht nutzen?!\nPhilipp Stangl unterrichtet an der Musikmittelschule Radstadt und nutzt bereits einige Zeit Flipgrid in seinem Unterricht. Ob nun als Videotagebuch\, Erlebnisbericht bei Exkursionen oder Erklärungen zu mathematischen Sachaufgaben – Flipgrid bietet Ihm unzählige Möglichkeiten das Medium Video in den Unterricht zu integrieren. \nIn dieser eLecture lernen Sie\, wie Sie sich als Lehrer mit ihrerm Office365 Account bei Flipgrid anmelden und ihr erstes Grid/Topic erstellen. Sie erhalten einen Einblick über die verschiedenen Einstellungsmöglichkeiten die Ihnen die Arbeit mit Flipgrid spürbar erleichtern. Wenn Sie vor der eLecture auf Ihrem Smartphone die App „Flipgrid“ installieren\, können sie auch während der eLecture ihr erstes Video mit Flipgrid aufnehmen. \nDiese eLecture ist für Sie geeignet\, wenn Sie offen für die Arbeit mit dem Spmartphone und dem Medium Video in Ihrem Unterricht sind. \n\nCoModeration: Thomas Winkler \n\nExpert_in: Philipp Stangl \n\n\n			\n				\n			\n			Teilnahmekriterien & Info\n		 \n		\n			Lernziele\n		 \n		\n			Voraussetzungen\n		\n		 \n		\n			\n				\n					\n			So treten Sie der Veranstaltung im virtuellen Lernraum bei:  \n        1. Rufen Sie 5 min vor Terminstart den Link zum Virtuellen Lernraum auf: \n             zoom.us/j/567212775 \n         2. Geben Sie bitte Ihre Email-Adresse und Ihren vollen Namen ein und klicken Sie den Button\n             „Dem Webinar beitreten“. \n         3. Klicken Sie den grünen Button „Per Computer dem Audio beitreten“ an.\n             Das bewirkt\, dass Sie uns hören und sehen können. Sie werden in Kürze eingelassen. \nDie Teilnahme an allen eLectures der Virtuellen PH ist für österreichische Hochschullehrende\, Lehrkräfte und Studierende eines Lehramts kostenlos.\n		 \n		\n			# Kennenlernen von Flipgrid \n# Erstellen eines Accounts/dem ersten Grid/ dem ersten Topic \n# Kennenlernen von Tipps und Tricks die die Arbeit mit Flipgrid einfacher machen \n# Aufnehmen des ersten eigenen Videos (Flipgrid-App am Handy installieren)
URL:https://www.virtuelle-ph.at/veranstaltung/electure-klappe-und-action-schueler_innenvideos-mit-flipgrid-erstellen/
CATEGORIES:eLecture
END:VEVENT
BEGIN:VEVENT
DTSTART;TZID=Europe/Berlin:20200428T150000
DTEND;TZID=Europe/Berlin:20200428T160000
DTSTAMP:20260420T132346
CREATED:20200330T164019Z
LAST-MODIFIED:20200429T070952Z
UID:10003692-1588086000-1588089600@www.virtuelle-ph.at
SUMMARY:eLecture O365: Erstellen von Formularen mit Forms
DESCRIPTION:zur Aufzeichnung\n\n\n						Gerade in der aktuellen Situation in Österreich rückt das Thema „Fernlehre“ mehr in den Fokus und die Nutzung einer passenden Lernplattform ist wichtiger denn je. Philipp Stangl arbeitet bereits seit 3 Jahren an seiner Schule mit Microsoft Teams. Für ihn bietet Teams alle Funktionen\, die er von einer Lernplattform erwartet\, wie beispielsweise verschiedene Kommunikationsmöglichkeiten\, Dateiablage\, Aufgabenmanagement\, … \nIn dieser eLecture lernen Sie\, wie Sie mit Microsoft Forms Formulare und Quizaufgaben erstellen und diese in die Aufgaben von Microsoft Teams direkt einbinden können.  \nDiese eLecture ist für Sie geeignet\, wenn an Ihrer Schule Office365 eingesetzt wird und Sie mit Teams auf eine moderne Lernplattform in Ihrem Unterricht setzen wollen. \nCoModeration: Thomas Winkler \n\n			\n				\n			\n			Teilnahmekriterien & Info\n		 \n		\n			Lernziele\n		 \n		\n			Voraussetzungen\n		\n		 \n		\n			\n				\n					\n			So treten Sie der Veranstaltung im virtuellen Lernraum bei:  \n        1. Rufen Sie 5 min vor Terminstart den Link zum Virtuellen Lernraum auf: \n             zoom.us/j/567212775 \n         2. Geben Sie bitte Ihre Email-Adresse und Ihren vollen Namen ein und klicken Sie den Button\n             „Dem Webinar beitreten“. \n         3. Klicken Sie den grünen Button „Per Computer dem Audio beitreten“ an.\n             Das bewirkt\, dass Sie uns hören und sehen können. Sie werden in Kürze eingelassen. \nDie Teilnahme an allen eLectures der Virtuellen PH ist für österreichische Hochschullehrende\, Lehrkräfte und Studierende eines Lehramts kostenlos.\n		 \n		\n			# Erstellen von Formularen und Quizaufgaben mit Forms \n# Einbinden der erstellten Quizaufgaben in Teams \n# Teilen/Duplizieren der Aufgaben zur Weiterverwendung
URL:https://www.virtuelle-ph.at/veranstaltung/electure-o365-erstellen-von-formularen-mit-forms/
CATEGORIES:eLecture,Reihe EL O365
END:VEVENT
BEGIN:VEVENT
DTSTART;TZID=Europe/Berlin:20200421T150000
DTEND;TZID=Europe/Berlin:20200421T160000
DTSTAMP:20260420T132346
CREATED:20200330T164000Z
LAST-MODIFIED:20200422T073644Z
UID:10003671-1587481200-1587484800@www.virtuelle-ph.at
SUMMARY:eLecture O365: Möglichkeiten der Kommunikation in Teams
DESCRIPTION:zur Aufzeichnung\n\n\n						Gerade in der aktuellen Situation in Österreich rückt das Thema „Fernlehre“ mehr in den Fokus und die Nutzung einer passenden Lernplattform ist wichtiger denn je. Philipp Stangl arbeitet bereits seit 3 Jahren an seiner Schule mit Microsoft Teams. Für ihn bietet Teams alle Funktionen\, die er von einer Lernplattform erwartet\, wie beispielsweise verschiedene Kommunikationsmöglichkeiten\, Dateiablage\, Aufgabenmanagement\, … \nIn dieser eLecture lernen Sie\, welche Möglichkeiten der Kommunikation (Gruppen-/Einzelchat\, Video-/Sprachanruf) Ihnen in Microsoft Teams zur Verfügung stehen. \nDiese eLecture ist für Sie geeignet\, wenn an Ihrer Schule Office365 eingesetzt wird und Sie mit Teams auf eine moderne Lernplattform in Ihrem Unterricht setzen wollen. \nCoModeration: Thomas Winkler \n\n			\n				\n			\n			Teilnahmekriterien & Info\n		 \n		\n			Lernziele\n		 \n		\n			Voraussetzungen\n		\n		 \n		\n			\n				\n					\n			So treten Sie der Veranstaltung im virtuellen Lernraum bei:  \n        1. Rufen Sie 5 min vor Terminstart den Link zum Virtuellen Lernraum auf: \n             zoom.us/j/567212775 \n         2. Geben Sie bitte Ihre Email-Adresse und Ihren vollen Namen ein und klicken Sie den Button\n             „Dem Webinar beitreten“. \n         3. Klicken Sie den grünen Button „Per Computer dem Audio beitreten“ an.\n             Das bewirkt\, dass Sie uns hören und sehen können. Sie werden in Kürze eingelassen. \nDie Teilnahme an allen eLectures der Virtuellen PH ist für österreichische Hochschullehrende\, Lehrkräfte und Studierende eines Lehramts kostenlos.\n		 \n		\n			# Unterhaltungen im Team führen \n# Die Chatfunktion in Teams nutzen \n# Video-/Sprachanrufe führen
URL:https://www.virtuelle-ph.at/veranstaltung/electure-o365-moeglichkeiten-der-kommunikation-in-teams/
CATEGORIES:eLecture,Reihe EL O365
END:VEVENT
BEGIN:VEVENT
DTSTART;TZID=Europe/Berlin:20200414T170000
DTEND;TZID=Europe/Berlin:20200414T180000
DTSTAMP:20260420T132346
CREATED:20200408T135135Z
LAST-MODIFIED:20200415T102111Z
UID:10003699-1586883600-1586887200@www.virtuelle-ph.at
SUMMARY:eLecture O365: Einstieg in Teams; Anlegen eines Teams\, Kommunikation\, Dateiablage
DESCRIPTION:zur Aufzeichnung\n\n\n						Gerade in der aktuellen Situation in Österreich rückt das Thema „Fernlehre“ mehr in den Fokus und die Nutzung einer passenden Lernplattform ist wichtiger denn je. Philipp Stangl arbeitet bereits seit 3 Jahren an seiner Schule mit Microsoft Teams. Für ihn bietet Teams alle Funktionen\, die er von einer Lernplattform erwartet\, wie beispielsweise verschiedene Kommunikationsmöglichkeiten\, Dateiablage\, Aufgabenmanagement\, … \nIn dieser eLecture machen Sie Ihre ersten Schritte in die Welt von Microsoft Teams. Das beginnt bei der Erstellung des ersten Teams\, dem Erforschen der grundlegenden Kommunikationswerkzeuge und dem Ablegen von Dateien. \nDiese eLecture ist für Sie geeignet\, wenn an Ihrer Schule Office365 eingesetzt wird und Sie mit Teams auf eine moderne Lernplattform in Ihrem Unterricht setzen wollen.  \nCoModeration: Thomas Winkler \n\n			\n				\n			\n			Teilnahmekriterien & Info\n		 \n		\n			Lernziele\n		 \n		\n			Voraussetzungen\n		\n		 \n		\n			\n				\n					\n			So treten Sie der Veranstaltung im virtuellen Lernraum bei:  \n        1. Rufen Sie 5 min vor Terminstart den Link zum Virtuellen Lernraum auf: \n             zoom.us/j/567212775 \n         2. Geben Sie bitte Ihre Email-Adresse und Ihren vollen Namen ein und klicken Sie den Button\n             „Dem Webinar beitreten“. \n         3. Klicken Sie den grünen Button „Per Computer dem Audio beitreten“ an.\n             Das bewirkt\, dass Sie uns hören und sehen können. Sie werden in Kürze eingelassen. \nDie Teilnahme an allen eLectures der Virtuellen PH ist für österreichische Hochschullehrende\, Lehrkräfte und Studierende eines Lehramts kostenlos.\n		 \n		\n			# Kennenlernen von Microsoft Teams \n# Anlegen eines eigenen Teams \n# Verwaltung des Teams \n# Kommunikation in einem Team \n# Dateiablage
URL:https://www.virtuelle-ph.at/veranstaltung/electure-o365-einstieg-in-teams-anlegen-eines-teams-kommunikation-dateiablage/
CATEGORIES:eLecture,Reihe EL O365
END:VEVENT
BEGIN:VEVENT
DTSTART;TZID=Europe/Berlin:20200120T190000
DTEND;TZID=Europe/Berlin:20200120T200000
DTSTAMP:20260420T132346
CREATED:20191029T081256Z
LAST-MODIFIED:20200121T091018Z
UID:10003450-1579546800-1579550400@www.virtuelle-ph.at
SUMMARY:eLecture: Das kostenlose Onlinetool Wakelet kennenlernen
DESCRIPTION:zur Aufzeichnung\n\n\n						In Zeiten der digitalen Informationsflut kann es manchmal schwierig sein\, Fundstücke aus dem Internet sortiert zu verwalten. Jeder kennt vermutlich lange Linklisten in Word oder überfüllte Lesezeichenordner. Mit dem kostenlosen Onlinetool „Wakelet“ können Sie dem ein Ende setzten. Wakelet ermöglicht es Ihnen\, URLs\, PDFs\, YouTube Videos und noch mehr in Collections zusammenzufassen. Diese können Sie im Anschluss teilen oder auch mit einem Kollegen oder eine Kollegin gemeinsam ergänzen. \nWakelet unterstützt auch das Einbetten in OneNote oder das Einbinden in Lernplattformen wie Teams oder GoogleClassroom. Durch die optionalen Browserextensions und die Smartphone-APP ist Wakelet immer nur einen Mausklick entfernt. \nPhilipp Stangl ist Lehrer an der MMS Radstadt\, Lehrender in der Fortbildung an der PH Salzburg und Bundeslandkoordinator für eEdcuation in Salzburg. Durch seine Tätigkeit im eEdcuation Bereich und der Tätigkeit in der Schule kann er seine Erfahrung aus der Praxis mit Ihnen teilen. \nIn der eLecture lernen Sie Wakelet kennen und erlangen einen Einblick\, wie Wakelet Sie im täglichen Arbeiten unterstützen kann. \n___________________________________ \nBei dieser eLecture handelt es sich um ein begleitetes OTA Praktikum. Mehr zur OTA unter www.virtuelle-ph.at/ota \nCoModeration: Gerlinde Schwabl \n\n			\n				\n			\n			Teilnahmekriterien & Info\n		 \n		\n			Lernziele\n		 \n		\n			Voraussetzungen\n		\n		 \n		\n			\n				\n					\n			Technische Voraussetzungen: Grundlegende Computerkenntnisse\, gute Internetverbindung; optional: Headset.  \nSo treten Sie der eLecture im virtuellen Lernraum bei:  \n1. Rufen Sie 10 min vor Terminstart folgende Seite auf:  \nvph.adobeconnect.com/eins/ \n2. Geben Sie bitte Ihren Vor- und Nachnamen ein und „Betreten Sie den Raum“ mit Klick auf den Button. \n3. Folgen Sie den Anweisungen auf dem Bildschirm. Sie werden in Kürze eingelassen. \nWenn Sie noch an keiner eLecture teilgenommen haben\, finden Sie alle Infos zum Einstieg unter: www.virtuelle-ph.at/electures/#einstieg \nDie Teilnahme an allen eLectures der Virtuellen PH ist für österreichische Lehrkräfte und Studierende eines Lehramts kostenlos.\n		 \n		\n			# Organisieren von Internetfundstücken in Collections \n# Wakelet Collections teilen und kollaborativ daran arbeiten \n# Eine Collection zur Materialaufbereitung für den Unterricht nutzen
URL:https://www.virtuelle-ph.at/veranstaltung/electure-das-kostenlose-onlinetool-wakelet-kennenlernen/
CATEGORIES:eLecture
END:VEVENT
END:VCALENDAR