BEGIN:VCALENDAR
VERSION:2.0
PRODID:-//Virtuelle PH - ECPv6.6.4.2//NONSGML v1.0//EN
CALSCALE:GREGORIAN
METHOD:PUBLISH
X-WR-CALNAME:Virtuelle PH
X-ORIGINAL-URL:https://www.virtuelle-ph.at
X-WR-CALDESC:Veranstaltungen für Virtuelle PH
REFRESH-INTERVAL;VALUE=DURATION:PT1H
X-Robots-Tag:noindex
X-PUBLISHED-TTL:PT1H
BEGIN:VTIMEZONE
TZID:Europe/Vienna
BEGIN:DAYLIGHT
TZOFFSETFROM:+0100
TZOFFSETTO:+0200
TZNAME:CEST
DTSTART:20220327T010000
END:DAYLIGHT
BEGIN:STANDARD
TZOFFSETFROM:+0200
TZOFFSETTO:+0100
TZNAME:CET
DTSTART:20221030T010000
END:STANDARD
TZID:Europe/Berlin
BEGIN:DAYLIGHT
TZOFFSETFROM:+0100
TZOFFSETTO:+0200
TZNAME:CEST
DTSTART:20180325T010000
END:DAYLIGHT
BEGIN:STANDARD
TZOFFSETFROM:+0200
TZOFFSETTO:+0100
TZNAME:CET
DTSTART:20181028T010000
END:STANDARD
BEGIN:DAYLIGHT
TZOFFSETFROM:+0100
TZOFFSETTO:+0200
TZNAME:CEST
DTSTART:20190331T010000
END:DAYLIGHT
BEGIN:STANDARD
TZOFFSETFROM:+0200
TZOFFSETTO:+0100
TZNAME:CET
DTSTART:20191027T010000
END:STANDARD
END:VTIMEZONE
BEGIN:VEVENT
DTSTART;TZID=Europe/Vienna:20221012T170000
DTEND;TZID=Europe/Vienna:20221012T180000
DTSTAMP:20260425T135322
CREATED:20220918T111508Z
LAST-MODIFIED:20221012T224130Z
UID:10003664-1665594000-1665597600@www.virtuelle-ph.at
SUMMARY:eLecture: 3D-Videos von chemischen Reaktionen selbst erstellen
DESCRIPTION:zur Aufzeichnung \n\n\n						1. Einleitung\nWaltzing Atoms ist eine Software für den interaktiven Chemie-Unterricht\, die seit 2016 für alle Schulen Österreichs kostenlos zur Verfügung steht (vom BMBWF finanziert). Während Waltzing Atoms viele Möglichkeiten für den Unterricht bietet\, steht im Zentrum dieser eLecture das Erstellen von Animationen direkt im Web-Browser.\nZusammen mit dem amerikanischen Bildungsverlag Norton W. W. hat das Team von Waltzing Atoms die Animationen stark verbessert. Das Besondere: Chemische Reaktionen in 3D können schnell im Web erstellt und als Video exportiert werden. Die Inhalte können so von der Lehrerin oder dem Lehrer beliebig weiter verwendet und eingebunden werden.\nWie funktioniert’s? Alle Reaktanden können mittels Drag & Drop in den virtuellen „Reaktionsraum“ im Web-Browser gebracht werden. Danach können beliebige Reaktionsschritte hinzugefügt werden – Schritt für Schritt entsteht so die Animation. Zusatzfeatures beinhalten Pfeile für den Ladungstransfer\, freie Elektronen\, Bindungsveränderungen und vieles mehr. Nachdem alle Reaktionsschritte im Web-Browser hinzugefügt wurden\, kann mittels eines Klicks das gesamte Video exportiert werden.\nZiel dieser eLecture ist\, dass die BesucherInnen eigene Videos für ihren Unterricht erstellen können. \n2. Expertise\nPhilipp Wissgott ist Co-Founder von Waltzing Atoms. Neben seiner unternehmerischen Tätigkeit hat Philipp einen Doktor in technischer Physik und einen Master in Mathematik. Die Verbesserungen bezüglich der chemischen Animationen und viele neue Features wurden zusammen mit den AutorInnen und EditorInnen des eBooks „Organic Chemistry“ von Norton W.W. entwickelt. \n3. Geplante Inhalte\n(i) Einleitung & Motivation: Beispiele fertiger Videos\n(ii) Wie kann ich Waltzing Atoms kostenlos nutzen (Registrierung\, Anmeldung)?\n(iii) Erste Schritte: Waltzing Atoms im Web-Browser. Wie bekomme ich Hilfe?\n(iv) Wie importiere ich die Reaktanden?\n(v) Wie lege ich einen neuen Reaktionsschritt an?\n(vi) Export von fertigen Animationen\n(vii) Optional: Features für Fortgeschrittene \nCoModeration: Sabrina Gerth \n\nExpert_in: Philipp Wissgott \n\n\n			\n				\n			\n			Teilnahmekriterien & Info\n		 \n		\n			Lernziele\n		 \n		\n			Voraussetzungen\n		\n		 \n		\n			\n				\n					\n			So treten Sie der Veranstaltung im virtuellen Lernraum bei: \n1. Rufen Sie 5 min vor Terminstart den Link zum Virtuellen Lernraum auf: \nvirtuelle-ph-at.zoom.us/my/virtuelleph.electuredrei \n2. Geben Sie bitte Ihren vollen Namen ein und klicken Sie den Button „Einem Meeting Beitreten“.                              \n3. Klicken Sie den grünen Button „Per Computer dem Audio beitreten“ an. \nDas bewirkt\, dass Sie uns hören und sehen können. Sie werden in Kürze eingelassen. \nDie Teilnahme an allen eLectures der Virtuellen PH ist für österreichische Hochschullehrende\, Lehrkräfte und Studierende eines Lehramts kostenlos.\n		 \n		\n			x) Den Web-Browser benutzen\, um Reaktanden dem virtuellen Reaktionsraum hinzu zu fügen.\nx) Den Web-Browser benutzen\, um chemische Reaktionen Schritt für Schritt zu erstellen.\nx) Chemische Reaktionen aus dem Web-Browser als Video exportieren
URL:https://www.virtuelle-ph.at/veranstaltung/electure-3d-videos-von-chemischen-reaktionen-selbst-erstellen/
CATEGORIES:eLecture
END:VEVENT
BEGIN:VEVENT
DTSTART;TZID=Europe/Berlin:20191204T173000
DTEND;TZID=Europe/Berlin:20191204T183000
DTSTAMP:20260425T135322
CREATED:20191029T154208Z
LAST-MODIFIED:20191205T094020Z
UID:10003457-1575480600-1575484200@www.virtuelle-ph.at
SUMMARY:eLecture: Gestaltung von fairen und ausgewogenen Tests und Prüfungen
DESCRIPTION:zur Aufzeichnung\n\n\n						Nach einer Schularbeit oder am Ende des Schuljahres stellen sich öfter die Fragen: Welche Beispiele waren für meine SchülerInnen entscheidend? Bei welchen Themen gab es Schwächen? Welche SchülerInnen sind durch die Punktevergabe unter- bzw. überbewertet? \ndanube.ai ist ein Analyse-Tool für Bewertungssysteme\, das LehrerInnen online und völlig kostenlos zur Verfügung steht. Benötigt wird einzig ein (anonymisiertes) Excel-File der Punkte-Ergebnisse der Schularbeit(en) oder Tests. Das Tool findet übermäßig leichte und schwere Aufgaben und passt die Punkte-Bewertung dementsprechend an. Dabei wird die individuelle Leistung jedes Einzelnen berücksichtigt. \nPhilipp Wissgott hat Mathematik und Physik studiert und ist einer der Gründer von danube.ai \nInhalte: \n1) Problemstellung: Was ist ein fairer Test?\n2) Vorführung danube.ai anhand eines echten Beispiels (Mathematik-Schularbeit)\n3) Einführung in das kostelose Web-Tool danube.ai\n4) Hintergründe der Technologie\n5) Anwendungsmöglichkeiten für meinen Unterricht \nDiese eLecture ist für Sie geeignet falls Sie Tests oder Schularbeiten mit einem Punkte-basierenden Bewertungssystem im Unterricht einsetzen. Sie wollen Ihre Punktedefinition analysieren und so Stärken und Schwächen Ihrer SchülerInnen aufdecken. \nCoModeration: Daniel Handle-Pfeiffer \n\n			\n				\n			\n			Teilnahmekriterien & Info\n		 \n		\n			Lernziele\n		 \n		\n			Voraussetzungen\n		\n		 \n		\n			\n				\n					\n			Technische Voraussetzungen: Grundlegende Computerkenntnisse\, gute Internetverbindung; optional: Headset.  \nSo treten Sie der eLecture im virtuellen Lernraum bei:  \n1. Rufen Sie 10 min vor Terminstart folgende Seite auf:  \nvph.adobeconnect.com/drei/ \n2. Geben Sie bitte Ihren Vor- und Nachnamen ein und „Betreten Sie den Raum“ mit Klick auf den Button. \n3. Folgen Sie den Anweisungen auf dem Bildschirm. Sie werden in Kürze eingelassen. \nWenn Sie noch an keiner eLecture teilgenommen haben\, finden Sie alle Infos zum Einstieg unter: www.virtuelle-ph.at/electures/#einstieg \nDie Teilnahme an allen eLectures der Virtuellen PH ist für österreichische Lehrkräfte und Studierende eines Lehramts kostenlos.\n		 \n		\n			Was ist ein fairer Test für meinen Unterricht? \nSelbständige Analyse meines Bewertungssystems mit dem Web-Tool danube.ai \nWelche Schlussfolgerungen ergeben sich aus der Analyse für meinen Unterricht?
URL:https://www.virtuelle-ph.at/veranstaltung/electure-gestaltung-von-fairen-und-ausgewogenen-tests-und-pruefungen/
CATEGORIES:eLecture
END:VEVENT
BEGIN:VEVENT
DTSTART;TZID=Europe/Berlin:20180321T180000
DTEND;TZID=Europe/Berlin:20180321T190000
DTSTAMP:20260425T135322
CREATED:20171221T090640Z
LAST-MODIFIED:20180322T095743Z
UID:10002753-1521655200-1521658800@www.virtuelle-ph.at
SUMMARY:eLecture: Animierte Chemische Reaktionen und mehr mit Waltzing Atoms
DESCRIPTION:zur Aufzeichnung \n\n\n						In einer vorangegangenen eLecture wurde die interaktive Chemie-Software Waltzing Atoms vorgestellt. Sie wurde vom BMBWF für alle Schulen lizenziert und kann deshalb kostenlos genutzt werden (mehr als 300 Schulen nutzen die Software bereits).  \nIm Zentrum dieser eLecture stehen die „10 Chemical Reactions You Have to Know before You Die“ von Waltzing Atoms. Dabei geht es um animierte chemische Reaktionsrätsel die als fertiger Inhalt direkt im Unterricht verwendet werden können. \nPhilipp Wissgott studierte Mathematik und Physik an der TU Wien. Schon während seines Studiums versuchte er seine Lernerfolge zu verbessern\, indem er die Aufgabenstellungen in spielerische Herausforderungen übersetzte. Naturwissenschaft und Technik sind für Philipp kreative Bereiche\, wo Probleme vor allem durch Vorstellungskraft und Fantasie gelöst werden können. Philipp versucht die Schönheit hinter den Geheimnissen der Natur zu entschlüsseln – und das möglichst spielerisch. \nIm weiteren Verlauf der eLecture wird das Erstellen von eigenen chemischen Beispielen mit Waltzing Atoms vorgestellt. Neben chemischen Reaktionen können auch Moleküle und Kristalle sehr gut mit der Software erklärt werden. Mittels des Web-Editors können schnell und flexibel eigene Unterrichtsinhalte vorbereitet werden. \nCoModeration: Daniel Pfeiffer \n\n			\n				\n			\n			Teilnahmekriterien & Info\n		 \n		\n			Lernziele\n		 \n		\n			Voraussetzungen\n		\n		 \n		\n			\n				\n					\n			Technische Voraussetzungen: Grundlegende Computerkenntnisse\, gute Internetverbindung; optional: Headset.  \nSo treten Sie der eLecture im virtuellen Lernraum bei:  \n1. Rufen Sie 10 min vor Terminstart folgende Seite auf:  \nvph.adobeconnect.com/drei/ \n2. Geben Sie bitte Ihren Vor- und Nachnamen ein und „Betreten Sie den Raum“ mit Klick auf den Button. \n3. Folgen Sie den Anweisungen auf dem Bildschirm. Sie werden in Kürze eingelassen. \nWenn Sie noch an keiner eLecture teilgenommen haben\, finden Sie alle Infos zum Einstieg unter: www.virtuelle-ph.at/electures/#einstieg \nDie Teilnahme an allen eLectures der Virtuellen PH ist für österreichische Lehrkräfte und Studierende eines Lehramts kostenlos.\n		 \n		\n			– Kennenlernen von animierten chemischen Reaktionen in 3D\n– Hinzufügen von Text\, Bildern und Links zu Beispielen\n– Sharen des eigenen Chemie-Desktops an SchülerInnen\n– Zuweisen von Beispielen an einzelne SchülerInnen\n– Kennenlernen von individuellem\, adaptiven Unterricht mit Hilfe des Echtzeit-Feedbacks
URL:https://www.virtuelle-ph.at/veranstaltung/electure-animierte-chemische-reaktionen-und-mehr-mit-waltzing-atoms/
CATEGORIES:eLecture
END:VEVENT
BEGIN:VEVENT
DTSTART;TZID=Europe/Berlin:20180307T180000
DTEND;TZID=Europe/Berlin:20180307T190000
DTSTAMP:20260425T135322
CREATED:20171221T090649Z
LAST-MODIFIED:20180308T072232Z
UID:10002754-1520445600-1520449200@www.virtuelle-ph.at
SUMMARY:eLecture: Getting Started mit der Chemie-Software Waltzing Atoms
DESCRIPTION:zur Aufzeichnung \n\n\n						Moleküle und chemische Reaktionen sind eines der abstraktesten Elemente naturwissenschaftlichen Unterrichts. Um SchülerInnen das Verständnis der molekularen Welt zu erleichtern\, ermöglicht das BMBWF (Bundesministerium für Bildung\, Wissenschaft und Forschung) die kostenlose Benutzung von Waltzing Atoms (für alle eEducation Schulen). \nWaltzing Atoms ist ein spielerisches Software-Tool zum Einsatz in naturwissenschaftlichen Fächern (für Sek. I+II). Dabei erstellen LehrerInnen interaktive Chemie-Rätsel\, die von den SchülerInnen per mobilem Gerät gelöst werden können. Dieses digitale Hilfsmittel bietet sich an\, um Hausaufgaben zu geben\, Stoffwiederholungen durchzuführen\, oder\, einfach um einen interaktiven Unterricht zu halten. \nIn dieser eLecture geht es um die Basiselemente der Benutzung von Waltzing Atoms. Als Ausblick werden auch fortgeschrittene Features kurz vorgestellt (siehe auch Fortgeschrittenen eLecture: www.virtuelle-ph.at/veranstaltung/electure-animierte-chemische-reaktionen-und-mehr-mit-waltzing-atoms/). \nCoModeration: Thomas Winkler \n\n			\n				\n			\n			Teilnahmekriterien & Info\n		 \n		\n			Lernziele\n		 \n		\n			Voraussetzungen\n		\n		 \n		\n			\n				\n					\n			Technische Voraussetzungen: Grundlegende Computerkenntnisse\, gute Internetverbindung; optional: Headset.  \nSo treten Sie der eLecture im virtuellen Lernraum bei:  \n1. Rufen Sie 10 min vor Terminstart folgende Seite auf:  \nvph.adobeconnect.com/drei/ \n2. Geben Sie bitte Ihren Vor- und Nachnamen ein und „Betreten Sie den Raum“ mit Klick auf den Button. \n3. Folgen Sie den Anweisungen auf dem Bildschirm. Sie werden in Kürze eingelassen. \nWenn Sie noch an keiner eLecture teilgenommen haben\, finden Sie alle Infos zum Einstieg unter: www.virtuelle-ph.at/electures/#einstieg \nDie Teilnahme an allen eLectures der Virtuellen PH ist für österreichische Lehrkräfte und Studierende eines Lehramts kostenlos.\n		 \n		\n			– Registrierung\n– Kennenlernen der Elemente von Waltzing Atoms (App\, Web-App\, Powerpoint-Addin)\n– Kennenlernen der enthaltenen Inhalte\n– Kennenlernen der Perspektive der SchülerInnen\n– Interaktive chemische Strukturen in Powerpoint integrieren\n– Ausblick auf chemische Reaktionsrätsel
URL:https://www.virtuelle-ph.at/veranstaltung/electure-getting-started-mit-der-chemie-software-waltzing-atoms/
CATEGORIES:eLecture
END:VEVENT
END:VCALENDAR