BEGIN:VCALENDAR
VERSION:2.0
PRODID:-//Virtuelle PH - ECPv6.6.4.2//NONSGML v1.0//EN
CALSCALE:GREGORIAN
METHOD:PUBLISH
X-WR-CALNAME:Virtuelle PH
X-ORIGINAL-URL:https://www.virtuelle-ph.at
X-WR-CALDESC:Veranstaltungen für Virtuelle PH
REFRESH-INTERVAL;VALUE=DURATION:PT1H
X-Robots-Tag:noindex
X-PUBLISHED-TTL:PT1H
BEGIN:VTIMEZONE
TZID:Europe/Berlin
BEGIN:DAYLIGHT
TZOFFSETFROM:+0100
TZOFFSETTO:+0200
TZNAME:CEST
DTSTART:20190331T010000
END:DAYLIGHT
BEGIN:STANDARD
TZOFFSETFROM:+0200
TZOFFSETTO:+0100
TZNAME:CET
DTSTART:20191027T010000
END:STANDARD
END:VTIMEZONE
BEGIN:VEVENT
DTSTART;TZID=Europe/Berlin:20190321T170000
DTEND;TZID=Europe/Berlin:20190321T173000
DTSTAMP:20260420T053738
CREATED:20190211T100646Z
LAST-MODIFIED:20190322T063545Z
UID:10003211-1553187600-1553189400@www.virtuelle-ph.at
SUMMARY:digiPH2 eLecture: Das E-Portfolio als Bachelorabschluss
DESCRIPTION:zur Aufzeichnung\n\n\n						E-Portfolios können auf vielfältige Art und Weise für Lehr- und Lernprozesse genutzt werden. An der Pädagogischen Hochschule St. Gallen schließen alle Studierenden im Master-Studiengang Sekundarstufe I mittels E-Portfolio ihren Bachelor ab. Mit diesem weisen die angehenden Lehrkräfte entsprechend dem TPACK-Modell von Mishra und Köhler (2006) ihre fachwissenschaftliche\, fachdidaktische und technologische Kompetenz aus. Wie dies im Detail aussieht und welche Vor- bzw. Nachteile sich im Vergleich zum herkömmlichen Bachelorabschluss ergeben können\, stellen wir in diesem Beitrag vor.  \nRalph Kugler ist Co-Leiter am Institut für ICT & Medien an der PH St. Gallen\, Dozent für Medienpädagogik und Mediendidaktik\, Fachgruppenleiter Medien und Informatik Sek. I\, Verantwortlicher für Innovationsprojekte im Bereich E-Learning\, z.B. ClassUnlimited 2.0 \nJosef Buchner ist Wissenschaftlicher Mitarbeiter und Dozent für Medienbildung an der PH St. Gallen. Er forscht und lehrt in den Bereichen Medienpädagogik/Mediendidaktik und ist Doktorand an der School of Education (Universität Salzburg).   \nDiese eLecture ist für Sie geeignet\, wenn Sie \n•	mehr über ein gänzlich anderes Studienabschlussverfahren wissen wollen. \n•	am Mehrwert von E-Portfolios in der Lehrer/-innenbildung interessiert sind. \n•	mit uns über die Vor- und Nachteile der präsentierten Umsetzung diskutieren möchten.  \nCoModeration: Walter Fikisz \n\n			\n				\n			\n			Teilnahmekriterien & Info\n		 \n		\n			Lernziele\n		 \n		\n			Voraussetzungen\n		\n		 \n		\n			\n				\n					\n			Technische Voraussetzungen: Grundlegende Computerkenntnisse\, gute Internetverbindung; optional: Headset. \nSo treten Sie der eLecture im virtuellen Lernraum bei:  \n1. Rufen Sie 10 min vor Terminstart folgende Seite auf:  \nvph.adobeconnect.com/digiph4/ \n2. Geben Sie bitte Ihren Vor- und Nachnamen ein und „Betreten Sie den Raum“ mit Klick auf den Button. \n3. Folgen Sie den Anweisungen auf dem Bildschirm. Sie werden in Kürze eingelassen. \nWenn Sie noch an keiner eLecture teilgenommen haben\, finden Sie alle Infos zum Einstieg unter: www.virtuelle-ph.at/electures/#einstieg \nDie Teilnahme an allen eLectures der Virtuellen PH ist für österreichische Lehrkräfte und Studierende eines Lehramts kostenlos.\n		 \n		\n			Die Teilnehmer/-innen kennen Möglichkeiten\, wie E-Portfolios Kompetenzen nach TPACK fördern können….lernen\, welche Vor- und Nachteile ein E-Portfolio als Studienabschlussverfahren mit sich bringt.
URL:https://www.virtuelle-ph.at/veranstaltung/digiph2-electure-das-e-portfolio-als-bachelorabschluss/
CATEGORIES:eLecture,Online-Tagung digiPH2 EL,Panel Panel 2
END:VEVENT
END:VCALENDAR