BEGIN:VCALENDAR
VERSION:2.0
PRODID:-//Virtuelle PH - ECPv6.6.4.2//NONSGML v1.0//EN
CALSCALE:GREGORIAN
METHOD:PUBLISH
X-WR-CALNAME:Virtuelle PH
X-ORIGINAL-URL:https://www.virtuelle-ph.at
X-WR-CALDESC:Veranstaltungen für Virtuelle PH
REFRESH-INTERVAL;VALUE=DURATION:PT1H
X-Robots-Tag:noindex
X-PUBLISHED-TTL:PT1H
BEGIN:VTIMEZONE
TZID:Europe/Berlin
BEGIN:DAYLIGHT
TZOFFSETFROM:+0100
TZOFFSETTO:+0200
TZNAME:CEST
DTSTART:20160327T010000
END:DAYLIGHT
BEGIN:STANDARD
TZOFFSETFROM:+0200
TZOFFSETTO:+0100
TZNAME:CET
DTSTART:20161030T010000
END:STANDARD
END:VTIMEZONE
BEGIN:VEVENT
DTSTART;TZID=Europe/Berlin:20160127T173000
DTEND;TZID=Europe/Berlin:20160127T183000
DTSTAMP:20260426T053514
CREATED:20160419T102411Z
LAST-MODIFIED:20160419T102411Z
UID:10002233-1453915800-1453919400@www.virtuelle-ph.at
SUMMARY:eLecture: Teamteaching mit LMS.at
DESCRIPTION:Im Schulalltag ergeben sich häufig Situationen\, in denen Lehrer/innen gemeinsam eine Klasse unterrichten. Das aktuellste Beispiel dafür ist die Neue Mittelschule (NMS). Diese eLecture zeigt\, wie mit Hilfe der Lernplattform LMS.at – Lernen Mit System Teamteaching in der Klasse unterstützt wird. Dabei unterstützt LMS.at die kooperierenden Lehrer/innen vor allem in den Bereichen: Klassenführung (Kursanlage\, Kursadministration)\, Unterrichtssteuerung (Aufgabenmodul)\, Beurteilung (Notenbuch) und Nutzung von Lernmaterialien (Bibliothek bzw. eBuch) \n\n			\n				\n			\n			Teilnahmekriterien & Info\n		 \n		\n			Lernziele\n		 \n		\n			Voraussetzungen\n		\n		 \n		\n			\n				\n					\n			Technische Voraussetzungen: Grundlegende Computerkenntnisse\, gute Internetverbindung\, empfehlenswert: Headset. \nBitte finden Sie sich etwa 10 Minuten vor Start der eLecture im virtuellen Seminarraum unter diesem Link ein:virtuelle-ph.adobeconnect.com/electures_helfrich/ \nWichtige Hinweise zum Besuch einer eLecture unter: www.virtuelle-ph.at/electures-info \nÜber diesen Link können Sie testen\, ob Ihr Computer optimal für den eLectures-Besuch vorbereitet ist\, und vorgeschlagene Aktualisierungen vornehmen: admin.adobeconnect.com/common/help/de/support/meeting_test.htm \nWenn Sie ein Headset besitzen\, stecken Sie es bitte an bevor Sie den Adobe Connect-Raum betreten. \nDie Teilnahme an allen eLectures der Virtuellen PH ist für österreichische Lehrkräfte und Studierende eines Lehramts kostenlos.\n		 \n		\n			Effektives Teamteaching zwischen Lehrer/innen auf LMS.at.
URL:https://www.virtuelle-ph.at/veranstaltung/electure-teamteaching-mit-lms-at/
CATEGORIES:eLecture
END:VEVENT
END:VCALENDAR