BEGIN:VCALENDAR
VERSION:2.0
PRODID:-//Virtuelle PH - ECPv6.6.4.2//NONSGML v1.0//EN
CALSCALE:GREGORIAN
METHOD:PUBLISH
X-WR-CALNAME:Virtuelle PH
X-ORIGINAL-URL:https://www.virtuelle-ph.at
X-WR-CALDESC:Veranstaltungen für Virtuelle PH
REFRESH-INTERVAL;VALUE=DURATION:PT1H
X-Robots-Tag:noindex
X-PUBLISHED-TTL:PT1H
BEGIN:VTIMEZONE
TZID:Europe/Berlin
BEGIN:DAYLIGHT
TZOFFSETFROM:+0100
TZOFFSETTO:+0200
TZNAME:CEST
DTSTART:20180325T010000
END:DAYLIGHT
BEGIN:STANDARD
TZOFFSETFROM:+0200
TZOFFSETTO:+0100
TZNAME:CET
DTSTART:20181028T010000
END:STANDARD
BEGIN:DAYLIGHT
TZOFFSETFROM:+0100
TZOFFSETTO:+0200
TZNAME:CEST
DTSTART:20190331T010000
END:DAYLIGHT
BEGIN:STANDARD
TZOFFSETFROM:+0200
TZOFFSETTO:+0100
TZNAME:CET
DTSTART:20191027T010000
END:STANDARD
END:VTIMEZONE
BEGIN:VEVENT
DTSTART;TZID=Europe/Berlin:20190403T180000
DTEND;TZID=Europe/Berlin:20190403T183000
DTSTAMP:20260419T232610
CREATED:20190211T100638Z
LAST-MODIFIED:20190404T061953Z
UID:10003100-1554314400-1554316200@www.virtuelle-ph.at
SUMMARY:digiPH2 eLecture: Die Wunden der Erde – Ökologische Überlegungen zu Prozessen einer tiefgreifenden Mediatisierung
DESCRIPTION:zur Aufzeichnung\n\n\n						Aktuell gehen gesellschaftliche Entwicklungen hin zu einem Mehr an und einer Ubiquität von digitalen Medien. Bildlich gesprochen: Digitale Medien sind zu einem festen Bestandteil unseres Alltags geworden; sie haben sich tief in unsere Handlungsroutinen eingeschrieben. Auch die Mediatisierung und Digitalisierung gräbt sich – sprichwörtlich – tief in die Erdoberfläche ein. Der Abbau von Edelmetallen und Rohstoffen für die Herstellung digitaler Technologie verändert ebenso die Erdoberfläche\, wie die großen Produktionshallen großer IT-Firmen und die noch größeren Elektroschrott-Deponien.  \nDiese Entwicklung wirft neben medienphilosophischen Fragen wie jener nach umfassenden Auswirkungen der Mediatisierung und Digitalisierung insbesondere auch bildungstheoretische Fragen auf: Die Welt\, wie wir sie bisher kennengelernt haben\, ist dabei sich fundamental zu ändern. Erfahrungen dieser Welt sind von einem Mehr an Kontingenzen und einer Notwendigkeit an Flexibilität geprägt. Prozesse der Selbst-Gewahrwerdung stellen sich im Kontext einer teilweisen digitalen Lebenswelt anders dar als bisher. Insofern ergeben sich aus einer tiefgreifend gedachten Mediatisierung und Digitalisierung Implikationen für individuelle Bildungsprozesse ebenso wie für Kontexte institutioneller Bildung (bspw. umfassende Digitalisierungsstrategien und Fragen der Nachhaltigkeit). –  \nDer Vortrag skizziert diesen umfassenden Bogen\, um im Anschluss einige diskussionswürdige Implikationen näher zu beschreiben und zum Diskurs einzuladen. \nCoModeration: Daniel Handle-Pfeiffer \n\n			\n				\n			\n			Teilnahmekriterien & Info\n		 \n		\n			Lernziele\n		 \n		\n			Voraussetzungen\n		\n		 \n		\n			\n				\n					\n			Technische Voraussetzungen: Grundlegende Computerkenntnisse\, gute Internetverbindung; optional: Headset. \nSo treten Sie der eLecture im virtuellen Lernraum bei:  \n1. Rufen Sie 10 min vor Terminstart folgende Seite auf:  \nvph.adobeconnect.com/digiph3/ \n2. Geben Sie bitte Ihren Vor- und Nachnamen ein und „Betreten Sie den Raum“ mit Klick auf den Button. \n3. Folgen Sie den Anweisungen auf dem Bildschirm. Sie werden in Kürze eingelassen. \nWenn Sie noch an keiner eLecture teilgenommen haben\, finden Sie alle Infos zum Einstieg unter: www.virtuelle-ph.at/electures/#einstieg \nDie Teilnahme an allen eLectures der Virtuellen PH ist für österreichische Lehrkräfte und Studierende eines Lehramts kostenlos.\n		 \n		\n			Sensibilisierung für ökologische Fragen der Digitalisierung\, reflektiertes Medienhandeln
URL:https://www.virtuelle-ph.at/veranstaltung/digiph2-electure-die-wunden-der-erde-oekologische-ueberlegungen-zu-prozessen-einer-tiefgreifenden-mediatisierung/
CATEGORIES:eLecture,Online-Tagung digiPH2 EL
END:VEVENT
BEGIN:VEVENT
DTSTART;TZID=Europe/Berlin:20180425T200000
DTEND;TZID=Europe/Berlin:20180425T210000
DTSTAMP:20260419T232610
CREATED:20180306T033805Z
LAST-MODIFIED:20180426T064226Z
UID:10002832-1524686400-1524690000@www.virtuelle-ph.at
SUMMARY:#digiPH eLecture: Watch! Think! Pair! Share! – Förderung reflexiver Praxis in der LehrerInnenbildung durch Video- und E-Portfolioarbeit
DESCRIPTION:zur Aufzeichnung \n\n\n						Bildung ist in vielen europäischen Ländern nach wie vor an einem bildungspolitisch und kulturell geprägten Wissenskanon ausgerichtet und in dessen Umsetzung curricular orientiert. Die in den letzten Jahren propagierte individuelle Förderung von Lernenden im Rahmen kompetenzorientierter Bildung bleibt oft Wunschdenken. Ein Grund dafür besteht darin\, dass Bildungseinrichtungen und Lehrende nach wie vor keine ausreichende Vorstellung von dem haben\, was Lernende in einer bestimmten Ausbildungsphase individuell zu leisten vermögen\, worin die in einem angezielten Handlungsfeld (Studium oder Berufsfeld) benötigten Kompetenzen bestehen bzw. wie die Personen\, die in dieses Handlungsfeld eintreten\, mit diesen Anforderungen situativ umgehen. \nDiese eLecture widmet sich dem Erasmus+ Projekt PREPARE – Promoting reflective practice in the training of teachers using e-Portfolios (2016-2018)\, im Rahmen dessen ein europäisches Konsortium an einer innovative Lösung für das benannte Problem fehlender Informationen zum Erkennen von Anleitungs-\, Begleitungs- und Förderbedarfen in der Ausbildung arbeitet. Die „klassische“ Videoarbeit wird dabei um ein soziales Moment erweitert (Social Video Learning durch eine onlinebasierte Anreicherung von Videomaterial) und mit E-Portfolioarbeit verknüpft. Lehrenden und Studierenden steht dafür eine Video- und Web-2.0-gestützte Lehr- und Lernumgebung (PrepareCampus) zur Verfügung\, die Reflexionskompetenz und Lehrkompetenz sowie Wissens- und Praxiserfahrungsaustausch auf der Basis von Videoanalyse fördert. \nReinhard Bauer ist Hochschulprofessor für Unterrichtswissenschaften (Schwerpunkt: Didaktisches Design) und Bereichskoordinator für Forschung und Entwicklung am Institut für übergreifende Bildungsschwerpunkte der Pädagogischen Hochschule Wien. Seine Arbeitsschwerpunkte sind Didaktische Entwurfsmuster\, E-Portfolio\, E-Education\, E-Learning\, Hochschuldidaktik\, Fremdsprachendidaktik und Allgemeine Didaktik. \nIn der eLecture sollen der PrepareCampus und das damit verbundene hochschuldidaktische Konzept zur Förderung reflexiver Praxis mithilfe von Video- und E-Portfolioarbeit vorgestellt und diskutiert werden. \nCoModeration: Daniel Pfeiffer \n\n			\n				\n			\n			Teilnahmekriterien & Info\n		 \n		\n			Lernziele\n		 \n		\n			Voraussetzungen\n		\n		 \n		\n			\n				\n					\n			Technische Voraussetzungen: Grundlegende Computerkenntnisse\, gute Internetverbindung; optional: Headset.  \nSo treten Sie der eLecture im virtuellen Lernraum bei:  \n1. Rufen Sie 10 min vor Terminstart folgende Seite auf:  \nvph.adobeconnect.com/digiph3/ \n2. Geben Sie bitte Ihren Vor- und Nachnamen ein und „Betreten Sie den Raum“ mit Klick auf den Button. \n3. Folgen Sie den Anweisungen auf dem Bildschirm. Sie werden in Kürze eingelassen. \nWenn Sie noch an keiner eLecture teilgenommen haben\, finden Sie alle Infos zum Einstieg unter: www.virtuelle-ph.at/electures/#einstieg \nDie Teilnahme an allen eLectures der Virtuellen PH ist für österreichische Lehrkräfte und Studierende eines Lehramts kostenlos.\n		 \n		\n			Es geht vor allem um…\n# das Kennenlernen des PREPARE-Ansatzes zur Förderung reflexiver Praxis in der LehrerInnenbildung\,\n# das Kennenlernen des PrepareCampus (edubreak® plus Mahara)\,\n# das Kennenlernen des Aufgabendesigns für Video- und E-Portfolioarbeit\,\n# die Diskussion darüber\, ob und inwiefern der PREPARE-Ansatz einen bildungspolitischer Impuls für die verbindliche Anleitung und Förderung zur Reflexion und zur selbstregulierten Wissensaneignung als Bestandteile einer robusten Selbstkompetenz und eines lebenslangen Professionalisierungsprozesses initiiert\,\n# die Diskussion des Transferpotenzials auf andere Anwendungsbereiche im Rahmen hochschulischer Lehre.
URL:https://www.virtuelle-ph.at/veranstaltung/digiph-electure-watch-think-pair-share-foerderung-reflexiver-praxis-in-der-lehrerinnenbildung-durch-video-und-e-portfolioarbeit/
CATEGORIES:eLecture,Online-Tagung digiPH EL
END:VEVENT
END:VCALENDAR