BEGIN:VCALENDAR
VERSION:2.0
PRODID:-//Virtuelle PH - ECPv6.6.4.2//NONSGML v1.0//EN
CALSCALE:GREGORIAN
METHOD:PUBLISH
X-ORIGINAL-URL:https://www.virtuelle-ph.at
X-WR-CALDESC:Veranstaltungen für Virtuelle PH
REFRESH-INTERVAL;VALUE=DURATION:PT1H
X-Robots-Tag:noindex
X-PUBLISHED-TTL:PT1H
BEGIN:VTIMEZONE
TZID:Europe/Berlin
BEGIN:DAYLIGHT
TZOFFSETFROM:+0100
TZOFFSETTO:+0200
TZNAME:CEST
DTSTART:20180325T010000
END:DAYLIGHT
BEGIN:STANDARD
TZOFFSETFROM:+0200
TZOFFSETTO:+0100
TZNAME:CET
DTSTART:20181028T010000
END:STANDARD
BEGIN:DAYLIGHT
TZOFFSETFROM:+0100
TZOFFSETTO:+0200
TZNAME:CEST
DTSTART:20190331T010000
END:DAYLIGHT
BEGIN:STANDARD
TZOFFSETFROM:+0200
TZOFFSETTO:+0100
TZNAME:CET
DTSTART:20191027T010000
END:STANDARD
END:VTIMEZONE
BEGIN:VEVENT
DTSTART;TZID=Europe/Berlin:20190128T180000
DTEND;TZID=Europe/Berlin:20190128T190000
DTSTAMP:20260420T190056
CREATED:20190109T095958Z
LAST-MODIFIED:20190129T075627Z
UID:10003075-1548698400-1548702000@www.virtuelle-ph.at
SUMMARY:eLecture: Kurzvideos mit Wow-Effekt: PowToon und Explain Everything für die Lehre
DESCRIPTION:zur Aufzeichnung\n\n\n						Videos in der Lehre können heute keineswegs mehr als außergewöhnlich innovativ angesehen werden\, sondern vielmehr als selbstverständliches Werkzeug zum Vermitteln oder Illustrieren von Lern- und Lehrinhalten. Folglich ist mit den Jahren auch der Anspruch an die Qualität und Kreativität der Videos gestiegen und daher sollen Sie als TeilnehmerIn in diesem Kurs zwei leicht zu erlerndende Werkzeuge zum Erstellen von (Kurz)Videos kennenlernen\, mit denen Sie bei ihren ZuhörerInnen gewiss für einen Wow-Effekt sorgen können. \nRoland Radlinger arbeitet seit 2009 an der Universität Graz. Als Experte für Mulitimediaproduktion vermittelt er das nötige Know-How in Lehrveranstaltungen und Workshops und produziert im universitären Bereich zahlreiche (Lehr)Videos für diverse Abteilungen und Institute sowie in Kooperation mit externen Organisationen. \nAblauf dieser eLecture: \n\nHow NOT to (Videos zum Vorspulen)\n\nWow-Effekte mit Powtoon und Explain Everything\nVorstellung ihrer „Waffen“ für den Wow-Effekt\, Powtoon und Explain Everything\n\n\nDiese eLecture ist für Sie geeignet\, wenn \n\nSie in  Ihren Vorlesungen\, Präsentationen und/ oder Lernunterlagen einen abwechslungsreichen Medienmix anbieten wollen\nSie als DIE Person in Erinnerung bleiben wollen\, von der die Leute sagen: „Die/ der hatte ja diese coolen Kurzvideos gezeigt!“\n\n\nCoModeration: Elke Höfler \n\n			\n				\n			\n			Teilnahmekriterien & Info\n		 \n		\n			Lernziele\n		 \n		\n			Voraussetzungen\n		\n		 \n		\n			\n				\n					\n			Technische Voraussetzungen: Grundlegende Computerkenntnisse\, gute Internetverbindung; optional: Headset. \nSo treten Sie der eLecture im virtuellen Lernraum bei:  \n1. Rufen Sie 10 min vor Terminstart folgende Seite auf:  \nvph.adobeconnect.com/eins/ \n2. Geben Sie bitte Ihren Vor- und Nachnamen ein und „Betreten Sie den Raum“ mit Klick auf den Button. \n3. Folgen Sie den Anweisungen auf dem Bildschirm. Sie werden in Kürze eingelassen. \nWenn Sie noch an keiner eLecture teilgenommen haben\, finden Sie alle Infos zum Einstieg unter: www.virtuelle-ph.at/electures/#einstieg \nDie Teilnahme an allen eLectures der Virtuellen PH ist für österreichische Lehrkräfte und Studierende eines Lehramts kostenlos.\n		 \n		\n			\nEinsatzmöglichkeiten für Kurzvideos\naus Lerninhalt Ideen für Video ableiten\nStoryboard für (Kurz)Video erstellen\ndas richtige Werkzeug auswählen: Powtoon oder Explain Everything\nExportieren und speichern als internetfähiges Videoformat
URL:https://www.virtuelle-ph.at/veranstaltung/electure-kurzvideos-mit-wow-effekt-powtoon-und-explain-everything-fuer-die-lehre-2/
CATEGORIES:eLecture
END:VEVENT
BEGIN:VEVENT
DTSTART;TZID=Europe/Berlin:20181203T190000
DTEND;TZID=Europe/Berlin:20181203T200000
DTSTAMP:20260420T190056
CREATED:20180926T090933Z
LAST-MODIFIED:20181203T083829Z
UID:10002997-1543863600-1543867200@www.virtuelle-ph.at
SUMMARY:LEIDER ABGESAGT: eLecture: Kurzvideos mit Wow-Effekt: PowToon und Explain Everything für die Lehre
DESCRIPTION:Zur Anmeldung \n\n						Zum virtuellen Lernraum\n						\n\n						Videos in der Lehre können heute keineswegs mehr als außergewöhnlich innovativ angesehen werden\, sondern vielmehr als selbstverständliches Werkzeug zum Vermitteln oder Illustrieren von Lern- und Lehrinhalten. Folglich ist mit den Jahren auch der Anspruch an die Qualität und Kreativität der Videos gestiegen und daher sollen Sie als TeilnehmerIn in diesem Kurs zwei leicht zu erlerndende Werkzeuge zum Erstellen von (Kurz)Videos kennenlernen\, mit denen Sie bei ihren ZuhörerInnen gewiss für einen Wow-Effekt sorgen können. \nRoland Radlinger arbeitet seit 2009 an der Universität Graz. Als Experte für Mulitimediaproduktion vermittelt er das nötige Know-How in Lehrveranstaltungen und Workshops und produziert im universitären Bereich zahlreiche (Lehr)Videos für diverse Abteilungen und Institute sowie in Kooperation mit externen Organisationen. \nAblauf dieser eLecture: \n\nHow NOT to (Videos zum Vorspulen)\n\nWow-Effekte mit Powtoon und Explain Everything\nVorstellung ihrer „Waffen“ für den Wow-Effekt\, Powtoon und Explain Everything\n\n\nDiese eLecture ist für Sie geeignet\, wenn \n\nSie in  Ihren Vorlesungen\, Präsentationen und/ oder Lernunterlagen einen abwechslungsreichen Medienmix anbieten wollen\nSie als DIE Person in Erinnerung bleiben wollen\, von der die Leute sagen: „Die/ der hatte ja diese coolen Kurzvideos gezeigt!“\n\n\nCoModeration: Elke Höfler \n\n			\n				\n			\n			Teilnahmekriterien & Info\n		 \n		\n			Lernziele\n		 \n		\n			Voraussetzungen\n		\n		 \n		\n			\n				\n					\n			Technische Voraussetzungen: Grundlegende Computerkenntnisse\, gute Internetverbindung; optional: Headset. \nSo treten Sie der eLecture im virtuellen Lernraum bei:  \n1. Rufen Sie 10 min vor Terminstart folgende Seite auf:  \nvph.adobeconnect.com/eins/ \n2. Geben Sie bitte Ihren Vor- und Nachnamen ein und „Betreten Sie den Raum“ mit Klick auf den Button. \n3. Folgen Sie den Anweisungen auf dem Bildschirm. Sie werden in Kürze eingelassen. \nWenn Sie noch an keiner eLecture teilgenommen haben\, finden Sie alle Infos zum Einstieg unter: www.virtuelle-ph.at/electures/#einstieg \nDie Teilnahme an allen eLectures der Virtuellen PH ist für österreichische Lehrkräfte und Studierende eines Lehramts kostenlos.\n		 \n		\n			\nEinsatzmöglichkeiten für Kurzvideos\naus Lerninhalt Ideen für Video ableiten\nStoryboard für (Kurz)Video erstellen\ndas richtige Werkzeug auswählen: Powtoon oder Explain Everything\nExportieren und speichern als internetfähiges Videoformat
URL:https://www.virtuelle-ph.at/veranstaltung/electure-kurzvideos-mit-wow-effekt-powtoon-und-explain-everything-fuer-die-lehre/
CATEGORIES:eLecture
END:VEVENT
END:VCALENDAR