BEGIN:VCALENDAR
VERSION:2.0
PRODID:-//Virtuelle PH - ECPv6.6.4.2//NONSGML v1.0//EN
CALSCALE:GREGORIAN
METHOD:PUBLISH
X-WR-CALNAME:Virtuelle PH
X-ORIGINAL-URL:https://www.virtuelle-ph.at
X-WR-CALDESC:Veranstaltungen für Virtuelle PH
REFRESH-INTERVAL;VALUE=DURATION:PT1H
X-Robots-Tag:noindex
X-PUBLISHED-TTL:PT1H
BEGIN:VTIMEZONE
TZID:Europe/Berlin
BEGIN:DAYLIGHT
TZOFFSETFROM:+0100
TZOFFSETTO:+0200
TZNAME:CEST
DTSTART:20160327T010000
END:DAYLIGHT
BEGIN:STANDARD
TZOFFSETFROM:+0200
TZOFFSETTO:+0100
TZNAME:CET
DTSTART:20161030T010000
END:STANDARD
BEGIN:DAYLIGHT
TZOFFSETFROM:+0100
TZOFFSETTO:+0200
TZNAME:CEST
DTSTART:20170326T010000
END:DAYLIGHT
BEGIN:STANDARD
TZOFFSETFROM:+0200
TZOFFSETTO:+0100
TZNAME:CET
DTSTART:20171029T010000
END:STANDARD
END:VTIMEZONE
BEGIN:VEVENT
DTSTART;VALUE=DATE:20171120
DTEND;VALUE=DATE:20171211
DTSTAMP:20260420T182951
CREATED:20171117T033021Z
LAST-MODIFIED:20171119T033038Z
UID:10002725-1511136000-1512950399@www.virtuelle-ph.at
SUMMARY:Volksschule 2.0. - Digitale Medien für den Unterricht
DESCRIPTION:Zur Anmeldung\n						\n\n						Dieses völlig neu überarbeitete 3-wöchige Online-Seminar wird zeigen: egal in welchem Fach – digitale Medien können den Unterricht in der Volksschule sowohl bereichern als auch erleichtern! Von der Vermittlung digitaler Kompetenzen bis zur kritischen Auseinandersetzung mit dem Thema. Von der Unterrichtsvorbereitung über Safer Internet bis hin zu einfachen Anwendungen für die Arbeit mit den Kindern! Apps und Mobiles Lernen werden ebenso thematisiert wie die Elternarbeit über digitale Medien.\nIn einer Gruppe von maximal 12 Teilnehmerinnen und Teilnehmern lernen Sie über einen Zeitraum von drei Wochen unter Anleitung und Moderation erfahrener Trainer/innen diese Möglichkeiten kennen. Dabei werden weder didaktische Grundlagen noch der praktische Austausch mit Gleichgesinnten zu kurz kommen. \nwww.virtuelle-ph.at/online-seminare \n\n			\n				\n			\n			Teilnahmekriterien & Info\n		 \n		\n			Lernziele\n		 \n		\n			Voraussetzungen\n		\n		 \n		\n			\n				\n					\n			Anmerkung: Die Teilnahme an allen im Rahmen des Online-Programms angebotenen Online-Seminaren der Virtuellen PH ist für österreichische Lehrkräfte und Studierende eines Lehramts kostenlos. Die Seminarplätze werden nach dem Prinzip first come\, first served – also chronologisch nach dem Zeitpunkt Ihrer Seminarbuchung über PH-Online – vergeben. Bis Mittwoch vor Beginn des jeweiligen Online-Seminars können Sie über PH-Online Ihr gebuchtes Online-Seminar selber kostenlos stornieren. Für ein allfälliges Storno zu einem späteren Zeitpunkt wenden Sie sich bitte an: info@virtuelle-ph.at\n		 \n		\n			# Einsatzmöglichkeiten von digitalen Medien für die Vorbereitung\, den Unterricht und die Elternarbeit kennenlernen und kritisch evaluieren;\n# Digitales Kompetenzmodell von VS-Kindern und Safer Internet kennenlernen;\n		 \n		\n			Grundlegende Computer- und Internet-Kenntnisse. Jede/r Teilnehmer/in mit aktueller E-Mail Adresse und Interesse am Thema ist willkommen!​
URL:https://www.virtuelle-ph.at/veranstaltung/volksschule-2-0-digitale-medien-fuer-den-unterricht-4/
CATEGORIES:Online-Programm HerbstWinterprogramm,Online-Seminar
END:VEVENT
BEGIN:VEVENT
DTSTART;VALUE=DATE:20171120
DTEND;VALUE=DATE:20171211
DTSTAMP:20260420T182951
CREATED:20170929T112604Z
LAST-MODIFIED:20171119T033455Z
UID:10002660-1511136000-1512950399@www.virtuelle-ph.at
SUMMARY:Volksschule 2.0. - Digitale Medien für den Unterricht
DESCRIPTION:Zur Anmeldung\n						\n\n						Dieses völlig neu überarbeitete 3-wöchige Online-Seminar wird zeigen: egal in welchem Fach – digitale Medien können den Unterricht in der Volksschule sowohl bereichern als auch erleichtern! Von der Vermittlung digitaler Kompetenzen bis zur kritischen Auseinandersetzung mit dem Thema. Von der Unterrichtsvorbereitung über Safer Internet bis hin zu einfachen Anwendungen für die Arbeit mit den Kindern! Apps und Mobiles Lernen werden ebenso thematisiert wie die Elternarbeit über digitale Medien.\nIn einer Gruppe von maximal 12 Teilnehmerinnen und Teilnehmern lernen Sie über einen Zeitraum von drei Wochen unter Anleitung und Moderation erfahrener Trainer/innen diese Möglichkeiten kennen. Dabei werden weder didaktische Grundlagen noch der praktische Austausch mit Gleichgesinnten zu kurz kommen. \nwww.virtuelle-ph.at/online-seminare \n\n			\n				\n			\n			Teilnahmekriterien & Info\n		 \n		\n			Lernziele\n		 \n		\n			Voraussetzungen\n		\n		 \n		\n			\n				\n					\n			Anmerkung: Die Teilnahme an allen im Rahmen des Online-Programms angebotenen Online-Seminaren der Virtuellen PH ist für österreichische Lehrkräfte und Studierende eines Lehramts kostenlos. Die Seminarplätze werden nach dem Prinzip first come\, first served – also chronologisch nach dem Zeitpunkt Ihrer Seminarbuchung über PH-Online – vergeben. Bis Mittwoch vor Beginn des jeweiligen Online-Seminars können Sie über PH-Online Ihr gebuchtes Online-Seminar selber kostenlos stornieren. Für ein allfälliges Storno zu einem späteren Zeitpunkt wenden Sie sich bitte an: info@virtuelle-ph.at\n		 \n		\n			# Einsatzmöglichkeiten von digitalen Medien für die Vorbereitung\, den Unterricht und die Elternarbeit kennenlernen und kritisch evaluieren;\n# Digitales Kompetenzmodell von VS-Kindern und Safer Internet kennenlernen;\n		 \n		\n			Grundlegende Computer- und Internet-Kenntnisse. Jede/r Teilnehmer/in mit aktueller E-Mail Adresse und Interesse am Thema ist willkommen!​
URL:https://www.virtuelle-ph.at/veranstaltung/volksschule-2-0-digitale-medien-fuer-den-unterricht-3/
CATEGORIES:Online-Programm HerbstWinterprogramm,Online-Seminar
END:VEVENT
BEGIN:VEVENT
DTSTART;VALUE=DATE:20170501
DTEND;VALUE=DATE:20170522
DTSTAMP:20260420T182951
CREATED:20170227T152652Z
LAST-MODIFIED:20170430T033314Z
UID:10002465-1493596800-1495411199@www.virtuelle-ph.at
SUMMARY:Volksschule 2.0.  – Digitale Medien für den Unterricht
DESCRIPTION:Dieses völlig neu überarbeitete 3-wöchige Online-Seminar wird zeigen: egal in welchem Fach – digitale Medien können den Unterricht in der Volksschule sowohl bereichern als auch erleichtern! Von der Vermittlung digitaler Kompetenzen bis zur kritischen Auseinandersetzung mit dem Thema. Von der Unterrichtsvorbereitung über Safer Internet bis hin zu einfachen Anwendungen für die Arbeit mit den Kindern! Apps und Mobiles Lernen werden ebenso thematisiert wie die Elternarbeit über digitale Medien.\nIn einer Gruppe von maximal 12 Teilnehmerinnen und Teilnehmern lernen Sie über einen Zeitraum von drei Wochen unter Anleitung und Moderation erfahrener Trainer/innen diese Möglichkeiten kennen. Dabei werden weder didaktische Grundlagen noch der praktische Austausch mit Gleichgesinnten zu kurz kommen. \nwww.virtuelle-ph.at/online-seminare \n\n			\n				\n			\n			Teilnahmekriterien & Info\n		 \n		\n			Lernziele\n		 \n		\n			Voraussetzungen\n		\n		 \n		\n			\n				\n					\n			Die Teilnahme an allen im Rahmen des Onlineprogramms angebotenen Online-Seminaren der Virtuellen PH ist für österreichische Lehrkräfte und Studierende eines Lehramts kostenlos. Die Seminarplätze werden nach dem Prinzip first come\, first served – also chronologisch nach dem Zeitpunkt Ihrer Seminarbuchung über PH-Online – vergeben. Bis Mittwoch vor Beginn des jeweiligen Online-Seminars können Sie über PH-Online Ihr gebuchtes Online-Seminar selber kostenlos stornieren. Für ein allfälliges Storno zu einem späteren Zeitpunkt wenden Sie sich bitte an: info@virtuelle-ph.at\n		 \n		\n			# Einsatzmöglichkeiten von digitalen Medien für die Vorbereitung\, den Unterricht und die Elternarbeit kennenlernen und kritisch evaluieren;\n# Digitales Kompetenzmodell von VS-Kindern und Safer Internet kennenlernen;\n		 \n		\n			Grundlegende Computer- und Internet-Kenntnisse. Jede/r Teilnehmer/in mit aktueller E-Mail Adresse und Interesse am Thema ist willkommen!​
URL:https://www.virtuelle-ph.at/veranstaltung/volksschule-2-0-digitale-medien-fuer-den-unterricht-2/
CATEGORIES:Online-Programm Frühjahrsprogramm,Online-Seminar
END:VEVENT
BEGIN:VEVENT
DTSTART;TZID=Europe/Berlin:20160126T190000
DTEND;TZID=Europe/Berlin:20160126T200000
DTSTAMP:20260420T182951
CREATED:20160419T102433Z
LAST-MODIFIED:20160419T102433Z
UID:10002268-1453834800-1453838400@www.virtuelle-ph.at
SUMMARY:eLecture: Klassenpinnwand – ein wertvolles Tool für die Volksschule
DESCRIPTION:Die Klassenpinnwand ist ein Tool\, das von der Education Group speziell für die Volksschule entwickelt wurde\, aber selbstverständlich auch darüber hinaus eingesetzt werden kann. Die Klassenpinnwand ist eine perfekte Ergänzung für internetgestützten Unterricht und ist sehr einfach zu organisieren und zu befüllen. Welchen Mehrwert sie für Ihren Unterricht bringen kann und welche Einsatzmöglichkeiten denkbar sind erfahren Sie in dieser eLecture. \n\n			\n				\n			\n			Teilnahmekriterien & Info\n		 \n		\n			Lernziele\n		 \n		\n			Voraussetzungen\n		\n		 \n		\n			\n				\n					\n			Technische Voraussetzungen: Grundlegende Computerkenntnisse\, gute Internetverbindung\, empfehlenswert: Headset. \nBitte finden Sie sich etwa 10 Minuten vor Start der eLecture im virtuellen Seminarraum unter diesem Link ein: virtuelle-ph.adobeconnect.com/electures_apfler/ \nWichtige Hinweise zum Besuch einer eLecture unter: www.virtuelle-ph.at/electures-info \nÜber diesen Link können Sie testen\, ob Ihr Computer optimal für den eLectures-Besuch vorbereitet ist\, und vorgeschlagene Aktualisierungen vornehmen: admin.adobeconnect.com/common/help/de/support/meeting_test.htm \nWenn Sie ein Headset besitzen\, stecken Sie es bitte an bevor Sie den Adobe Connect-Raum betreten. \nDie Teilnahme an allen eLectures der Virtuellen PH ist für österreichische Lehrkräfte und Studierende eines Lehramts kostenlos.\n		 \n		\n			– Die TeilnehmerInnen lernen die Klassenpinnwand kennen.\n– Die TeilnehmerInnen sehen\, wie die einzelnen Bereiche füllen können.\n– Die TeilnehmerInnen erfahren\, wie sie Videos\, Learning Apps usw. einbinden können.\n– Die TeilnehmerInnen diskutieren über Einsatzmögklichkeiten der Klassenpinnwand.
URL:https://www.virtuelle-ph.at/veranstaltung/electure-klassenpinnwand-ein-wertvolles-tool-fuer-die-volksschule/
CATEGORIES:eLecture
END:VEVENT
END:VCALENDAR