BEGIN:VCALENDAR
VERSION:2.0
PRODID:-//Virtuelle PH - ECPv6.6.4.2//NONSGML v1.0//EN
CALSCALE:GREGORIAN
METHOD:PUBLISH
X-ORIGINAL-URL:https://www.virtuelle-ph.at
X-WR-CALDESC:Veranstaltungen für Virtuelle PH
REFRESH-INTERVAL;VALUE=DURATION:PT1H
X-Robots-Tag:noindex
X-PUBLISHED-TTL:PT1H
BEGIN:VTIMEZONE
TZID:Europe/Berlin
BEGIN:DAYLIGHT
TZOFFSETFROM:+0100
TZOFFSETTO:+0200
TZNAME:CEST
DTSTART:20170326T010000
END:DAYLIGHT
BEGIN:STANDARD
TZOFFSETFROM:+0200
TZOFFSETTO:+0100
TZNAME:CET
DTSTART:20171029T010000
END:STANDARD
END:VTIMEZONE
BEGIN:VEVENT
DTSTART;TZID=Europe/Berlin:20171017T173000
DTEND;TZID=Europe/Berlin:20171017T183000
DTSTAMP:20260420T165906
CREATED:20170925T083337Z
LAST-MODIFIED:20171018T140317Z
UID:10002643-1508261400-1508265000@www.virtuelle-ph.at
SUMMARY:eLecture: Cybermobbing erkennen und bekämpfen
DESCRIPTION:zur Aufzeichnung \n\n\n​​ \nMobbing ist kein neues Phänomen. \nDas Beschimpfen\, Beleidigen und Bloßstellen über die neuen Medien eröffnet aber neue Dimensionen. Teilweise anonym\, vor einer großen Anzahl von Zuseher_innen und ohne Schutzzone traumatisiert Cybermobbing vielleicht noch viel stärker als reales Mobbing. \nBereits in der Volksschule beginnt Cybermobbing mit Beschimpfungen und Ausschlüssen aus Klassen – whatsapp Gruppen. Je älter die Jugendlichen werden desto mehr werden auch Plattformen wie instagram\, snapchat\, twitch \, musically u.a. verwendet. Leider zum Teil eben auch\, um andere systematisch „fertig zu machen“. Nur wenige betroffene Jugendliche suchen dabei Hilfe bei Pädagog_innen und Eltern. Sie trauen diesen oft wenig bis keine Medien- und damit Lösungskompetenz zu. \nWelche Apps Kinder und Jugendliche benutzen\, welche Rechte (Recht am eigenen Bild\, Netiquette) dabei aus Nichtwissen missachtet werden\, wie Cybermobbing entsteht\, woran es sichtbar wird und was im Falle von Mobbing über die neuen Medien zu tun ist – das ist Inhalt dieser electure \nDiese e-lecture ist für Sie interessant\, wenn Sie:\n# mit Kindern /Jugendlichen arbeiten\n# sich bezüglich gängiger Anwendungen auf den neuesten Stand bringen wollen\n# die Begriffe Pishing\, Sexting\, Grooming und Cybermobbing verstehen lernen wollen\n# wissen wollen\, woran man Cybermobbing erkennt und wie man betroffenen Kindern/Jugendlichen helfen kann\n# wissen wollen\, Wie man vor allem im schulischen Kontext Cybermobbing Prävention betreiben kann \nCoModeration: Elisabeth Eder-Janca \n\n			\n				\n			\n			Teilnahmekriterien & Info\n		 \n		\n			Lernziele\n		 \n		\n			Voraussetzungen\n		\n		 \n		\n			\n				\n					\n			Technische Voraussetzungen: Grundlegende Computerkenntnisse\, gute Internetverbindung; optional: Headset. \nSo treten Sie der eLecture im virtuellen Lernraum bei: \n1. Rufen Sie 10 min vor Terminstart folgende Seite auf: \nvph.adobeconnect.com/zwei/ \n2. Geben Sie bitte Ihren Vor- und Nachnamen ein und „Betreten Sie den Raum“ mit Klick auf den Button. \n3. Folgen Sie den Anweisungen auf dem Bildschirm. Sie werden in Kürze eingelassen. \nWenn Sie noch an keiner eLecture teilgenommen haben\, finden Sie alle Infos zum Einstieg unter: www.virtuelle-ph.at/electures/#einstieg \nDie Teilnahme an allen eLectures der Virtuellen PH ist für österreichische Lehrkräfte und Studierende eines Lehramts kostenlos.\n		 \n		\n			# Gängige Apps und Internetanwendungen die für Kinder/Jugendliche relevant sind inklusive deren Nutzungsgefahren benennen können \n# Die häufigsten Gefahren bei der Nutzung der neuen Medien kennen (Pishing\, Grooming\, Sexting\, Cybermobbing) \n# Die Besonderheiten von Cybermobbing\, den Ablauf\, die Symptome und das professionelle Eingreifen im Ernstfall kennen
URL:https://www.virtuelle-ph.at/veranstaltung/electure-cybermobbing-erkennen-und-bekaempfen-3/
CATEGORIES:eLecture
END:VEVENT
BEGIN:VEVENT
DTSTART;TZID=Europe/Berlin:20170502T180000
DTEND;TZID=Europe/Berlin:20170502T190000
DTSTAMP:20260420T165906
CREATED:20170404T114246Z
LAST-MODIFIED:20170502T033403Z
UID:10002516-1493748000-1493751600@www.virtuelle-ph.at
SUMMARY:eLecture: Cybermobbing erkennen und bekämpfen
DESCRIPTION:CoModeration: Walter Fikisz \nMobbing ist kein neues Phänomen. \nDas Beschimpfen\, Beleidigen und Bloßstellen über die neuen Medien eröffnet aber neue Dimensionen. Teilweise anonym\, vor einer großen Anzahl von Zuseher_innen und ohne Schutzzone traumatisiert Cybermobbing vielleicht noch viel stärker als reales Mobbing. \nBereits in der Volksschule beginnt Cybermobbing mit Beschimpfungen und Ausschlüssen aus Klassen  – whatsapp Gruppen. Je älter die Jugendlichen werden desto mehr werden auch Plattformen wie instagram\, snapchat\, twitch \, musically u.a. verwendet. Leider zum Teil eben auch\, um andere systematisch „fertig zu machen“. Nur wenige betroffene Jugendliche suchen dabei Hilfe bei Pädagog_innen und Eltern. Sie trauen diesen oft wenig bis keine Medien- und damit Lösungskompetenz zu. \nWelche Apps Kinder und Jugendliche benutzen\, welche Rechte (Recht am eigenen Bild\, Netiquette) dabei aus Nichtwissen missachtet werden\, wie Cybermobbing entsteht\, woran es sichtbar wird und was im Falle von Mobbing über die neuen Medien zu tun ist – das ist Inhalt dieser electure \nDiese e-lecture ist für Sie interessant\, wenn Sie:\n# mit Kindern /Jugendlichen arbeiten\n# sich bezüglich gängiger Anwendungen auf den neuesten Stand bringen wollen \n# die Begriffe Pishing\, Sexting\, Grooming und Cybermobbing verstehen lernen wollen\n# wissen wollen\, woran man Cybermobbing erkennt und wie man betroffenen Kindern/Jugendlichen helfen kann\n# wissen wollen\, Wie man vor allem im schulischen Kontext Cybermobbing Prävention betreiben kann \n\n			\n				\n			\n			Teilnahmekriterien & Info\n		 \n		\n			Lernziele\n		 \n		\n			Voraussetzungen\n		\n		 \n		\n			\n				\n					\n			Technische Voraussetzungen: Grundlegende Computerkenntnisse\, gute Internetverbindung; optional: Headset.  \nSo treten Sie der eLecture im virtuellen Lernraum bei:  \n1. Rufen Sie 10 min vor Terminstart folgende Seite auf:  \nvph.adobeconnect.com/zwei/ \n2. Geben Sie bitte Ihren Vor- und Nachnamen ein und „Betreten Sie den Raum“ mit Klick auf den Button. \n3. Folgen Sie den Anweisungen auf dem Bildschirm. Sie werden in Kürze eingelassen. \nWenn Sie noch an keiner eLecture teilgenommen haben\, finden Sie alle Infos zum Einstieg unter:\nwww.virtuelle-ph.at/electures/#einstieg \nDie Teilnahme an allen eLectures der Virtuellen PH ist für österreichische Lehrkräfte und Studierende eines Lehramts kostenlos.\n		 \n		\n			# Gängige Apps und Internetanwendungen die für Kinder/Jugendliche relevant sind inklusive deren Nutzungsgefahren benennen können \n# Die häufigsten Gefahren bei der Nutzung der neuen Medien kennen (Pishing\, Grooming\, Sexting\, Cybermobbing) \n# Die Besonderheiten von Cybermobbing\, den Ablauf\, die Symptome und das professionelle Eingreifen im Ernstfall kennen
URL:https://www.virtuelle-ph.at/veranstaltung/electure-cybermobbing-erkennen-und-bekaempfen-2/
CATEGORIES:eLecture
END:VEVENT
BEGIN:VEVENT
DTSTART;TZID=Europe/Berlin:20170314T190000
DTEND;TZID=Europe/Berlin:20170314T200000
DTSTAMP:20260420T165906
CREATED:20170202T131644Z
LAST-MODIFIED:20170314T033612Z
UID:10002427-1489518000-1489521600@www.virtuelle-ph.at
SUMMARY:eLecture: Cybermobbing erkennen und bekämpfen
DESCRIPTION:CoModeration: Elisabeth Eder-Janca  \nMobbing ist kein neues Phänomen. \nDas Beschimpfen\, Beleidigen und Bloßstellen über die neuen Medien eröffnet aber neue Dimensionen. Teilweise anonym\, vor einer großen Anzahl von Zuseher_innen und ohne Schutzzone traumatisiert Cybermobbing vielleicht noch viel stärker als reales Mobbing. \nBereits in der Volksschule beginnt Cybermobbing mit Beschimpfungen und Ausschlüssen aus Klassen  – whatsapp Gruppen. Je älter die Jugendlichen werden desto mehr werden auch Plattformen wie instagram\, snapchat\, twitch \, musically u.a. verwendet. Leider zum Teil eben auch\, um andere systematisch „fertig zu machen“. Nur wenige betroffene Jugendliche suchen dabei Hilfe bei Pädagog_innen und Eltern. Sie trauen diesen oft wenig bis keine Medien- und damit Lösungskompetenz zu. \nWelche Apps Kinder und Jugendliche benutzen\, welche Rechte (Recht am eigenen Bild\, Netiquette) dabei aus Nichtwissen missachtet werden\, wie Cybermobbing entsteht\, woran es sichtbar wird und was im Falle von Mobbing über die neuen Medien zu tun ist – das ist Inhalt dieser electure \nDiese e-lecture ist für Sie interessant\, wenn Sie:\n# mit Kindern /Jugendlichen arbeiten\n# sich bezüglich gängiger Anwendungen auf den neuesten Stand bringen wollen \n# die Begriffe Pishing\, Sexting\, Grooming und Cybermobbing verstehen lernen wollen\n# wissen wollen\, woran man Cybermobbing erkennt und wie man betroffenen Kindern/Jugendlichen helfen kann\n# wissen wollen\, Wie man vor allem im schulischen Kontext Cybermobbing Prävention betreiben kann \n\n			\n				\n			\n			Teilnahmekriterien & Info\n		 \n		\n			Lernziele\n		 \n		\n			Voraussetzungen\n		\n		 \n		\n			\n				\n					\n			Technische Voraussetzungen: Grundlegende Computerkenntnisse\, gute Internetverbindung; optional: Headset.  \nSo treten Sie der eLecture im virtuellen Lernraum bei:  \n1. Rufen Sie 10 min vor Terminstart folgende Seite auf:  \nvph.adobeconnect.com/zwei/ \n2. Geben Sie bitte Ihren Vor- und Nachnamen ein und „Betreten Sie den Raum“ mit Klick auf den Button. \n3. Folgen Sie den Anweisungen auf dem Bildschirm. Sie werden in Kürze eingelassen. \nWenn Sie noch an keiner eLecture teilgenommen haben\, finden Sie alle Infos zum Einstieg unter:\nwww.virtuelle-ph.at/electures/#einstieg \nDie Teilnahme an allen eLectures der Virtuellen PH ist für österreichische Lehrkräfte und Studierende eines Lehramts kostenlos.\n		 \n		\n			# Gängige Apps und Internetanwendungen die für Kinder/Jugendliche relevant sind inklusive deren Nutzungsgefahren benennen können\n# Die häufigsten Gefahren bei der Nutzung der neuen Medien kennen (Pishing\, Grooming\, Sexting\, Cybermobbing)\n# Die Besonderheiten von Cybermobbing\, den Ablauf\, die Symptome und das professionelle Eingreifen im Ernstfall kennen
URL:https://www.virtuelle-ph.at/veranstaltung/electure-cybermobbing-erkennen-und-bekaempfen/
CATEGORIES:eLecture
END:VEVENT
END:VCALENDAR