BEGIN:VCALENDAR
VERSION:2.0
PRODID:-//Virtuelle PH - ECPv6.6.4.2//NONSGML v1.0//EN
CALSCALE:GREGORIAN
METHOD:PUBLISH
X-WR-CALNAME:Virtuelle PH
X-ORIGINAL-URL:https://www.virtuelle-ph.at
X-WR-CALDESC:Veranstaltungen für Virtuelle PH
REFRESH-INTERVAL;VALUE=DURATION:PT1H
X-Robots-Tag:noindex
X-PUBLISHED-TTL:PT1H
BEGIN:VTIMEZONE
TZID:Europe/Berlin
BEGIN:DAYLIGHT
TZOFFSETFROM:+0100
TZOFFSETTO:+0200
TZNAME:CEST
DTSTART:20190331T010000
END:DAYLIGHT
BEGIN:STANDARD
TZOFFSETFROM:+0200
TZOFFSETTO:+0100
TZNAME:CET
DTSTART:20191027T010000
END:STANDARD
END:VTIMEZONE
BEGIN:VEVENT
DTSTART;TZID=Europe/Berlin:20190604T190000
DTEND;TZID=Europe/Berlin:20190604T200000
DTSTAMP:20260425T135458
CREATED:20190228T093600Z
LAST-MODIFIED:20200318T120435Z
UID:10003131-1559674800-1559678400@www.virtuelle-ph.at
SUMMARY:eLecture: Meine Schatzkiste-Wertschätzende Kommunikation
DESCRIPTION:zur Aufzeichnung \n\n\nGespräche sind in jeder Schule allgegenwärtig. Einige davon führen wir locker\, oft mit Humor. Einige jedoch stellen uns vor große Herausforderungen. Wie können wir diesen Herausforderungen begegnen? Was ist der Grund für dieses leicht angespannte Gefühl vor so manchem Gespräch?…und wie können wir besser damit umgehen? \nIch brenne dafür\, Pädagog*innen zu zeigen\, wie wertschätzende Kommunikation ihre Haltung beeinflussen und Entspannung bringen kann. \nMeine Expertise dazu entwickelte sich- neben Ausbildungen zur psychosozialen Beraterin und systemischen Aufstellerin – als Primarpädagogin\, als Schulleiterin\, als Lehrende an der PH Wien im Bereich Persönlichkeitsentwicklung und Coaching\, in meiner eigenen Praxis für Einzelberatung und Gruppenselbsterfahrung. \nÜberall dort erlebe ich die Magie der wertschätzenden Kommunikation und öffne einen Raum\, in dem Pädagog*innen beginnen\, sich wieder entspannt\, ruhig\, sicher und frei zu fühlen. \nDer Spannungsbogen dieser e-lecture reicht von einem kurzen Einblick in die Theorie zur Kommunikation bis zu meinem Leitfaden für schwierige Gespräche. \nDiese e-lecture ist für Sie geeignet\, wenn…. \n# Sie die Worte Entlastung\, Entspannung\, Sicherheit\, Humor und Neugierde berühren. \n# Sie etwas über Ihre Persönlichkeit\, die eigene Wahrnehmung und die eigene Wirklichkeit erfahren wollen. \n# Sie die Magie unserer Sprache noch besser kennenlernen wollen. \nBei dieser eLecture handelt es sich um ein begleitetes OTA Praktikum. Mehr zur OTA unter www.virtuelle-ph.at/ota \nCoModeration: Thomas Winkler \n\n			\n				\n			\n			Teilnahmekriterien & Info\n		 \n		\n			Lernziele\n		 \n		\n			Voraussetzungen\n		\n		 \n		\n			\n				\n					\n			Technische Voraussetzungen: Grundlegende Computerkenntnisse\, gute Internetverbindung; optional: Headset. \nSo treten Sie der eLecture im virtuellen Lernraum bei: \n1. Rufen Sie 10 min vor Terminstart folgende Seite auf: \nvph.adobeconnect.com/zwei/ \n2. Geben Sie bitte Ihren Vor- und Nachnamen ein und „Betreten Sie den Raum“ mit Klick auf den Button. \n3. Folgen Sie den Anweisungen auf dem Bildschirm. Sie werden in Kürze eingelassen. \nWenn Sie noch an keiner eLecture teilgenommen haben\, finden Sie alle Infos zum Einstieg unter: www.virtuelle-ph.at/electures/#einstieg \nDie Teilnahme an allen eLectures der Virtuellen PH ist für österreichische Lehrkräfte und Studierende eines Lehramts kostenlos.\n		 \n		\n			Sie können nach dieser e– lecture \n# die Zusammenhänge emotionalen Stresses mit Kommunikation erkennen. \n# erkennen\, dass es verschiedene Wahrheiten gibt und dadurch möglicherweise Ihr Gegenüber besser verstehen. \n# ein Gespräch mit Hilfe meines Leitfadens strukturiert vorbereiten.
URL:https://www.virtuelle-ph.at/veranstaltung/electure-meine-schatzkiste-wertschaetzende-kommunikation/
CATEGORIES:eLecture
END:VEVENT
END:VCALENDAR