BEGIN:VCALENDAR
VERSION:2.0
PRODID:-//Virtuelle PH - ECPv6.6.4.2//NONSGML v1.0//EN
CALSCALE:GREGORIAN
METHOD:PUBLISH
X-ORIGINAL-URL:https://www.virtuelle-ph.at
X-WR-CALDESC:Veranstaltungen für Virtuelle PH
REFRESH-INTERVAL;VALUE=DURATION:PT1H
X-Robots-Tag:noindex
X-PUBLISHED-TTL:PT1H
BEGIN:VTIMEZONE
TZID:Europe/Vienna
BEGIN:DAYLIGHT
TZOFFSETFROM:+0100
TZOFFSETTO:+0200
TZNAME:CEST
DTSTART:20230326T010000
END:DAYLIGHT
BEGIN:STANDARD
TZOFFSETFROM:+0200
TZOFFSETTO:+0100
TZNAME:CET
DTSTART:20231029T010000
END:STANDARD
END:VTIMEZONE
BEGIN:VEVENT
DTSTART;TZID=Europe/Vienna:20231114T170000
DTEND;TZID=Europe/Vienna:20231114T180000
DTSTAMP:20260420T234126
CREATED:20231115T033007Z
LAST-MODIFIED:20231115T033007Z
UID:10004738-1699981200-1699984800@www.virtuelle-ph.at
SUMMARY:eLecture: Terrorbilder im Kopf - Wie können wir Jugendliche begleiten?
DESCRIPTION:Zur Anmeldung \n\n						Zum virtuellen Lernraum\n						\n\n						Terror\, Krieg und Propaganda haben nicht nur in den Nachrichtenseiten ihren Platz\, sondern sind auch in den Sozialen Netzwerken vertreten. Dort treffen Kinder und Jugendliche auf diese Themen und die Bilder. Und diese können von verstörend\, emotionalisierend oder sogar radiaklisierend sein.\nSelten jedoch wenden sich Kinder und Jugendliche an ihre erwachsenen Bezugspersonen\, um mit den Inhalten umzugehen. Daher müssen diese es ansprechen und aufgreifen:\n* Was siehst du in den sozialen Netzwerken und warum? (wie funktionieren die Algorithmen der von dir genutzten Netzwerke)\n* Wie lassen sich Bilder aus dem Krieg und Terror auf ihre Echtheit überprüfen? Wie gehe ich mit Falschmeldungen um?\n* Wie gehe ich mit den Emotionen um\, die diese Bilder erzeugen?\n* was kann ich tun\, um mich selbst zu schützen? \nSaferinternet.at stellt im Zuge der Präventionsarbeit einige Materialien zum Thema zur Verfügun. diese werden im Zuge des Webinars vorgestellt und konkrete Umsetzung im Unterricht besprochen. \nBarbara Buchegger ist pädagogische Leiterin von Saferinternet.at \n\nExpert_in: Saferinternet.at Firma\, Lisa Maria Lubena \n\n\n			\n				\n			\n			Teilnahmekriterien & Info\n		 \n		\n			Lernziele\n		 \n		\n			Voraussetzungen\n		\n		 \n		\n			\n				\n					\n			Anmerkung: So treten Sie der Veranstaltung im virtuellen Lernraum bei: \n1. Rufen Sie 5 min vor Terminstart den Link zum Virtuellen Lernraum auf: \nvirtuelle-ph-at.zoom.us/my/electures \n2. Geben Sie bitte Ihren vollen Namen ein und klicken Sie den Button „Einem Meeting Beitreten“. \n3. Klicken Sie den grünen Button „Per Computer dem Audio beitreten“ an. \nDas bewirkt\, dass Sie uns hören und sehen können. Sie werden in Kürze eingelassen. \nDie Teilnahme an allen eLectures der Virtuellen PH ist für österreichische Hochschullehrende\, Lehrkräfte und Studierende eines Lehramts kostenlos.\n		 \n		\n			* Umgang mit Fakenews und Propaganda\n* Algorithmen der sozialen Netzwerke einschätzen und nutzen\n* Umgang mit verstörenden Inhalten ansprechen und für Hife sorgen
URL:https://www.virtuelle-ph.at/veranstaltung/electure-terrorbilder-im-kopf-wie-koennen-wir-jugendliche-begleiten-3/
CATEGORIES:eLecture,Reihe KiNO
END:VEVENT
BEGIN:VEVENT
DTSTART;TZID=Europe/Vienna:20231114T170000
DTEND;TZID=Europe/Vienna:20231114T180000
DTSTAMP:20260420T234126
CREATED:20231114T204426Z
LAST-MODIFIED:20231114T204426Z
UID:10004736-1699981200-1699984800@www.virtuelle-ph.at
SUMMARY:eLecture: Terrorbilder im Kopf - Wie können wir Jugendliche begleiten?
DESCRIPTION:Zur Anmeldung \n\n						Zum virtuellen Lernraum\n						\n\n						Terror\, Krieg und Propaganda haben nicht nur in den Nachrichtenseiten ihren Platz\, sondern sind auch in den Sozialen Netzwerken vertreten. Dort treffen Kinder und Jugendliche auf diese Themen und die Bilder. Und diese können von verstörend\, emotionalisierend oder sogar radiaklisierend sein.\nSelten jedoch wenden sich Kinder und Jugendliche an ihre erwachsenen Bezugspersonen\, um mit den Inhalten umzugehen. Daher müssen diese es ansprechen und aufgreifen:\n* Was siehst du in den sozialen Netzwerken und warum? (wie funktionieren die Algorithmen der von dir genutzten Netzwerke)\n* Wie lassen sich Bilder aus dem Krieg und Terror auf ihre Echtheit überprüfen? Wie gehe ich mit Falschmeldungen um?\n* Wie gehe ich mit den Emotionen um\, die diese Bilder erzeugen?\n* was kann ich tun\, um mich selbst zu schützen? \nSaferinternet.at stellt im Zuge der Präventionsarbeit einige Materialien zum Thema zur Verfügun. diese werden im Zuge des Webinars vorgestellt und konkrete Umsetzung im Unterricht besprochen. \nBarbara Buchegger ist pädagogische Leiterin von Saferinternet.at \n\nExpert_in: Saferinternet.at Firma\, Lisa Maria Lubena \n\n\n			\n				\n			\n			Teilnahmekriterien & Info\n		 \n		\n			Lernziele\n		 \n		\n			Voraussetzungen\n		\n		 \n		\n			\n				\n					\n			Anmerkung: So treten Sie der Veranstaltung im virtuellen Lernraum bei: \n1. Rufen Sie 5 min vor Terminstart den Link zum Virtuellen Lernraum auf: \nvirtuelle-ph-at.zoom.us/my/electures \n2. Geben Sie bitte Ihren vollen Namen ein und klicken Sie den Button „Einem Meeting Beitreten“. \n3. Klicken Sie den grünen Button „Per Computer dem Audio beitreten“ an. \nDas bewirkt\, dass Sie uns hören und sehen können. Sie werden in Kürze eingelassen. \nDie Teilnahme an allen eLectures der Virtuellen PH ist für österreichische Hochschullehrende\, Lehrkräfte und Studierende eines Lehramts kostenlos.\n		 \n		\n			* Umgang mit Fakenews und Propaganda\n* Algorithmen der sozialen Netzwerke einschätzen und nutzen\n* Umgang mit verstörenden Inhalten ansprechen und für Hife sorgen
URL:https://www.virtuelle-ph.at/veranstaltung/electure-terrorbilder-im-kopf-wie-koennen-wir-jugendliche-begleiten-2/
CATEGORIES:eLecture,Reihe KiNO
END:VEVENT
BEGIN:VEVENT
DTSTART;TZID=Europe/Vienna:20231114T170000
DTEND;TZID=Europe/Vienna:20231114T180000
DTSTAMP:20260420T234126
CREATED:20231023T092626Z
LAST-MODIFIED:20231114T033011Z
UID:10004705-1699981200-1699984800@www.virtuelle-ph.at
SUMMARY:eLecture: Terrorbilder im Kopf - Wie können wir Jugendliche begleiten?
DESCRIPTION:Zur Anmeldung \n\n						Zum virtuellen Lernraum\n						\n\n						Terror\, Krieg und Propaganda haben nicht nur in den Nachrichtenseiten ihren Platz\, sondern sind auch in den Sozialen Netzwerken vertreten. Dort treffen Kinder und Jugendliche auf diese Themen und die Bilder. Und diese können von verstörend\, emotionalisierend oder sogar radiaklisierend sein.\nSelten jedoch wenden sich Kinder und Jugendliche an ihre erwachsenen Bezugspersonen\, um mit den Inhalten umzugehen. Daher müssen diese es ansprechen und aufgreifen:\n* Was siehst du in den sozialen Netzwerken und warum? (wie funktionieren die Algorithmen der von dir genutzten Netzwerke)\n* Wie lassen sich Bilder aus dem Krieg und Terror auf ihre Echtheit überprüfen? Wie gehe ich mit Falschmeldungen um?\n* Wie gehe ich mit den Emotionen um\, die diese Bilder erzeugen?\n* was kann ich tun\, um mich selbst zu schützen? \nSaferinternet.at stellt im Zuge der Präventionsarbeit einige Materialien zum Thema zur Verfügun. diese werden im Zuge des Webinars vorgestellt und konkrete Umsetzung im Unterricht besprochen. \nBarbara Buchegger ist pädagogische Leiterin von Saferinternet.at \n\nExpert_in: Saferinternet.at Firma \n\n\n			\n				\n			\n			Teilnahmekriterien & Info\n		 \n		\n			Lernziele\n		 \n		\n			Voraussetzungen\n		\n		 \n		\n			\n				\n					\n			Anmerkung: So treten Sie der Veranstaltung im virtuellen Lernraum bei: \n1. Rufen Sie 5 min vor Terminstart den Link zum Virtuellen Lernraum auf: \nvirtuelle-ph-at.zoom.us/my/electures \n2. Geben Sie bitte Ihren vollen Namen ein und klicken Sie den Button „Einem Meeting Beitreten“. \n3. Klicken Sie den grünen Button „Per Computer dem Audio beitreten“ an. \nDas bewirkt\, dass Sie uns hören und sehen können. Sie werden in Kürze eingelassen. \nDie Teilnahme an allen eLectures der Virtuellen PH ist für österreichische Hochschullehrende\, Lehrkräfte und Studierende eines Lehramts kostenlos.\n		 \n		\n			* Umgang mit Fakenews und Propaganda\n* Algorithmen der sozialen Netzwerke einschätzen und nutzen\n* Umgang mit verstörenden Inhalten ansprechen und für Hife sorgen
URL:https://www.virtuelle-ph.at/veranstaltung/electure-terrorbilder-im-kopf-wie-koennen-wir-jugendliche-begleiten/
CATEGORIES:eLecture,Reihe KiNO
END:VEVENT
END:VCALENDAR