BEGIN:VCALENDAR
VERSION:2.0
PRODID:-//Virtuelle PH - ECPv6.6.4.2//NONSGML v1.0//EN
CALSCALE:GREGORIAN
METHOD:PUBLISH
X-ORIGINAL-URL:https://www.virtuelle-ph.at
X-WR-CALDESC:Veranstaltungen für Virtuelle PH
REFRESH-INTERVAL;VALUE=DURATION:PT1H
X-Robots-Tag:noindex
X-PUBLISHED-TTL:PT1H
BEGIN:VTIMEZONE
TZID:Europe/Vienna
BEGIN:DAYLIGHT
TZOFFSETFROM:+0100
TZOFFSETTO:+0200
TZNAME:CEST
DTSTART:20220327T010000
END:DAYLIGHT
BEGIN:STANDARD
TZOFFSETFROM:+0200
TZOFFSETTO:+0100
TZNAME:CET
DTSTART:20221030T010000
END:STANDARD
TZID:Europe/Berlin
BEGIN:DAYLIGHT
TZOFFSETFROM:+0100
TZOFFSETTO:+0200
TZNAME:CEST
DTSTART:20200329T010000
END:DAYLIGHT
BEGIN:STANDARD
TZOFFSETFROM:+0200
TZOFFSETTO:+0100
TZNAME:CET
DTSTART:20201025T010000
END:STANDARD
END:VTIMEZONE
BEGIN:VEVENT
DTSTART;TZID=Europe/Vienna:20221117T170000
DTEND;TZID=Europe/Vienna:20221117T183000
DTSTAMP:20260420T024333
CREATED:20221003T095502Z
LAST-MODIFIED:20221119T225427Z
UID:10004049-1668704400-1668709800@www.virtuelle-ph.at
SUMMARY:eLecture: Quizze auf eduvidual.at verwenden
DESCRIPTION:Aufzeichnung \n\n						Quizze sind ein abwechslungsreiches Übungsmaterial\, da sie mit selbst erstellten Fragen oder aus einer Auswahl von schon erprobten (Zufalls-)Fragen zusammengestellt werden können. \nSandra Janisch ist Lehrerein für Chemie\, Physik und Informatik und leitet das Zentrum für Lernmanagement (eduvidual.at). \nDiese eLecture bietet einen Überblick über die gängigsten Fragetypen\, die auf eduvidual.at verwendbar sind und auch einen Einblick in den OER-Fragepool\, der laufend ausgebaut wird. \nDiese eLecture ist für Sie interessant\, wenn\n– Sie abwechslungsreiches Übungsmaterial\, das sich „selbst korrigiert“ erstellen bzw. verwenden möchten\n– Sie bereits erste Erfahrungewn mit eduvidual.at gesammelt haben \nCoModeration: Walter Fikisz \n\nExpert_in: Sandra Janisch \n\n\n			\n				\n			\n			Teilnahmekriterien & Info\n		 \n		\n			Lernziele\n		 \n		\n			Voraussetzungen\n		\n		 \n		\n			\n				\n					\n			So treten Sie der Veranstaltung im virtuellen Lernraum bei: \n1. Rufen Sie 5 min vor Terminstart den Link zum Virtuellen Lernraum auf: \nvirtuelle-ph-at.zoom.us/my/virtuelleph.electure4 \n2. Geben Sie bitte Ihren vollen Namen ein und klicken Sie den Button „Einem Meeting Beitreten“.                              \n3. Klicken Sie den grünen Button „Per Computer dem Audio beitreten“ an. \nDas bewirkt\, dass Sie uns hören und sehen können. Sie werden in Kürze eingelassen. \nDie Teilnahme an allen eLectures der Virtuellen PH ist für österreichische Hochschullehrende\, Lehrkräfte und Studierende eines Lehramts kostenlos.\n		 \n		\n			Quizze auf eduvidual.at anlegen können\neigene Fragen erstellen können\nFragen aus dem Fragenpool verwenden können\nZufallsfragen im Quiz einfügen können
URL:https://www.virtuelle-ph.at/veranstaltung/electure-quizze-auf-eduvidual-at-verwenden/
CATEGORIES:eLecture,Reihe eduvidual
END:VEVENT
BEGIN:VEVENT
DTSTART;TZID=Europe/Vienna:20221006T170000
DTEND;TZID=Europe/Vienna:20221006T183000
DTSTAMP:20260420T024333
CREATED:20220913T112336Z
LAST-MODIFIED:20221007T200307Z
UID:10004024-1665075600-1665081000@www.virtuelle-ph.at
SUMMARY:eLecture: Unterrichten mit eduvidual.at
DESCRIPTION:zur Aufzeichnung \n\n\n						Die Verwendung des Lernmanagementsystems eduvidual.at ist auch ohne „Home-Schooling“ wichtiger Bestandteil eines modernen\, kompetenzorientierten und induvidualisierten Unterrichts. Die Plattform bietet eine Vielzahl von Möglichkeiten\, um verschiedenste Aktivitäten im eigenen Unterricht zu verwenden. \nSandra Janisch ist Lehrerin für Chemie\, Physik und Informatik und leitet das Zentrum für Lernmanagement (eduvidual.at). \nDiese eLecture bietet eine Einführung in die Grundlagen der Verwendung von eduvidual.at und ausgewählter Aktivitäten für den eigenen Unterricht. \nDiese eLecture ist für Sie interessant\, wenn\n– Sie eduvidual.at kennen lernen möchten\n– Sie Ihr Wissen zu eduvidual auffrischen bzw. erweitern möchten\n– Sie Ihren Unterricht mit eduvidual.at abwechslungsreicher gestalten wollen \n\nExpert_in: Sandra Janisch\, Walter Fikisz \n\n\n			\n				\n			\n			Teilnahmekriterien & Info\n		 \n		\n			Lernziele\n		 \n		\n			Voraussetzungen\n		\n		 \n		\n			\n				\n					\n			So treten Sie der Veranstaltung im virtuellen Lernraum bei: \n1. Rufen Sie 5 min vor Terminstart den Link zum Virtuellen Lernraum auf: \nvirtuelle-ph-at.zoom.us/my/virtuelleph.electure4 \n2. Geben Sie bitte Ihren vollen Namen ein und klicken Sie den Button „Einem Meeting Beitreten“.                              \n3. Klicken Sie den grünen Button „Per Computer dem Audio beitreten“ an. \nDas bewirkt\, dass Sie uns hören und sehen können. Sie werden in Kürze eingelassen. \nDie Teilnahme an allen eLectures der Virtuellen PH ist für österreichische Hochschullehrende\, Lehrkräfte und Studierende eines Lehramts kostenlos.\n		 \n		\n			eduvidual.at im eigenen Unterricht verwenden können\nverschiedene Kursformate kennen\nunterschiedliche Materialien digital zur Verfügung stellen können\nausgewählte Aktivitäten im eigenen Kurs anlegen können
URL:https://www.virtuelle-ph.at/veranstaltung/electure-unterrichten-mit-eduvidual-at/
CATEGORIES:eLecture,Reihe eduvidual
END:VEVENT
BEGIN:VEVENT
DTSTART;TZID=Europe/Berlin:20200325T140000
DTEND;TZID=Europe/Berlin:20200325T150000
DTSTAMP:20260420T024333
CREATED:20200324T121857Z
LAST-MODIFIED:20200331T134001Z
UID:10003601-1585144800-1585148400@www.virtuelle-ph.at
SUMMARY:eLecture: Quizze in eduvidual verwenden
DESCRIPTION:zur Aufzeichnung\n\n\n						In eduvidual läßt sich die Aktivität „Test“ sehr vielfältig einsetzen. Selbstüberprüfungen\, oftmalige Wiederholungen von Inhalten und Prüfungen\, alles möglich! \nCoModeration: Robert Schrenk \n\n			\n				\n			\n			Teilnahmekriterien & Info\n		 \n		\n			Lernziele\n		 \n		\n			Voraussetzungen\n		\n		 \n		\n			\n				\n					\n			So treten Sie der Veranstaltung im virtuellen Lernraum bei:  \n        1. Rufen Sie 5 min vor Terminstart den Link zum Virtuellen Lernraum auf: \n             zoom.us/j/489294085 \n         2. Geben Sie bitte Ihre Email-Adresse und Ihren vollen Namen ein und klicken Sie den Button\n             „Dem Webinar beitreten“. \n         3. Klicken Sie den grünen Button „Per Computer dem Audio beitreten“ an.\n             Das bewirkt\, dass Sie uns hören und sehen können. Sie werden in Kürze eingelassen. \nDie Teilnahme an allen eLectures der Virtuellen PH ist für österreichische Hochschullehrende\, Lehrkräfte und Studierende eines Lehramts kostenlos.\n		 \n		\n			Lehrer/innen verfügen über mehr Ideen\, wie in Moodle-Kursen innovativ lehren können
URL:https://www.virtuelle-ph.at/veranstaltung/electure-quizze-in-eduvidual-verwenden/
CATEGORIES:eLecture
END:VEVENT
END:VCALENDAR