BEGIN:VCALENDAR
VERSION:2.0
PRODID:-//Virtuelle PH - ECPv6.6.4.2//NONSGML v1.0//EN
CALSCALE:GREGORIAN
METHOD:PUBLISH
X-ORIGINAL-URL:https://www.virtuelle-ph.at
X-WR-CALDESC:Veranstaltungen für Virtuelle PH
REFRESH-INTERVAL;VALUE=DURATION:PT1H
X-Robots-Tag:noindex
X-PUBLISHED-TTL:PT1H
BEGIN:VTIMEZONE
TZID:Europe/Berlin
BEGIN:DAYLIGHT
TZOFFSETFROM:+0100
TZOFFSETTO:+0200
TZNAME:CEST
DTSTART:20160327T010000
END:DAYLIGHT
BEGIN:STANDARD
TZOFFSETFROM:+0200
TZOFFSETTO:+0100
TZNAME:CET
DTSTART:20161030T010000
END:STANDARD
END:VTIMEZONE
BEGIN:VEVENT
DTSTART;VALUE=DATE:20160419
DTEND;VALUE=DATE:20160420
DTSTAMP:20260420T095241
CREATED:20160419T102433Z
LAST-MODIFIED:20160419T102436Z
UID:10002269-1461024000-1461110399@www.virtuelle-ph.at
SUMMARY:Bildbearbeitung und Grafikerstellung mit GIMP
DESCRIPTION:GIMP bietet eine Vielzahl an Möglichkeiten Grafiken zu erstellen und Bilder und Fotos zu bearbeiten. In diesem zweiwöchigen Online-Seminar lernen Sie kennen\, was Sie mit GIMP alles machen können. Von der Erstellung einfacher Grafiken und Zeichnungen bis hin zur trickreichen Nachbearbeitung Ihrer digitalen Fotos\, Bildmontage und dem Arbeiten mit Ebenen. Sie erstellen Ihre eigenen Designs und lernen Ihre Ideen für Fotobearbeitung umzusetzen. In der Gruppe geben Sie sich gegenseitig Feedback auf Ihre Arbeiten und erhalten von dem/der Trainer/in Hilfestellungen\, Tipps und Tricks. Mit jeder Übung lernen Sie neue Funktionen und Features von GIMP kennen und setzen diese gleich in der Praxis ein.\nIn einer Gruppe von maximal 12 Teilnehmerinnen und Teilnehmern lernen Sie über einen Zeitraum von zwei Wochen unter Anleitung und Moderation einer/eines erfahrenen Trainerin/Trainers Ihre Bilder und Grafiken mit GIMP zu bearbeiten und zu erstellen. Von Tipps und Tricks beim Verwenden von GIMP bis hin zum Arbeiten mit Vektoren und komplexen Effekten\, bietet dieses Online-Seminar ein reichhaltiges Angebot zur digitalen Bildbearbeitung für Lehrende\, die GIMP in der Schule/im Unterricht/privat… einsetzen und lernen möchten.\n[Online-Programm: Frühjahrsprogramm] \n\n			\n				\n			\n			Teilnahmekriterien & Info\n		 \n		\n			Lernziele\n		 \n		\n			Voraussetzungen\n		\n		 \n		\n			\n				\n					\n			Die Teilnahme an allen im Rahmen des Online-Programms angebotenen Online-Seminaren der Virtuellen PH ist für österreichische Lehrkräfte und Studierende eines Lehramts kostenlos. Die Seminarplätze werden nach dem Prinzip first come\, first served – also chronologisch nach dem Zeitpunkt Ihrer Seminarbuchung über PH-Online – vergeben. Bis Mittwoch vor Beginn des jeweiligen Online-Seminars können Sie über PH-Online Ihr gebuchtes Online-Seminar selber kostenlos stornieren. Für ein allfälliges Storno zu einem späteren Zeitpunkt wenden Sie sich bitte an: info@virtuelle-ph.at\n		 \n		\n			In diesem Workshop wird das kostenlose Bildbearbeitungsprogramm GIMP vorgestellt und anhand vieler praktischer Beispiele gezeigt\, wie mit GIMP Grafiken und Zeichnungen erstellt sowie Fotos bearbeitet werden können.\n		 \n		\n			Grundwissen im Umgang mit dem Internet und der Installation von Programmen auf dem eigenen Computer.
URL:https://www.virtuelle-ph.at/veranstaltung/bildbearbeitung-und-grafikerstellung-mit-gimp/
CATEGORIES:Online-Seminar
END:VEVENT
BEGIN:VEVENT
DTSTART;VALUE=DATE:20160411
DTEND;VALUE=DATE:20160412
DTSTAMP:20260420T095241
CREATED:20160419T102436Z
LAST-MODIFIED:20160419T102439Z
UID:10002270-1460332800-1460419199@www.virtuelle-ph.at
SUMMARY:Bildbearbeitung und Grafikerstellung mit GIMP
DESCRIPTION:GIMP bietet eine Vielzahl an Möglichkeiten Grafiken zu erstellen und Bilder und Fotos zu bearbeiten. In diesem zweiwöchigen Online-Seminar lernen Sie kennen\, was Sie mit GIMP alles machen können. Von der Erstellung einfacher Grafiken und Zeichnungen bis hin zur trickreichen Nachbearbeitung Ihrer digitalen Fotos\, Bildmontage und dem Arbeiten mit Ebenen. Sie erstellen Ihre eigenen Designs und lernen Ihre Ideen für Fotobearbeitung umzusetzen. In der Gruppe geben Sie sich gegenseitig Feedback auf Ihre Arbeiten und erhalten von dem/der Trainer/in Hilfestellungen\, Tipps und Tricks. Mit jeder Übung lernen Sie neue Funktionen und Features von GIMP kennen und setzen diese gleich in der Praxis ein.\nIn einer Gruppe von maximal 12 Teilnehmerinnen und Teilnehmern lernen Sie über einen Zeitraum von zwei Wochen unter Anleitung und Moderation einer/eines erfahrenen Trainerin/Trainers Ihre Bilder und Grafiken mit GIMP zu bearbeiten und zu erstellen. Von Tipps und Tricks beim Verwenden von GIMP bis hin zum Arbeiten mit Vektoren und komplexen Effekten\, bietet dieses Online-Seminar ein reichhaltiges Angebot zur digitalen Bildbearbeitung für Lehrende\, die GIMP in der Schule/im Unterricht/privat… einsetzen und lernen möchten.\n[Online-Programm: Frühjahrsprogramm] \n\n			\n				\n			\n			Teilnahmekriterien & Info\n		 \n		\n			Lernziele\n		 \n		\n			Voraussetzungen\n		\n		 \n		\n			\n				\n					\n			Die Teilnahme an allen im Rahmen des Online-Programms angebotenen Online-Seminaren der Virtuellen PH ist für österreichische Lehrkräfte und Studierende eines Lehramts kostenlos. Die Seminarplätze werden nach dem Prinzip first come\, first served – also chronologisch nach dem Zeitpunkt Ihrer Seminarbuchung über PH-Online – vergeben. Bis Mittwoch vor Beginn des jeweiligen Online-Seminars können Sie über PH-Online Ihr gebuchtes Online-Seminar selber kostenlos stornieren. Für ein allfälliges Storno zu einem späteren Zeitpunkt wenden Sie sich bitte an: info@virtuelle-ph.at\n		 \n		\n			In diesem Workshop wird das kostenlose Bildbearbeitungsprogramm GIMP vorgestellt und anhand vieler praktischer Beispiele gezeigt\, wie mit GIMP Grafiken und Zeichnungen erstellt sowie Fotos bearbeitet werden können.\n		 \n		\n			Grundwissen im Umgang mit dem Internet und der Installation von Programmen auf dem eigenen Computer.
URL:https://www.virtuelle-ph.at/veranstaltung/bildbearbeitung-und-grafikerstellung-mit-gimp-2/
CATEGORIES:Online-Seminar
END:VEVENT
END:VCALENDAR