BEGIN:VCALENDAR
VERSION:2.0
PRODID:-//Virtuelle PH - ECPv6.6.4.2//NONSGML v1.0//EN
CALSCALE:GREGORIAN
METHOD:PUBLISH
X-WR-CALNAME:Virtuelle PH
X-ORIGINAL-URL:https://www.virtuelle-ph.at
X-WR-CALDESC:Veranstaltungen für Virtuelle PH
REFRESH-INTERVAL;VALUE=DURATION:PT1H
X-Robots-Tag:noindex
X-PUBLISHED-TTL:PT1H
BEGIN:VTIMEZONE
TZID:Europe/Berlin
BEGIN:DAYLIGHT
TZOFFSETFROM:+0100
TZOFFSETTO:+0200
TZNAME:CEST
DTSTART:20170326T010000
END:DAYLIGHT
BEGIN:STANDARD
TZOFFSETFROM:+0200
TZOFFSETTO:+0100
TZNAME:CET
DTSTART:20171029T010000
END:STANDARD
END:VTIMEZONE
BEGIN:VEVENT
DTSTART;TZID=Europe/Berlin:20170420T200000
DTEND;TZID=Europe/Berlin:20170420T210000
DTSTAMP:20260420T155710
CREATED:20170328T073324Z
LAST-MODIFIED:20170420T111841Z
UID:10002526-1492718400-1492722000@www.virtuelle-ph.at
SUMMARY:Webinar-Reihe digi4alltag: Making-Aktivitäten mit jungen Menschen
DESCRIPTION:CoModeration: David Röthler \nMaker-Movement\, Fablabs\, 3D-Druck. In einer kurzen Einführung werden die wichtigsten Begriffe\, Hintergründe und Werkzeuge der Bewegung rund um das digitale Selbermachen vorgestellt.\nNatürlich kann man Ideen und Ansatz des Makings auch in der Arbeit mit Kindern einfließen lassen: Es ist ein spielerischer\, kreativer Weg die Welt zu erkunden und gemeinsam neu zu erfinden – mit traditionellem Werkzeug und wenn sinnvoll\, auch mit digitalen Werkzeugen\, z.B. Smartphones und Co.\nVorgestellt werden im Vortrag daher kurz fünf Projektvorschläge\, die Eltern mit ihren Kindern anpacken können. \n# Der selbstgebaute Videoprojektor\n# Trickfilm mit dem Handy\n# Lächel-Safari durch die Stadt\n# VR-Brillen selbstgebaut \n# Game-Entwicklung mit Scratch  \nDie vorgestellten Aktivitäten und Projekte werden ausführlich im Handbuch zum Making beschrieben: Schön\, Sandra; Ebner\, Martin & Narr\, Kristin (2016\, Hrsg.). Making-Aktivitäten mit Kindern und Jugendlichen. Handbuch zum kreativen digitalen Gestalten. Gedruckt: ISBN 978-373-923-65-82\, Norderstedt: Book on Demand\, Online: via bit.do/handbuch \n\nDr. Sandra Schön ist Senior Researcher bei der Salzburg Research Forschungsgesellschaft (Salzburg\, Austria) und ist dort in (inter-)nationalen Projekten rund um digitale soziale Innovationen und Innovationsräume als Projektleiterin und wissenschaftliche Mitarbeiterin aktiv. Sandra ist zudem ehrenamtlich als Projektleiterin in medienpädagogischen Modellprojekten und Initiativen rund um offene Bildungsressourcen des gemeinnützigen BIMS e.V. engagiert. Neben zahlreichen Veröffentlichungen wurden mehrere ihrer Projekte ausgezeichnet. Für die viertägige offene Werkstatt „Maker Days for Kids“ hat sie so im Jahr 2016 gemeinsam mit den Kooperationspartnern den Dieter Baacke Preis gewonnen\, für einen Online-Kurs für Einsteiger/innen den Österreichen Staatspreis für Erwachsenenbildung 2015. Zudem hat sie im Jahr 2015 zusammen mit Martin Ebner den ersten kostenlosen Online-Kurs zum Making mit Kindern mit mehr als 400 Teilnehmer/innen (auf der Plattform imoox.at) durchgeführt und ist Ko-Herausgeberin des frei zugänglichen Handbuchs zum Making mit Kindern (via bit.do/handbuch). \n\n			\n				\n			\n			Teilnahmekriterien & Info\n		 \n		\n			Lernziele\n		 \n		\n			Voraussetzungen\n		\n		 \n		\n			\n				\n					\n			Technische Voraussetzungen: Grundlegende Computerkenntnisse\, gute Internetverbindung; optional: Headset.  \nSo treten Sie dem Webinar im virtuellen Lernraum bei:  \n1. Rufen Sie 10 min vor Terminstart folgenden Link auf und laden Sie die Zoom-Datei auf Anweisung herunter. Weitere Infos finden Sie weiter unten:  \nzoom.us/j/330320589 \nHINWEIS: dieses Webinar findet auf einer anderen Plattform und nicht wie gewohnt via Adobe Connect statt. Infos zur Nutzung von Zoom und zum Ersteinstieg bitte hier nachlesen: \nwww.digi4family.at/neues-webinar-system/ \nDie Teilnahme an allen eLectures der Virtuellen PH ist für österreichische Lehrkräfte und Studierende eines Lehramts kostenlos.\n		 \n		\n			# Erste Einblicke in die Maker-Bewegung \n# Kennenlernen von Projekte mit Kindern\, die von der Maker-Bewegung inspiriert sind  \n# Mut vermitteln\, dass beim Making Erwachsene keine Expert/inn/en sein müssen – sondern Mitmacher/innen
URL:https://www.virtuelle-ph.at/veranstaltung/webinar-reihe-digi4alltag-making-aktivitaeten-mit-jungen-menschen/
CATEGORIES:eLecture,Reihe digi4alltag
END:VEVENT
END:VCALENDAR