BEGIN:VCALENDAR
VERSION:2.0
PRODID:-//Virtuelle PH - ECPv6.6.4.2//NONSGML v1.0//EN
CALSCALE:GREGORIAN
METHOD:PUBLISH
X-WR-CALNAME:Virtuelle PH
X-ORIGINAL-URL:https://www.virtuelle-ph.at
X-WR-CALDESC:Veranstaltungen für Virtuelle PH
REFRESH-INTERVAL;VALUE=DURATION:PT1H
X-Robots-Tag:noindex
X-PUBLISHED-TTL:PT1H
BEGIN:VTIMEZONE
TZID:Europe/Berlin
BEGIN:DAYLIGHT
TZOFFSETFROM:+0100
TZOFFSETTO:+0200
TZNAME:CEST
DTSTART:20190331T010000
END:DAYLIGHT
BEGIN:STANDARD
TZOFFSETFROM:+0200
TZOFFSETTO:+0100
TZNAME:CET
DTSTART:20191027T010000
END:STANDARD
END:VTIMEZONE
BEGIN:VEVENT
DTSTART;TZID=Europe/Berlin:20190318T170000
DTEND;TZID=Europe/Berlin:20190318T173000
DTSTAMP:20260420T123659
CREATED:20190211T100706Z
LAST-MODIFIED:20190319T073850Z
UID:10003146-1552928400-1552930200@www.virtuelle-ph.at
SUMMARY:digiPH2 eLecture: Modellierung digitaler Kompetenzen im Lehramtsstudium – Anforderungen im Zuge der Digitalisierung
DESCRIPTION:zur Aufzeichnung\n\n\n\nDas fachdidaktische Studium bereitet angehende Lehrkräfte auf ihre Kernaufgabe\, die didaktische Vermittlung von Inhalten\, vor. Mit Blick auf die Anforderungen im Zuge des Digitalisierungsprozesses sind fachübergreifende Kompetenzen wie digitale oder mediendidaktische Kompetenzen aber ebenso von Bedeutung. Daher bedarf es eines Kompetenzmodells für die universitäre Phase der Lehramtsausbildung\, welches die Erfordernisse (digitaler) Vermittlung berücksichtigt. \nSarah Stumpf hat einen Master of Education in Germanistik und Philosophie und arbeitet als wissenschaftliche Mitarbeiterin mit Schwerpunkt Methodenentwicklung im Projekt [D-3]. Ihr wissenschaftliches Interesse gilt vor allem der Vermittlung und Förderung sprachlicher Kompetenzen\, der Sprachhandlungskompetenz sowie der Vermittlungskompetenz – ein Themenfeld\, welchem sie auch Ihre Dissertation widmet. \nDas Webinar stellt ein Kompetenzmodell vor\, welches im Unterschied zu bisherigen Modellen nicht SchülerInnen und LehrerInnen in den Fokus rückt\, sondern sich speziell der Phase der universitären Lehramtsausbildung zuwendet. Warum eine Neumodellierung mit gerade dieser Ausrichtung wichtig ist\, welche Kompetenzmodelle ihr zugrunde liegen und wie sie letztlich in die Lehrerbildung überführt werden kann\, stellen weitere zentrale Themen des Webinars dar. \nDiese eLecture ist für Sie geeignet\, wenn Sie\nim Feld der Lehrer*innenbildung tätig oder an der Thematik Kompetenzmodellierung interessiert sind \nCoModeration: Daniel Handle-Pfeiffer \n\n			\n				\n			\n			Teilnahmekriterien & Info\n		 \n		\n			Lernziele\n		 \n		\n			Voraussetzungen\n		\n		 \n		\n			\n				\n					\n			Technische Voraussetzungen: Grundlegende Computerkenntnisse\, gute Internetverbindung; optional: Headset. \nSo treten Sie der eLecture im virtuellen Lernraum bei:  \n1. Rufen Sie 10 min vor Terminstart folgende Seite auf:  \nvph.adobeconnect.com/digiph1/ \n2. Geben Sie bitte Ihren Vor- und Nachnamen ein und „Betreten Sie den Raum“ mit Klick auf den Button. \n3. Folgen Sie den Anweisungen auf dem Bildschirm. Sie werden in Kürze eingelassen. \nWenn Sie noch an keiner eLecture teilgenommen haben\, finden Sie alle Infos zum Einstieg unter: www.virtuelle-ph.at/electures/#einstieg \nDie Teilnahme an allen eLectures der Virtuellen PH ist für österreichische Lehrkräfte und Studierende eines Lehramts kostenlos.\n		 \n		\n			# im Zeichen der Digitalisierung wesentliche Kompetenzen reflektieren \n# wesentliche Aspekte der Kompetenzmodellierung kennenlernen
URL:https://www.virtuelle-ph.at/veranstaltung/digiph2-electure-modellierung-digitaler-kompetenzen-im-lehramtsstudium-anforderungen-im-zuge-der-digitalisierung/
CATEGORIES:eLecture,Online-Tagung digiPH2 EL,Panel Panel 1
END:VEVENT
END:VCALENDAR