BEGIN:VCALENDAR
VERSION:2.0
PRODID:-//Virtuelle PH - ECPv6.6.4.2//NONSGML v1.0//EN
CALSCALE:GREGORIAN
METHOD:PUBLISH
X-WR-CALNAME:Virtuelle PH
X-ORIGINAL-URL:https://www.virtuelle-ph.at
X-WR-CALDESC:Veranstaltungen für Virtuelle PH
REFRESH-INTERVAL;VALUE=DURATION:PT1H
X-Robots-Tag:noindex
X-PUBLISHED-TTL:PT1H
BEGIN:VTIMEZONE
TZID:Europe/Berlin
BEGIN:DAYLIGHT
TZOFFSETFROM:+0100
TZOFFSETTO:+0200
TZNAME:CEST
DTSTART:20180325T010000
END:DAYLIGHT
BEGIN:STANDARD
TZOFFSETFROM:+0200
TZOFFSETTO:+0100
TZNAME:CET
DTSTART:20181028T010000
END:STANDARD
END:VTIMEZONE
BEGIN:VEVENT
DTSTART;TZID=Europe/Berlin:20181126T170000
DTEND;TZID=Europe/Berlin:20181126T180000
DTSTAMP:20260420T155222
CREATED:20180911T081832Z
LAST-MODIFIED:20181127T083457Z
UID:10002996-1543251600-1543255200@www.virtuelle-ph.at
SUMMARY:eLecture: Kinder und Jugendliche für gesundes Leben begeistern
DESCRIPTION:zur Aufzeichnung\n\n\n						Verhaltensprobleme im Klassenzimmer? Rastlose und unaufmerksame SchülerInnen? Solche Auffälligkeiten rühren nicht nur vom Alter her\, sondern auch bei dem was Kinder heutzutage essen und trinken. Wie wir alle wissen\, gesunde Ernährung und Spaß an Bewegung sind wesentliche Bestandteile eines erfolgreichen und glücklichen Schülers\, aber da es in der jetzigen Zeit der Fall ist\, dass junge Menschen sich eher ungesund ernähren\, ist es äußerst wichtig das Thema im Klassenzimmer ansprechbar zu machen. \nAuch ist es wichtig\, über die Ursachen\, die hinter dieser ungesunden Angewohnheit stecken\, zu sprechen und wie es Schritt für Schritt gelingt\, aus schlechten Angewohnheiten eine gute und gesunde Angewohnheit zu machen. \nSimon Guy Horowitz\, als Jungendlicher selbst übergewichtig und einige Zeit an einer neuen Mittelschule tätig\,  hat ein mehrjähriges „Gesundes Leben Projekt“ geleitet\, bei es darum ging\, SchülerInnen zu vermitteln\, wie wichtig gesunde Ernährung und Bewegung sind. Essgewohnheiten ändern sich jedoch sehr langsam\, vor allem bei SchülerInnen\, die aus sozial schwachen Familien stammen. Im Laufe des Projektes gab es mehrere Erfolgsgeschichten zu beobachten\, bei denen einige Kinder es tatsächlich geschafft haben\, ihr Leben gesünder zu führen. Seit dem bietet er Gesundes Leben Workshops für Schulen an\, bei denen es um diese Themen geht. \nIn  dieser eLecture bekommen Sie einen kurzen Einblick und Antworten auf folgende Fragen: \n# Wie wir Bewegung in die Klasse bringen können\n# Wie wir über empfindliche Themen wie Ernährung und den eigenen Körper sensibel sprechen können\n# Wie LehrerInnen Aktivierungen in den Unterricht selbst einbauen können\n# Wie wir schlechte Angewohnheiten am besten verbessern können\n# Wie wir identifizieren wo wir jetzt im Bezug auf Ernährung und Bewegung wirklich stehen\n# Welche geeignete Handy Apps zur Motivation es gibt\n# Wie wir unsere täglichen Handlungen am besten anpassen können\, damit wir näher zu unseren Zielen kommen \nDiese eLecture ist für Sie geeignet\, wenn Sie.. \n# erfahren wollen\, wie man Themen wie Ernährung\, Fitness und Motivation in der Schule am Besten anspricht\n# wissen wollen\, wie man Bewegung in die Stunde bringen kann\n# die besten motivierenden Apps für ein gesundes Leben kennenlernen wollen\n# SchülerInnen haben wollen\, die sich in der Stunde gut konzentrieren können\n# SchülerInnen haben wollen\, die besser verstehen warum gesunde Ernährung wichtig ist\n# SchülerInnen haben wollen\, die sich in ihrem Körper wohlfühlen \nCoModeration: Elke Höfler \n\n			\n				\n			\n			Teilnahmekriterien & Info\n		 \n		\n			Lernziele\n		 \n		\n			Voraussetzungen\n		\n		 \n		\n			\n				\n					\n			Technische Voraussetzungen: Grundlegende Computerkenntnisse\, gute Internetverbindung; optional: Headset. \nSo treten Sie der eLecture im virtuellen Lernraum bei:  \n1. Rufen Sie 10 min vor Terminstart folgende Seite auf:  \nvph.adobeconnect.com/eins/ \n2. Geben Sie bitte Ihren Vor- und Nachnamen ein und „Betreten Sie den Raum“ mit Klick auf den Button. \n3. Folgen Sie den Anweisungen auf dem Bildschirm. Sie werden in Kürze eingelassen. \nWenn Sie noch an keiner eLecture teilgenommen haben\, finden Sie alle Infos zum Einstieg unter: www.virtuelle-ph.at/electures/#einstieg \nDie Teilnahme an allen eLectures der Virtuellen PH ist für österreichische Lehrkräfte und Studierende eines Lehramts kostenlos.\n		 \n		\n			# Empfindliche Themen wie Ernährung\, Übergewicht usw. sensibel thematisieren lernen \n# Kinder befähigen lernen\, verschiedene Arten von Lebensmitteln kritisch vergleichen zu können \n# Schülerinnen dabei unterstützen\, gesunde Entscheidungen bei der Nahrungsauswahl zu treffen  \n# SchülerInnen zur effektiven Analysierung der eigenen Essgewohnheitenen anregen \n#Schritt-für-Schritt weg von ungesunden Angewohnheiten und hin zu gesunden Angewohnheiten kommen
URL:https://www.virtuelle-ph.at/veranstaltung/electure-kinder-und-jugendliche-fuer-gesundes-leben-begeistern/
CATEGORIES:eLecture
END:VEVENT
END:VCALENDAR