BEGIN:VCALENDAR
VERSION:2.0
PRODID:-//Virtuelle PH - ECPv6.6.4.2//NONSGML v1.0//EN
CALSCALE:GREGORIAN
METHOD:PUBLISH
X-ORIGINAL-URL:https://www.virtuelle-ph.at
X-WR-CALDESC:Veranstaltungen für Virtuelle PH
REFRESH-INTERVAL;VALUE=DURATION:PT1H
X-Robots-Tag:noindex
X-PUBLISHED-TTL:PT1H
BEGIN:VTIMEZONE
TZID:Europe/Berlin
BEGIN:DAYLIGHT
TZOFFSETFROM:+0100
TZOFFSETTO:+0200
TZNAME:CEST
DTSTART:20170326T010000
END:DAYLIGHT
BEGIN:STANDARD
TZOFFSETFROM:+0200
TZOFFSETTO:+0100
TZNAME:CET
DTSTART:20171029T010000
END:STANDARD
END:VTIMEZONE
BEGIN:VEVENT
DTSTART;TZID=Europe/Berlin:20170620T183000
DTEND;TZID=Europe/Berlin:20170620T193000
DTSTAMP:20260420T150939
CREATED:20170516T154426Z
LAST-MODIFIED:20170620T033340Z
UID:10002545-1497983400-1497987000@www.virtuelle-ph.at
SUMMARY:eLecture: Der virtuelle Museumsbesuch im Klassenzimmer
DESCRIPTION:Es liegt kein Kunstmuseum bei Ihnen um die Ecke?  \nDann laden Sie die Schüler_innen doch einfach zu einem virtuellen Museums- oder Galeriebesuch ein! Mit der augmented reality App Aurasma können Sie mit spielerischen Elementen virtuelle Realität ins\nKlassenzimmer holen und den Schüler_innen so unabhängig von Lage und Infrastruktur die Möglichkeit geben\, sich digital gestützt mit Kunst auseinanderzusetzen. \nSkadi Schulze ist ausgebildete Grund-und Hauptschullehrerin mit Unterrichtserfahrung in Deutschland\, der Schweiz und Italien. Während 20 Jahren Auslandsaufenthalt nahm sie an vielen Fortbildungen im Bereich Medien teil und arbeitete auch als Fachberaterin für Medien sowie als Autorin in diesem Bereich. Im Moment ist sie an einer Freien Ganztagsschule tätig. \n\n\n\nIn dieser eLecture wird Ihnen die App Aurasma und ihre Funktionen vorgestellt. Anschließend bauen wir einen eigenen kleinen virtuellen Museumsbesuch auf. Außerdem wird ein Ideenpool befischt. Zusätzliche Vorschläge oder Anregungen der Gruppe können den Pool gern bereichern? \nDiese eLecture ist für alle Schulstufen geeignet. Außerdem ist der Interessent_innenkreis nicht unbedingt auf die künstlerischen Fächer zu beschränken: auch andere Inhalte\, z.B. aus der Mathematik oder Geschichte\, bieten sich bestens an\, „virtuelle Realität“ zu werden! \nCoModeration: Elisabeth Eder-Janca \n\n\n\n\n           \n\n			\n				\n			\n			Teilnahmekriterien & Info\n		 \n		\n			Lernziele\n		 \n		\n			Voraussetzungen\n		\n		 \n		\n			\n				\n					\n			Technische Voraussetzungen: Grundlegende Computerkenntnisse\, gute Internetverbindung; optional: Headset.  \nSo treten Sie der eLecture im virtuellen Lernraum bei:  \n1. Rufen Sie 10 min vor Terminstart folgende Seite auf:  \nvph.adobeconnect.com/zwei/ \n2. Geben Sie bitte Ihren Vor- und Nachnamen ein und „Betreten Sie den Raum“ mit Klick auf den Button. \n3. Folgen Sie den Anweisungen auf dem Bildschirm. Sie werden in Kürze eingelassen. \nWenn Sie noch an keiner eLecture teilgenommen haben\, finden Sie alle Infos zum Einstieg unter:\nwww.virtuelle-ph.at/electures/#einstieg \nDie Teilnahme an allen eLectures der Virtuellen PH ist für österreichische Lehrkräfte und Studierende eines Lehramts kostenlos.\n		 \n		\n			# Sie lernen die App Aurasma kennen und sehen\, wie so ein Museumsrundgang funktioniert. \n# Sie sind in der Lage\, die Idee des Museumsrundganges auf andere Inhalte anzuwenden.
URL:https://www.virtuelle-ph.at/veranstaltung/electure-der-virtuelle-museumsbesuch-im-klassenzimmer/
CATEGORIES:eLecture
END:VEVENT
END:VCALENDAR