BEGIN:VCALENDAR
VERSION:2.0
PRODID:-//Virtuelle PH - ECPv6.6.4.2//NONSGML v1.0//EN
CALSCALE:GREGORIAN
METHOD:PUBLISH
X-ORIGINAL-URL:https://www.virtuelle-ph.at
X-WR-CALDESC:Veranstaltungen für Virtuelle PH
REFRESH-INTERVAL;VALUE=DURATION:PT1H
X-Robots-Tag:noindex
X-PUBLISHED-TTL:PT1H
BEGIN:VTIMEZONE
TZID:Europe/Berlin
BEGIN:DAYLIGHT
TZOFFSETFROM:+0100
TZOFFSETTO:+0200
TZNAME:CEST
DTSTART:20200329T010000
END:DAYLIGHT
BEGIN:STANDARD
TZOFFSETFROM:+0200
TZOFFSETTO:+0100
TZNAME:CET
DTSTART:20201025T010000
END:STANDARD
END:VTIMEZONE
BEGIN:VEVENT
DTSTART;VALUE=DATE:20201102
DTEND;VALUE=DATE:20201123
DTSTAMP:20260420T185809
CREATED:20201030T033010Z
LAST-MODIFIED:20201101T033106Z
UID:10003760-1604275200-1606089599@www.virtuelle-ph.at
SUMMARY:20 Tage\, 20 Tools. Lassen Sie das Internet für sich arbeiten!
DESCRIPTION:Zur Anmeldung\n						\n\n						Auf die Lehrkräfte kommt es an! \nDiese simple und sehr verknappte Schlussfolgerung der Hattie-Studie zeigt\, dass die Lehrperson im Zentrum steht: mit ihrer Arbeit steht oder fällt der Lernerfolg von Schüler/innen. \nIm Mittelpunkt modernen Unterrichts und Lerngeschehens stehen somit u.a. folgende Fragen: \n• Wie leitet und steuert die Lehrkraft den Unterricht?\n• Wie kann die Lehrkraft die Schülerinnen und Schüler motivieren?\n• Wie kann die Lehrkraft dazu beitragen\, dass lernförderliche Lernorte und -szenarien entstehen?\n• Wie kann sich die Lehrkraft selbst ständig weiterentwickeln?\n• Wie kann die Lehrkraft auf sich und ihre/seine Zeitressourcen achten?\n… \nVon außen herangetragene Forderungen wie „Kein Kind ohne digitale Kompetenzen“\, d.h. die Vermittlung digitaler Kompetenzen in allen Fächern\, wirken auf den ersten Blick für viele Lehrkräfte als eine weitere Aufgabe\, die ihnen die Arbeit zusätzlich erschwert. \nIm Gegensatz dazu soll dieses Kooperative Online-Seminar Lehrkräfte dabei unterstützen\, Tools für Ihre Tätigkeit kennen zu lernen\, \n• die ihre Arbeit erleichtern\,\n• die Zeit für andere Tätigkeiten freischaufeln\,\n• die sie anschlussfähig für das digitale Zeitalter machen\,\n• die den Unterricht bereichern können\,\n• die Schülerinnen und Schüler motivieren\,\n• die zu gemeinsamem wie individuellem Arbeiten und Lernen anregen\n• uvm. \nwww.virtuelle-ph.at/online-seminare \n\nExpert_in: Sonja DannerAlexander StarzBirgit ZwanowetzSonja Schmid \n\n\n			\n				\n			\n			Teilnahmekriterien & Info\n		 \n		\n			Lernziele\n		 \n		\n			Voraussetzungen\n		\n		 \n		\n			\n				\n					\n			Die Teilnahme an allen im Rahmen des Onlineprogramms angebotenen Online-Seminaren der Virtuellen PH ist für österreichische Lehrkräfte und Studierende eines Lehramts kostenlos. Die Seminarplätze werden nach dem Prinzip first come\, first served – also chronologisch nach dem Zeitpunkt Ihrer Seminarbuchung über PH-Online – vergeben. Bis Mittwoch vor Beginn des jeweiligen Online-Seminars können Sie über PH-Online Ihr gebuchtes Online-Seminar selber kostenlos stornieren. Für ein allfälliges Storno zu einem späteren Zeitpunkt wenden Sie sich bitte an: info@virtuelle-ph.at\n		 \n		\n			Die Teilnehmenden werden von einem Tutor/einer Tutorin angeleitet und dabei unterstützt\, neues für ihren Unterricht zu entdecken und ihr Repertoire zu erweitern\, sowie ihre Unterrichtsarbeit – von administrativen über vorbereitende Tätigkeiten bis hin zur Durchführung selbst – mit kostenfreien Onlinetools zu planen\, zu testen und gemeinsam mit den anderen SeminarteilnehmerInnen zu reflektieren.\n		 \n		\n			Internetzugang und Grundwissen im Umgang mit dem Internet und dem Computer\, sowie Aufgeschlossenheit für Neues
URL:https://www.virtuelle-ph.at/veranstaltung/20-tage-20-tools-lassen-sie-das-internet-fuer-sich-arbeiten-44/
CATEGORIES:Online-Programm HerbstWinterprogramm,Online-Seminar
END:VEVENT
BEGIN:VEVENT
DTSTART;VALUE=DATE:20201102
DTEND;VALUE=DATE:20201123
DTSTAMP:20260420T185809
CREATED:20201030T033003Z
LAST-MODIFIED:20201101T033109Z
UID:10003796-1604275200-1606089599@www.virtuelle-ph.at
SUMMARY:20 Tage\, 20 Tools. Lassen Sie das Internet für sich arbeiten!
DESCRIPTION:Zur Anmeldung\n						\n\n						Auf die Lehrkräfte kommt es an! \nDiese simple und sehr verknappte Schlussfolgerung der Hattie-Studie zeigt\, dass die Lehrperson im Zentrum steht: mit ihrer Arbeit steht oder fällt der Lernerfolg von Schüler/innen. \nIm Mittelpunkt modernen Unterrichts und Lerngeschehens stehen somit u.a. folgende Fragen: \n• Wie leitet und steuert die Lehrkraft den Unterricht?\n• Wie kann die Lehrkraft die Schülerinnen und Schüler motivieren?\n• Wie kann die Lehrkraft dazu beitragen\, dass lernförderliche Lernorte und -szenarien entstehen?\n• Wie kann sich die Lehrkraft selbst ständig weiterentwickeln?\n• Wie kann die Lehrkraft auf sich und ihre/seine Zeitressourcen achten?\n… \nVon außen herangetragene Forderungen wie „Kein Kind ohne digitale Kompetenzen“\, d.h. die Vermittlung digitaler Kompetenzen in allen Fächern\, wirken auf den ersten Blick für viele Lehrkräfte als eine weitere Aufgabe\, die ihnen die Arbeit zusätzlich erschwert. \nIm Gegensatz dazu soll dieses Kooperative Online-Seminar Lehrkräfte dabei unterstützen\, Tools für Ihre Tätigkeit kennen zu lernen\, \n• die ihre Arbeit erleichtern\,\n• die Zeit für andere Tätigkeiten freischaufeln\,\n• die sie anschlussfähig für das digitale Zeitalter machen\,\n• die den Unterricht bereichern können\,\n• die Schülerinnen und Schüler motivieren\,\n• die zu gemeinsamem wie individuellem Arbeiten und Lernen anregen\n• uvm. \nwww.virtuelle-ph.at/online-seminare \n\nExpert_in: Sonja DannerAlexander StarzBirgit ZwanowetzSonja Schmid \n\n\n			\n				\n			\n			Teilnahmekriterien & Info\n		 \n		\n			Lernziele\n		 \n		\n			Voraussetzungen\n		\n		 \n		\n			\n				\n					\n			Die Teilnahme an allen im Rahmen des Onlineprogramms angebotenen Online-Seminaren der Virtuellen PH ist für österreichische Lehrkräfte und Studierende eines Lehramts kostenlos. Die Seminarplätze werden nach dem Prinzip first come\, first served – also chronologisch nach dem Zeitpunkt Ihrer Seminarbuchung über PH-Online – vergeben. Bis Mittwoch vor Beginn des jeweiligen Online-Seminars können Sie über PH-Online Ihr gebuchtes Online-Seminar selber kostenlos stornieren. Für ein allfälliges Storno zu einem späteren Zeitpunkt wenden Sie sich bitte an: info@virtuelle-ph.at\n		 \n		\n			Die Teilnehmenden werden von einem Tutor/einer Tutorin angeleitet und dabei unterstützt\, neues für ihren Unterricht zu entdecken und ihr Repertoire zu erweitern\, sowie ihre Unterrichtsarbeit – von administrativen über vorbereitende Tätigkeiten bis hin zur Durchführung selbst – mit kostenfreien Onlinetools zu planen\, zu testen und gemeinsam mit den anderen SeminarteilnehmerInnen zu reflektieren.\n		 \n		\n			Internetzugang und Grundwissen im Umgang mit dem Internet und dem Computer\, sowie Aufgeschlossenheit für Neues
URL:https://www.virtuelle-ph.at/veranstaltung/20-tage-20-tools-lassen-sie-das-internet-fuer-sich-arbeiten-43/
CATEGORIES:Online-Programm HerbstWinterprogramm,Online-Seminar
END:VEVENT
BEGIN:VEVENT
DTSTART;VALUE=DATE:20201102
DTEND;VALUE=DATE:20201123
DTSTAMP:20260420T185809
CREATED:20200921T091855Z
LAST-MODIFIED:20201101T033117Z
UID:10003731-1604275200-1606089599@www.virtuelle-ph.at
SUMMARY:20 Tage\, 20 Tools. Lassen Sie das Internet für sich arbeiten!
DESCRIPTION:Zur Anmeldung\n						\n\n						Auf die Lehrkräfte kommt es an! \nDiese simple und sehr verknappte Schlussfolgerung der Hattie-Studie zeigt\, dass die Lehrperson im Zentrum steht: mit ihrer Arbeit steht oder fällt der Lernerfolg von Schüler/innen. \nIm Mittelpunkt modernen Unterrichts und Lerngeschehens stehen somit u.a. folgende Fragen: \n• Wie leitet und steuert die Lehrkraft den Unterricht?\n• Wie kann die Lehrkraft die Schülerinnen und Schüler motivieren?\n• Wie kann die Lehrkraft dazu beitragen\, dass lernförderliche Lernorte und -szenarien entstehen?\n• Wie kann sich die Lehrkraft selbst ständig weiterentwickeln?\n• Wie kann die Lehrkraft auf sich und ihre/seine Zeitressourcen achten?\n… \nVon außen herangetragene Forderungen wie „Kein Kind ohne digitale Kompetenzen“\, d.h. die Vermittlung digitaler Kompetenzen in allen Fächern\, wirken auf den ersten Blick für viele Lehrkräfte als eine weitere Aufgabe\, die ihnen die Arbeit zusätzlich erschwert. \nIm Gegensatz dazu soll dieses Kooperative Online-Seminar Lehrkräfte dabei unterstützen\, Tools für Ihre Tätigkeit kennen zu lernen\, \n• die ihre Arbeit erleichtern\,\n• die Zeit für andere Tätigkeiten freischaufeln\,\n• die sie anschlussfähig für das digitale Zeitalter machen\,\n• die den Unterricht bereichern können\,\n• die Schülerinnen und Schüler motivieren\,\n• die zu gemeinsamem wie individuellem Arbeiten und Lernen anregen\n• uvm. \nwww.virtuelle-ph.at/online-seminare \n\nExpert_in: Sonja DannerAlexander StarzBirgit ZwanowetzSonja Schmid \n\n\n			\n				\n			\n			Teilnahmekriterien & Info\n		 \n		\n			Lernziele\n		 \n		\n			Voraussetzungen\n		\n		 \n		\n			\n				\n					\n			Die Teilnahme an allen im Rahmen des Onlineprogramms angebotenen Online-Seminaren der Virtuellen PH ist für österreichische Lehrkräfte und Studierende eines Lehramts kostenlos. Die Seminarplätze werden nach dem Prinzip first come\, first served – also chronologisch nach dem Zeitpunkt Ihrer Seminarbuchung über PH-Online – vergeben. Bis Mittwoch vor Beginn des jeweiligen Online-Seminars können Sie über PH-Online Ihr gebuchtes Online-Seminar selber kostenlos stornieren. Für ein allfälliges Storno zu einem späteren Zeitpunkt wenden Sie sich bitte an: info@virtuelle-ph.at\n		 \n		\n			Die Teilnehmenden werden von einem Tutor/einer Tutorin angeleitet und dabei unterstützt\, neues für ihren Unterricht zu entdecken und ihr Repertoire zu erweitern\, sowie ihre Unterrichtsarbeit – von administrativen über vorbereitende Tätigkeiten bis hin zur Durchführung selbst – mit kostenfreien Onlinetools zu planen\, zu testen und gemeinsam mit den anderen SeminarteilnehmerInnen zu reflektieren.\n		 \n		\n			Internetzugang und Grundwissen im Umgang mit dem Internet und dem Computer\, sowie Aufgeschlossenheit für Neues
URL:https://www.virtuelle-ph.at/veranstaltung/20-tage-20-tools-lassen-sie-das-internet-fuer-sich-arbeiten-42/
CATEGORIES:Online-Programm HerbstWinterprogramm,Online-Seminar
END:VEVENT
BEGIN:VEVENT
DTSTART;VALUE=DATE:20201005
DTEND;VALUE=DATE:20201026
DTSTAMP:20260420T185809
CREATED:20200921T091849Z
LAST-MODIFIED:20201004T033112Z
UID:10003729-1601856000-1603670399@www.virtuelle-ph.at
SUMMARY:20 Tage\, 20 Tools. Lassen Sie das Internet für sich arbeiten!
DESCRIPTION:Zur Anmeldung\n						\n\n						Auf die Lehrkräfte kommt es an! \nDiese simple und sehr verknappte Schlussfolgerung der Hattie-Studie zeigt\, dass die Lehrperson im Zentrum steht: mit ihrer Arbeit steht oder fällt der Lernerfolg von Schüler/innen. \nIm Mittelpunkt modernen Unterrichts und Lerngeschehens stehen somit u.a. folgende Fragen: \n• Wie leitet und steuert die Lehrkraft den Unterricht?\n• Wie kann die Lehrkraft die Schülerinnen und Schüler motivieren?\n• Wie kann die Lehrkraft dazu beitragen\, dass lernförderliche Lernorte und -szenarien entstehen?\n• Wie kann sich die Lehrkraft selbst ständig weiterentwickeln?\n• Wie kann die Lehrkraft auf sich und ihre/seine Zeitressourcen achten?\n… \nVon außen herangetragene Forderungen wie „Kein Kind ohne digitale Kompetenzen“\, d.h. die Vermittlung digitaler Kompetenzen in allen Fächern\, wirken auf den ersten Blick für viele Lehrkräfte als eine weitere Aufgabe\, die ihnen die Arbeit zusätzlich erschwert. \nIm Gegensatz dazu soll dieses Kooperative Online-Seminar Lehrkräfte dabei unterstützen\, Tools für Ihre Tätigkeit kennen zu lernen\, \n• die ihre Arbeit erleichtern\,\n• die Zeit für andere Tätigkeiten freischaufeln\,\n• die sie anschlussfähig für das digitale Zeitalter machen\,\n• die den Unterricht bereichern können\,\n• die Schülerinnen und Schüler motivieren\,\n• die zu gemeinsamem wie individuellem Arbeiten und Lernen anregen\n• uvm. \nwww.virtuelle-ph.at/online-seminare \n\nExpert_in: Sonja DannerAlexander StarzBirgit ZwanowetzSonja Schmid \n\n\n			\n				\n			\n			Teilnahmekriterien & Info\n		 \n		\n			Lernziele\n		 \n		\n			Voraussetzungen\n		\n		 \n		\n			\n				\n					\n			Die Teilnahme an allen im Rahmen des Onlineprogramms angebotenen Online-Seminaren der Virtuellen PH ist für österreichische Lehrkräfte und Studierende eines Lehramts kostenlos. Die Seminarplätze werden nach dem Prinzip first come\, first served – also chronologisch nach dem Zeitpunkt Ihrer Seminarbuchung über PH-Online – vergeben. Bis Mittwoch vor Beginn des jeweiligen Online-Seminars können Sie über PH-Online Ihr gebuchtes Online-Seminar selber kostenlos stornieren. Für ein allfälliges Storno zu einem späteren Zeitpunkt wenden Sie sich bitte an: info@virtuelle-ph.at\n		 \n		\n			Die Teilnehmenden werden von einem Tutor/einer Tutorin angeleitet und dabei unterstützt\, neues für ihren Unterricht zu entdecken und ihr Repertoire zu erweitern\, sowie ihre Unterrichtsarbeit – von administrativen über vorbereitende Tätigkeiten bis hin zur Durchführung selbst – mit kostenfreien Onlinetools zu planen\, zu testen und gemeinsam mit den anderen SeminarteilnehmerInnen zu reflektieren.\n		 \n		\n			Internetzugang und Grundwissen im Umgang mit dem Internet und dem Computer\, sowie Aufgeschlossenheit für Neues
URL:https://www.virtuelle-ph.at/veranstaltung/20-tage-20-tools-lassen-sie-das-internet-fuer-sich-arbeiten-41/
CATEGORIES:Online-Programm HerbstWinterprogramm,Online-Seminar
END:VEVENT
END:VCALENDAR