BEGIN:VCALENDAR
VERSION:2.0
PRODID:-//Virtuelle PH - ECPv6.6.4.2//NONSGML v1.0//EN
CALSCALE:GREGORIAN
METHOD:PUBLISH
X-WR-CALNAME:Virtuelle PH
X-ORIGINAL-URL:https://www.virtuelle-ph.at
X-WR-CALDESC:Veranstaltungen für Virtuelle PH
REFRESH-INTERVAL;VALUE=DURATION:PT1H
X-Robots-Tag:noindex
X-PUBLISHED-TTL:PT1H
BEGIN:VTIMEZONE
TZID:Europe/Vienna
BEGIN:DAYLIGHT
TZOFFSETFROM:+0100
TZOFFSETTO:+0200
TZNAME:CEST
DTSTART:20210328T010000
END:DAYLIGHT
BEGIN:STANDARD
TZOFFSETFROM:+0200
TZOFFSETTO:+0100
TZNAME:CET
DTSTART:20211031T010000
END:STANDARD
END:VTIMEZONE
BEGIN:VEVENT
DTSTART;VALUE=DATE:20211004
DTEND;VALUE=DATE:20211127
DTSTAMP:20260420T060821
CREATED:20210915T033008Z
LAST-MODIFIED:20211003T033020Z
UID:10003560-1633305600-1637971199@www.virtuelle-ph.at
SUMMARY:SIMooc: Das Internet in meinem Unterricht? Aber sicher! #SIMooc
DESCRIPTION:Zur Anmeldung\n						\n\n						Inhalte aus dem Internet dringen immer stärker in den Schulalltag durch. In dem MOOC „Das Internet in meinem Unterricht? Aber sicher!“ geben wir einen Überblick\, welche Möglichkeiten es gibt die Vorteile des Internets zu verwenden und wie man dabei auf der sicheren Seite bleibt. Themen\, die behandelt werden\, sind unter anderem: \n– Wie kann man die eigenen digitalen Arbeitsgeräte sicher machen?\n– Welche digitalen Lebenswelten von Kindern und Jugendlichen lassen sich auch in den Unterricht einbeziehen?\n– Wie sieht es mit dem Urheberrecht oder Datenschutz aus?\n– Wie kommt es zu Phänomenen wie Cyber-Mobbing und Hasspostings?\n– Auf was muss man achten\, wenn man digitale Geräte in der Schule einsetzen möchte?\nEin MOOC gestaltet von Barbara Buchegger\, der pädagogischen Leiterin von Saferinternet.at\, unter Einbindung zahlreicher Expert_innen. \nEine Initiative von Bundesministerium für Bildung\, Wissenschaft und Forschung und Saferinternet.at \nIn Zusammenarbeit mit der Universität Graz und dem NCoC Virtuelle Pädagogische Hochschule \nAblauf: \nDer Kurs gliedert sich in acht jeweils einwöchige Kapitel. Jede Kurseinheit umfasst ein in die Thematik einführendes Video mit theoretischem Input sowie vertiefenden Experten-Videos. Zusätzlich gibt es zahlreiche Lektürehinweise in Form weiterführender Lernressourcen (u.a. Videos\, Dokumente\, Links)\, die eine inhaltliche Vertiefung in die acht Themengebiete bieten. Zudem gibt es nach jedem Kapitel ein Quiz in Form von Multiple Choice Fragen\, welche den Lernfortschritt dokumentieren sollen. \nTeilnahmebestätigung: \nFür die aktive Teilnahme am Kurs erfolgt bei Abschluss die Ausstellung einer automatisierten Teilnahmebestätigung\, welche den Benutzernamen der Teilnehmerinnen und Teilnehmer\, den Kursnamen\, die Kursdauer und den Aufwand beinhaltet. Es wird darauf hingewiesen\, dass es sich nur um eine Bestätigung handelt\, die aussagt\, dass die Benutzerin oder der Benutzer zumindest 75% der gestellten Selbstüberprüfungsfragen richtig beantwortet hat. Um die Teilnahmebestätigung zu erhalten\, müssen alle 8 Self-Assessment-Übungen\, im Kurs als Quiz bezeichnet\, absolviert und dabei jeweils mindestens 75% der maximalen Punktezahl erreicht werden. \nDieser MOOC wird in Kooperation mit der Virtuellen Pädagogischen Hochschule Österreich angeboten. Der SIMooc wird von Trainerinnen und Trainern der Virtuellen Pädagogischen Hochschule begleitet. Diese führen Sie durch die acht Wochen und stehen bei Fragen immer unterstützend zur Seite. \nFür Lehrkräfte und Lehramtsstudierende in Österreich gibt es die Möglichkeit\, eine Fortbildungsbestätigung über insgesamt 12 Unterrichtseinheiten zu erhalten. Hierfür ist das MOOC-Zertifikat/die Teilnahmebestätigung per Mail an info@virtuelle-ph.at zu schicken. \nZum Start und zur Anmeldung hier: imoox.at/course/simooc2021 \n\n[Reihe: SIMOOC] \n\nExpert_in: Stefan Dreisiebner\, Angela Kohl \n\n\n			\n				\n			\n			Teilnahmekriterien & Info\n		 \n		\n			Lernziele\n		 \n		\n			Voraussetzungen\n		\n		 \n		\n			\n				\n					\n			Zum Start und zur Anmeldung hier: imoox.at/course/simooc2021\n		 \n		\n			# Ich habe die digitalen Lebenswelten von Kindern und Jugendlichen kennengelernt.\n# Ich kann sicheres Verhalten rund um Computer und Internet einschätzen und gestalten.\n# Ich weiß\, wie ich richtig im Internet kommuniziere.\n# Ich kann Quellen aus dem Internet beurteilen.\n# Ich weiß\, welche digitalen Geräte wie in der Schule eingesetzt werden können.\n# Ich kenne die wichtigsten Punkte rund um Urheberrecht und kann es für meinen Unterricht anwenden.\n# Ich kenne die wichtigsten Punkte rund um Datenschutz und kann mich im schulischen Umfeld entsprechend verhalten.\n# Ich weiß wie ich mit Verunglimpfung im Netz / Cyber-Mobbing / Hasspostings umgehe.\n		 \n		\n			Dieser Kurs richtet sich vor allem an alle Lehrerinnen und Lehrer\, insbesondere der Primarstufe und der Sekundarstufe\, sowie an Lehramts-Studierende\, welche das Internet im Unterricht einsetzen und mit digitalen Medien unterrichten wollen. Vorkenntnisse sind hilfreich\, aber nicht notwendig. \nGrundwissen im Umgang mit dem Internet und der Installation von Programmen auf dem eigenen Computer.
URL:https://www.virtuelle-ph.at/veranstaltung/simooc-das-internet-in-meinem-unterricht-aber-sicher-simooc/
CATEGORIES:MOOC SIMooc,Online-Seminar
END:VEVENT
END:VCALENDAR