BEGIN:VCALENDAR
VERSION:2.0
PRODID:-//Virtuelle PH - ECPv6.6.4.2//NONSGML v1.0//EN
CALSCALE:GREGORIAN
METHOD:PUBLISH
X-ORIGINAL-URL:https://www.virtuelle-ph.at
X-WR-CALDESC:Veranstaltungen für Virtuelle PH
REFRESH-INTERVAL;VALUE=DURATION:PT1H
X-Robots-Tag:noindex
X-PUBLISHED-TTL:PT1H
BEGIN:VTIMEZONE
TZID:Europe/Berlin
BEGIN:DAYLIGHT
TZOFFSETFROM:+0100
TZOFFSETTO:+0200
TZNAME:CEST
DTSTART:20190331T010000
END:DAYLIGHT
BEGIN:STANDARD
TZOFFSETFROM:+0200
TZOFFSETTO:+0100
TZNAME:CET
DTSTART:20191027T010000
END:STANDARD
END:VTIMEZONE
BEGIN:VEVENT
DTSTART;TZID=Europe/Berlin:20190612T180000
DTEND;TZID=Europe/Berlin:20190612T190000
DTSTAMP:20260420T173655
CREATED:20190410T115520Z
LAST-MODIFIED:20201015T083438Z
UID:10003141-1560362400-1560366000@www.virtuelle-ph.at
SUMMARY:eLecture: Unterstützte Kommunikation im inklusiven Unterricht
DESCRIPTION:zur Aufzeichnung\n\n\n						Barrierefreiheit ist ein wesentliches Kriterium der UN-Behindertenrechtskonvention\, demnach gilt es\, den Blick allerdings nicht nur auf Barrieren im baulichen Sinne zu richten. Denn vor allem die Kommunikation im schulischen Kontext stellt\, speziell für Schüler*innen mit Beeinträchtigung\, eine große Hürde im gesamt Partizipationsprozess dar. Aus diesem Grunde ist die Auseinandersetzung mit Unterstüützter Kommunikation für das Gelingen schulischer Inklusion ein wesentlicher Baustein. In dieser eLecture werden Grundlagen der Unterstützten Kommunikation vermittelt\, es wird darüber gesprochen\, welche Rolle eine Lehrperson in Bezug auf Unterstützte Kommunikation einnimmt und wie eine mögliche Umsetzungsstrategie aussehen kann. Dazu wird ein detaillierter Blick auf das Partizipationsmodell von Beukeman & Mirenda gerichtet. \n————————————- \nBei dieser eLecture handelt es sich um ein begleitetes OTA Praktikum. Mehr zur OTA unter www.virtuelle-ph.at/ota \nCoModeration: Daniel Handle-Pfeiffer \n\n			\n				\n			\n			Teilnahmekriterien & Info\n		 \n		\n			Lernziele\n		 \n		\n			Voraussetzungen\n		\n		 \n		\n			\n				\n					\n			Technische Voraussetzungen: Grundlegende Computerkenntnisse\, gute Internetverbindung; optional: Headset. \nSo treten Sie der eLecture im virtuellen Lernraum bei:  \n1. Rufen Sie 10 min vor Terminstart folgende Seite auf:  \nvph.adobeconnect.com/drei/ \n2. Geben Sie bitte Ihren Vor- und Nachnamen ein und „Betreten Sie den Raum“ mit Klick auf den Button. \n3. Folgen Sie den Anweisungen auf dem Bildschirm. Sie werden in Kürze eingelassen. \nWenn Sie noch an keiner eLecture teilgenommen haben\, finden Sie alle Infos zum Einstieg unter: www.virtuelle-ph.at/electures/#einstieg \nDie Teilnahme an allen eLectures der Virtuellen PH ist für österreichische Lehrkräfte und Studierende eines Lehramts kostenlos.\n		 \n		\n			Ich kann unterschiedliche Formen von Unterstützter Kommunikation aufzählen und benennen. \nIch kann die Rolle der Lehrperson im inklusiven Unterricht in Bezug auf Unterstützte Kommunikation erläutern. \nIch kann das Partizipationsmodell nach Beukelman & Mirenda erklären und anwenden. \nIch kann den Einsatz von Unterstützter Kommunikation mit Hilfe des Partizipationsmodells nach Beukelman & Mirenda planen und konzipieren.
URL:https://www.virtuelle-ph.at/veranstaltung/electure-unterstuetzte-kommunikation-im-inklusiven-unterricht/
CATEGORIES:eLecture
END:VEVENT
END:VCALENDAR