BEGIN:VCALENDAR
VERSION:2.0
PRODID:-//Virtuelle PH - ECPv6.6.4.2//NONSGML v1.0//EN
CALSCALE:GREGORIAN
METHOD:PUBLISH
X-WR-CALNAME:Virtuelle PH
X-ORIGINAL-URL:https://www.virtuelle-ph.at
X-WR-CALDESC:Veranstaltungen für Virtuelle PH
REFRESH-INTERVAL;VALUE=DURATION:PT1H
X-Robots-Tag:noindex
X-PUBLISHED-TTL:PT1H
BEGIN:VTIMEZONE
TZID:Europe/Berlin
BEGIN:DAYLIGHT
TZOFFSETFROM:+0100
TZOFFSETTO:+0200
TZNAME:CEST
DTSTART:20200329T010000
END:DAYLIGHT
BEGIN:STANDARD
TZOFFSETFROM:+0200
TZOFFSETTO:+0100
TZNAME:CET
DTSTART:20201025T010000
END:STANDARD
END:VTIMEZONE
BEGIN:VEVENT
DTSTART;TZID=Europe/Berlin:20200325T173000
DTEND;TZID=Europe/Berlin:20200325T180000
DTSTAMP:20260419T225952
CREATED:20200210T102243Z
LAST-MODIFIED:20200326T081259Z
UID:10003255-1585157400-1585159200@www.virtuelle-ph.at
SUMMARY:eLecture digiPH3: Getting started – eigene Lehrvideos gestalten
DESCRIPTION:zur Aufzeichnung\n\n\n						Gut aufbereitete Lehr- und Lernvideos stellen einen nachhaltigen Beitrag zur Gestaltung von Lehr- und Lernprozessen dar\, der über viele Jahre im selbstgesteuerten Lernen von Studierenden eingebunden werden kann. Um adäquates fachlich und didaktisch abgestimmtes Lehr- und Lernmaterial mit angemessenem Ressourcenaufwand zu ermöglichen ist es für Hochschulen und fachliche ExpertInnen ein sinnvoller Weg\, selbst Lehr- und Lernvideos zu produzieren.  \n\nDieser Beitrag soll eine Übersicht über Qualitätsmerkmale guter Lehr- und Lernvideos und hands-on-Einstieg in die Produktion dieser bieten. Im Zuge der intensiven Beschäftigung mit Lehr- und Lernvideos an der Fachhochschule Technikum Wien wurde durch Gerd Krizek ein eLearning-Labor zur Produktion von Lernvideos aufgebaut. In diesem Rahmen wurden durch die Vortragenden verschiedene Schulungsformate entwickelt\, um Lehrende als Expert*innen ihrer Fächer Berührungsängste mit der Kamera zu nehmen und eine qualitativ hochwertige Produktion von Lehr- und Lernvideos zu ermöglichen.   \n\nDieser Beitrag richtet sich an Lehrende\, welche sich grundsätzlich für das Thema der Produktion eigener Lehr- und Lernvideos interessieren und noch keine bis wenig praktische Erfahrung in diesem Bereich gesammelt haben.  \nCoModeration: Daniel Handle-Pfeiffer \n\n			\n				\n			\n			Teilnahmekriterien & Info\n		 \n		\n			Lernziele\n		 \n		\n			Voraussetzungen\n		\n		 \n		\n			\n				\n					\n			Technische Voraussetzungen: Grundlegende Computerkenntnisse\, gute Internetverbindung; optional: Headset.  \nSo treten Sie der eLecture im virtuellen Lernraum bei:  \n1. Rufen Sie 10 min vor Terminstart folgende Seite auf:  \nvph.adobeconnect.com/digiph3/ \n2. Geben Sie bitte Ihren Vor- und Nachnamen ein und „Betreten Sie den Raum“ mit Klick auf den Button. \n3. Folgen Sie den Anweisungen auf dem Bildschirm. Sie werden in Kürze eingelassen. \nWenn Sie noch an keiner eLecture teilgenommen haben\, finden Sie alle Infos zum Einstieg unter: www.virtuelle-ph.at/electures/#einstieg \nDie Teilnahme an allen eLectures der Virtuellen PH ist für österreichische Lehrkräfte und Studierende eines Lehramts kostenlos.\n		 \n		\n			Basiswissen und Verständnis was gute Lehr- und Lernvideos ausmacht. Orientierung zur Anwendung dieses Wissens.
URL:https://www.virtuelle-ph.at/veranstaltung/electure-digiph3-getting-started-eigene-lehrvideos-gestalten/
CATEGORIES:eLecture,Online-Tagung digiPH3 EL
ATTACH;FMTTYPE=image/png:https://www.virtuelle-ph.at/wp-content/uploads/2020/02/Lietze-digiph3-fb.png
END:VEVENT
END:VCALENDAR