BEGIN:VCALENDAR
VERSION:2.0
PRODID:-//Virtuelle PH - ECPv6.6.4.2//NONSGML v1.0//EN
CALSCALE:GREGORIAN
METHOD:PUBLISH
X-ORIGINAL-URL:https://www.virtuelle-ph.at
X-WR-CALDESC:Veranstaltungen für Virtuelle PH
REFRESH-INTERVAL;VALUE=DURATION:PT1H
X-Robots-Tag:noindex
X-PUBLISHED-TTL:PT1H
BEGIN:VTIMEZONE
TZID:Europe/Berlin
BEGIN:DAYLIGHT
TZOFFSETFROM:+0100
TZOFFSETTO:+0200
TZNAME:CEST
DTSTART:20160327T010000
END:DAYLIGHT
BEGIN:STANDARD
TZOFFSETFROM:+0200
TZOFFSETTO:+0100
TZNAME:CET
DTSTART:20161030T010000
END:STANDARD
BEGIN:DAYLIGHT
TZOFFSETFROM:+0100
TZOFFSETTO:+0200
TZNAME:CEST
DTSTART:20170326T010000
END:DAYLIGHT
BEGIN:STANDARD
TZOFFSETFROM:+0200
TZOFFSETTO:+0100
TZNAME:CET
DTSTART:20171029T010000
END:STANDARD
END:VTIMEZONE
BEGIN:VEVENT
DTSTART;VALUE=DATE:20170424
DTEND;VALUE=DATE:20170515
DTSTAMP:20260420T095209
CREATED:20170420T033146Z
LAST-MODIFIED:20170423T033123Z
UID:10002523-1492992000-1494806399@www.virtuelle-ph.at
SUMMARY:In the Cloud  – Gemeinsam online arbeiten
DESCRIPTION:Schon seit einigen Jahren nutzen immer mehr Internet-Nutzer_innen die „Cloud“\, die „Datenwolke“ im Internet\, in die wir Dokumente oder Fotos abspeichern\, um sie dann von einem anderen Gerät aus aufzurufen oder mit Freunden und Kolleg_innen zu teilen.\nAuch in der Schule haben Cloud-Anwendungen wie „Dropbox“\, „Google Docs“ oder „Flickr“ längst Einzug gehalten – sei es\, um Arbeitsprozesse mit Kolleg_innen zu vereinfachen oder um Lehr-/Lernszenarien mit Schüler_innen zu realisieren. \nIn diesem dreiwöchigen kooperativen Online-Seminar erhalten Sie Einblicke in die „Cloud“ aus unterschiedlichen Perspektiven: \n• Sie erfahren\, welche Vorteile die Arbeit mit der Datenwolke bietet\, diskutieren aber auch mögliche Nachteile bzw. Gefahren – speziell im Schulkontext. \n• Sie untersuchen verschiedene methodische Zugänge und didaktische Szenarien\, die sich cloudbasierte Anwendungen zunutze machen und lernen innovative Projekte kennen\, die ohne die Datenwolke gar nicht denkbar wären.\n• Schließlich erarbeiten Sie Ihr eigenes Lehr-/Lernszenario unter Nutzung von cloudbasierten Diensten – maßgeschneidert für eine konkrete Schüler_innengruppe\, unterstützt von Ihren Kolleg_innen im Seminar und Ihrem Tutor / Ihrer Tutorin. \nBegeben Sie sich mit uns auf einen anregenden Flug in die Datenwolke und erleben Sie selbst\, warum die Freiheit dort oben wohl grenzenlos ist… \nwww.virtuelle-ph.at/online-seminare \n\n			\n				\n			\n			Teilnahmekriterien & Info\n		 \n		\n			Lernziele\n		 \n		\n			Voraussetzungen\n		\n		 \n		\n			\n				\n					\n			Die Teilnahme an allen im Rahmen des Online-Programms angebotenen Online-Seminaren der Virtuellen PH ist für österreichische Lehrkräfte und Studierende eines Lehramts kostenlos. Die Seminarplätze werden nach dem Prinzip first come\, first served – also chronologisch nach dem Zeitpunkt Ihrer Seminarbuchung über PH-Online – vergeben. Bis Mittwoch vor Beginn des jeweiligen Online-Seminars können Sie über PH-Online Ihr gebuchtes Online-Seminar selber kostenlos stornieren. Für ein allfälliges Storno zu einem späteren Zeitpunkt wenden Sie sich bitte an: info@virtuelle-ph.at\n		 \n		\n			Die Möglichkeiten des Arbeitens mit Coud-Programmen im Unterricht und im Alltag kennenlernen sowie Potentiale und Gefahren erkennen können.\n		 \n		\n			Grundwissen im Umgang mit dem Internet
URL:https://www.virtuelle-ph.at/veranstaltung/in-the-cloud-gemeinsam-online-arbeiten-4/
CATEGORIES:Online-Programm Frühjahrsprogramm,Online-Seminar
END:VEVENT
BEGIN:VEVENT
DTSTART;VALUE=DATE:20170424
DTEND;VALUE=DATE:20170515
DTSTAMP:20260420T095209
CREATED:20170227T152504Z
LAST-MODIFIED:20170423T033139Z
UID:10002469-1492992000-1494806399@www.virtuelle-ph.at
SUMMARY:In the Cloud  – Gemeinsam online arbeiten
DESCRIPTION:Schon seit einigen Jahren nutzen immer mehr Internet-Nutzer_innen die „Cloud“\, die „Datenwolke“ im Internet\, in die wir Dokumente oder Fotos abspeichern\, um sie dann von einem anderen Gerät aus aufzurufen oder mit Freunden und Kolleg_innen zu teilen.\nAuch in der Schule haben Cloud-Anwendungen wie „Dropbox“\, „Google Docs“ oder „Flickr“ längst Einzug gehalten – sei es\, um Arbeitsprozesse mit Kolleg_innen zu vereinfachen oder um Lehr-/Lernszenarien mit Schüler_innen zu realisieren. \nIn diesem dreiwöchigen kooperativen Online-Seminar erhalten Sie Einblicke in die „Cloud“ aus unterschiedlichen Perspektiven: \n• Sie erfahren\, welche Vorteile die Arbeit mit der Datenwolke bietet\, diskutieren aber auch mögliche Nachteile bzw. Gefahren – speziell im Schulkontext. \n• Sie untersuchen verschiedene methodische Zugänge und didaktische Szenarien\, die sich cloudbasierte Anwendungen zunutze machen und lernen innovative Projekte kennen\, die ohne die Datenwolke gar nicht denkbar wären.\n• Schließlich erarbeiten Sie Ihr eigenes Lehr-/Lernszenario unter Nutzung von cloudbasierten Diensten – maßgeschneidert für eine konkrete Schüler_innengruppe\, unterstützt von Ihren Kolleg_innen im Seminar und Ihrem Tutor / Ihrer Tutorin. \nBegeben Sie sich mit uns auf einen anregenden Flug in die Datenwolke und erleben Sie selbst\, warum die Freiheit dort oben wohl grenzenlos ist… \nwww.virtuelle-ph.at/online-seminare \n\n			\n				\n			\n			Teilnahmekriterien & Info\n		 \n		\n			Lernziele\n		 \n		\n			Voraussetzungen\n		\n		 \n		\n			\n				\n					\n			Die Teilnahme an allen im Rahmen des Online-Programms angebotenen Online-Seminaren der Virtuellen PH ist für österreichische Lehrkräfte und Studierende eines Lehramts kostenlos. Die Seminarplätze werden nach dem Prinzip first come\, first served – also chronologisch nach dem Zeitpunkt Ihrer Seminarbuchung über PH-Online – vergeben. Bis Mittwoch vor Beginn des jeweiligen Online-Seminars können Sie über PH-Online Ihr gebuchtes Online-Seminar selber kostenlos stornieren. Für ein allfälliges Storno zu einem späteren Zeitpunkt wenden Sie sich bitte an: info@virtuelle-ph.at\n		 \n		\n			Die Möglichkeiten des Arbeitens mit Coud-Programmen im Unterricht und im Alltag kennenlernen sowie Potentiale und Gefahren erkennen können.\n		 \n		\n			Grundwissen im Umgang mit dem Internet
URL:https://www.virtuelle-ph.at/veranstaltung/in-the-cloud-gemeinsam-online-arbeiten-3/
CATEGORIES:Online-Programm Frühjahrsprogramm,Online-Seminar
END:VEVENT
BEGIN:VEVENT
DTSTART;VALUE=DATE:20160613
DTEND;VALUE=DATE:20160704
DTSTAMP:20260420T095209
CREATED:20160608T033628Z
LAST-MODIFIED:20160612T033454Z
UID:10002305-1465776000-1467590399@www.virtuelle-ph.at
SUMMARY:20 Tage\, 20 Tools. Lass das Internet für dich arbeiten!
DESCRIPTION:Auf die Lehrkräfte kommt es an!  \nDiese simple und sehr verknappte Schlussfolgerung der Hattie-Studie zeigt\, dass die Lehrperson im Zentrum steht: mit ihrer Arbeit steht oder fällt der Lernerfolg von Schüler/innen. \nIm Mittelpunkt modernen Unterrichts und Lerngeschehens stehen somit u.a. folgende  Fragen: \n•	Wie leitet und steuert die Lehrkraft den Unterricht?\n•	Wie kann die Lehrkraft die Schülerinnen und Schüler motivieren?\n•	Wie kann die Lehrkraft dazu beitragen\, dass lernförderliche Lernorte und -szenarien entstehen?\n•	Wie kann sich die Lehrkraft selbst ständig weiterentwickeln?\n•	Wie kann die Lehrkraft auf sich und ihre/seine Zeitressourcen achten?\n … \nVon außen herangetragene Forderungen wie „Kein Kind ohne digitale Kompetenzen“\, d.h. die Vermittlung digitaler Kompetenzen in allen Fächern\, wirken auf den ersten Blick für viele Lehrkräfte als eine weitere Aufgabe\, die ihnen die Arbeit zusätzlich erschwert.  \nIm Gegensatz dazu soll dieses Kooperative Online-Seminar Lehrkräfte dabei unterstützen\, Tools für Ihre Tätigkeit kennen zu lernen\, \n•	die ihre Arbeit erleichtern\,\n•	die Zeit für andere Tätigkeiten freischaufeln\,\n•	die sie anschlussfähig für das digitale Zeitalter machen\,\n•	die den Unterricht bereichern können\,\n•	die Schülerinnen und Schüler motivieren\,\n•	die zu gemeinsamem wie individuellem Arbeiten und Lernen anregen\n•	uvm. \n\n			\n				\n			\n			Teilnahmekriterien & Info\n		 \n		\n			Lernziele\n		 \n		\n			Voraussetzungen\n		\n		 \n		\n			\n				\n					\n			Die Teilnahme an allen im Rahmen des Online-Programms angebotenen Online-Seminaren der Virtuellen PH ist für österreichische Lehrkräfte und Studierende eines Lehramts kostenlos. Die Seminarplätze werden nach dem Prinzip first come\, first served – also chronologisch nach dem Zeitpunkt Ihrer Seminarbuchung über PH-Online – vergeben. Bis Mittwoch vor Beginn des jeweiligen Online-Seminars können Sie über PH-Online Ihr gebuchtes Online-Seminar selber kostenlos stornieren. Für ein allfälliges Storno zu einem späteren Zeitpunkt wenden Sie sich bitte an: info@virtuelle-ph.at\n		 \n		\n			Die Teilnehmenden werden von einem Tutor/einer Tutorin angeleitet und dabei unterstützt\, neues für ihren Unterricht zu entdecken und ihr Repertoire zu erweitern\, sowie ihre Unterrichtsarbeit – von administrativen über vorbereitende Tätigkeiten bis hin zur Durchführung selbst – mit kostenfreien Onlinetools zu planen\, zu testen und gemeinsam mit den anderen SeminarteilnehmerInnen zu reflektieren. \nDie Seminarteilnehmenden werden zudem angeregt\, häufiger digitale Geräte (vom Computer bis hin zum Smartphone) schul- und unterrichtswirksam einzusetzen. Sie erhalten neue Impulse und steigern die eigenen digitalen Kompetenzen\, sowie ihre Fähigkeiten in der Vermittlung an die SchülerInnen.\n		 \n		\n			Internetzugang und Grundwissen im Umgang mit dem Internet und dem Computer\, sowie Aufgeschlossenheit für Neues
URL:https://www.virtuelle-ph.at/veranstaltung/20-tage-20-tools-lass-das-internet-fuer-dich-arbeiten-9/
CATEGORIES:Online-Programm Sommerprogramm,Online-Seminar
END:VEVENT
BEGIN:VEVENT
DTSTART;VALUE=DATE:20160613
DTEND;VALUE=DATE:20160704
DTSTAMP:20260420T095209
CREATED:20160607T033414Z
LAST-MODIFIED:20160612T033520Z
UID:10002304-1465776000-1467590399@www.virtuelle-ph.at
SUMMARY:20 Tage\, 20 Tools. Lass das Internet für dich arbeiten!
DESCRIPTION:Auf die Lehrkräfte kommt es an!  \nDiese simple und sehr verknappte Schlussfolgerung der Hattie-Studie zeigt\, dass die Lehrperson im Zentrum steht: mit ihrer Arbeit steht oder fällt der Lernerfolg von Schüler/innen. \nIm Mittelpunkt modernen Unterrichts und Lerngeschehens stehen somit u.a. folgende  Fragen: \n•	Wie leitet und steuert die Lehrkraft den Unterricht?\n•	Wie kann die Lehrkraft die Schülerinnen und Schüler motivieren?\n•	Wie kann die Lehrkraft dazu beitragen\, dass lernförderliche Lernorte und -szenarien entstehen?\n•	Wie kann sich die Lehrkraft selbst ständig weiterentwickeln?\n•	Wie kann die Lehrkraft auf sich und ihre/seine Zeitressourcen achten?\n … \nVon außen herangetragene Forderungen wie „Kein Kind ohne digitale Kompetenzen“\, d.h. die Vermittlung digitaler Kompetenzen in allen Fächern\, wirken auf den ersten Blick für viele Lehrkräfte als eine weitere Aufgabe\, die ihnen die Arbeit zusätzlich erschwert.  \nIm Gegensatz dazu soll dieses Kooperative Online-Seminar Lehrkräfte dabei unterstützen\, Tools für Ihre Tätigkeit kennen zu lernen\, \n•	die ihre Arbeit erleichtern\,\n•	die Zeit für andere Tätigkeiten freischaufeln\,\n•	die sie anschlussfähig für das digitale Zeitalter machen\,\n•	die den Unterricht bereichern können\,\n•	die Schülerinnen und Schüler motivieren\,\n•	die zu gemeinsamem wie individuellem Arbeiten und Lernen anregen\n•	uvm. \n\n			\n				\n			\n			Teilnahmekriterien & Info\n		 \n		\n			Lernziele\n		 \n		\n			Voraussetzungen\n		\n		 \n		\n			\n				\n					\n			Die Teilnahme an allen im Rahmen des Online-Programms angebotenen Online-Seminaren der Virtuellen PH ist für österreichische Lehrkräfte und Studierende eines Lehramts kostenlos. Die Seminarplätze werden nach dem Prinzip first come\, first served – also chronologisch nach dem Zeitpunkt Ihrer Seminarbuchung über PH-Online – vergeben. Bis Mittwoch vor Beginn des jeweiligen Online-Seminars können Sie über PH-Online Ihr gebuchtes Online-Seminar selber kostenlos stornieren. Für ein allfälliges Storno zu einem späteren Zeitpunkt wenden Sie sich bitte an: info@virtuelle-ph.at\n		 \n		\n			Die Teilnehmenden werden von einem Tutor/einer Tutorin angeleitet und dabei unterstützt\, neues für ihren Unterricht zu entdecken und ihr Repertoire zu erweitern\, sowie ihre Unterrichtsarbeit – von administrativen über vorbereitende Tätigkeiten bis hin zur Durchführung selbst – mit kostenfreien Onlinetools zu planen\, zu testen und gemeinsam mit den anderen SeminarteilnehmerInnen zu reflektieren. \nDie Seminarteilnehmenden werden zudem angeregt\, häufiger digitale Geräte (vom Computer bis hin zum Smartphone) schul- und unterrichtswirksam einzusetzen. Sie erhalten neue Impulse und steigern die eigenen digitalen Kompetenzen\, sowie ihre Fähigkeiten in der Vermittlung an die SchülerInnen.\n		 \n		\n			Internetzugang und Grundwissen im Umgang mit dem Internet und dem Computer\, sowie Aufgeschlossenheit für Neues
URL:https://www.virtuelle-ph.at/veranstaltung/20-tage-20-tools-lass-das-internet-fuer-dich-arbeiten-8/
CATEGORIES:Online-Programm Sommerprogramm,Online-Seminar
END:VEVENT
BEGIN:VEVENT
DTSTART;VALUE=DATE:20160613
DTEND;VALUE=DATE:20160704
DTSTAMP:20260420T095209
CREATED:20160607T033408Z
LAST-MODIFIED:20160612T033514Z
UID:10002303-1465776000-1467590399@www.virtuelle-ph.at
SUMMARY:20 Tage\, 20 Tools. Lass das Internet für dich arbeiten!
DESCRIPTION:Auf die Lehrkräfte kommt es an!  \nDiese simple und sehr verknappte Schlussfolgerung der Hattie-Studie zeigt\, dass die Lehrperson im Zentrum steht: mit ihrer Arbeit steht oder fällt der Lernerfolg von Schüler/innen. \nIm Mittelpunkt modernen Unterrichts und Lerngeschehens stehen somit u.a. folgende  Fragen: \n•	Wie leitet und steuert die Lehrkraft den Unterricht?\n•	Wie kann die Lehrkraft die Schülerinnen und Schüler motivieren?\n•	Wie kann die Lehrkraft dazu beitragen\, dass lernförderliche Lernorte und -szenarien entstehen?\n•	Wie kann sich die Lehrkraft selbst ständig weiterentwickeln?\n•	Wie kann die Lehrkraft auf sich und ihre/seine Zeitressourcen achten?\n … \nVon außen herangetragene Forderungen wie „Kein Kind ohne digitale Kompetenzen“\, d.h. die Vermittlung digitaler Kompetenzen in allen Fächern\, wirken auf den ersten Blick für viele Lehrkräfte als eine weitere Aufgabe\, die ihnen die Arbeit zusätzlich erschwert.  \nIm Gegensatz dazu soll dieses Kooperative Online-Seminar Lehrkräfte dabei unterstützen\, Tools für Ihre Tätigkeit kennen zu lernen\, \n•	die ihre Arbeit erleichtern\,\n•	die Zeit für andere Tätigkeiten freischaufeln\,\n•	die sie anschlussfähig für das digitale Zeitalter machen\,\n•	die den Unterricht bereichern können\,\n•	die Schülerinnen und Schüler motivieren\,\n•	die zu gemeinsamem wie individuellem Arbeiten und Lernen anregen\n•	uvm. \n\n			\n				\n			\n			Teilnahmekriterien & Info\n		 \n		\n			Lernziele\n		 \n		\n			Voraussetzungen\n		\n		 \n		\n			\n				\n					\n			Die Teilnahme an allen im Rahmen des Online-Programms angebotenen Online-Seminaren der Virtuellen PH ist für österreichische Lehrkräfte und Studierende eines Lehramts kostenlos. Die Seminarplätze werden nach dem Prinzip first come\, first served – also chronologisch nach dem Zeitpunkt Ihrer Seminarbuchung über PH-Online – vergeben. Bis Mittwoch vor Beginn des jeweiligen Online-Seminars können Sie über PH-Online Ihr gebuchtes Online-Seminar selber kostenlos stornieren. Für ein allfälliges Storno zu einem späteren Zeitpunkt wenden Sie sich bitte an: info@virtuelle-ph.at\n		 \n		\n			Die Teilnehmenden werden von einem Tutor/einer Tutorin angeleitet und dabei unterstützt\, neues für ihren Unterricht zu entdecken und ihr Repertoire zu erweitern\, sowie ihre Unterrichtsarbeit – von administrativen über vorbereitende Tätigkeiten bis hin zur Durchführung selbst – mit kostenfreien Onlinetools zu planen\, zu testen und gemeinsam mit den anderen SeminarteilnehmerInnen zu reflektieren. \nDie Seminarteilnehmenden werden zudem angeregt\, häufiger digitale Geräte (vom Computer bis hin zum Smartphone) schul- und unterrichtswirksam einzusetzen. Sie erhalten neue Impulse und steigern die eigenen digitalen Kompetenzen\, sowie ihre Fähigkeiten in der Vermittlung an die SchülerInnen.\n		 \n		\n			Internetzugang und Grundwissen im Umgang mit dem Internet und dem Computer\, sowie Aufgeschlossenheit für Neues
URL:https://www.virtuelle-ph.at/veranstaltung/20-tage-20-tools-lass-das-internet-fuer-dich-arbeiten-7/
CATEGORIES:Online-Programm Sommerprogramm,Online-Seminar
END:VEVENT
BEGIN:VEVENT
DTSTART;VALUE=DATE:20160613
DTEND;VALUE=DATE:20160704
DTSTAMP:20260420T095210
CREATED:20160607T033401Z
LAST-MODIFIED:20160612T033507Z
UID:10002302-1465776000-1467590399@www.virtuelle-ph.at
SUMMARY:20 Tage\, 20 Tools. Lass das Internet für dich arbeiten!
DESCRIPTION:Auf die Lehrkräfte kommt es an!  \nDiese simple und sehr verknappte Schlussfolgerung der Hattie-Studie zeigt\, dass die Lehrperson im Zentrum steht: mit ihrer Arbeit steht oder fällt der Lernerfolg von Schüler/innen. \nIm Mittelpunkt modernen Unterrichts und Lerngeschehens stehen somit u.a. folgende  Fragen: \n•	Wie leitet und steuert die Lehrkraft den Unterricht?\n•	Wie kann die Lehrkraft die Schülerinnen und Schüler motivieren?\n•	Wie kann die Lehrkraft dazu beitragen\, dass lernförderliche Lernorte und -szenarien entstehen?\n•	Wie kann sich die Lehrkraft selbst ständig weiterentwickeln?\n•	Wie kann die Lehrkraft auf sich und ihre/seine Zeitressourcen achten?\n … \nVon außen herangetragene Forderungen wie „Kein Kind ohne digitale Kompetenzen“\, d.h. die Vermittlung digitaler Kompetenzen in allen Fächern\, wirken auf den ersten Blick für viele Lehrkräfte als eine weitere Aufgabe\, die ihnen die Arbeit zusätzlich erschwert.  \nIm Gegensatz dazu soll dieses Kooperative Online-Seminar Lehrkräfte dabei unterstützen\, Tools für Ihre Tätigkeit kennen zu lernen\, \n•	die ihre Arbeit erleichtern\,\n•	die Zeit für andere Tätigkeiten freischaufeln\,\n•	die sie anschlussfähig für das digitale Zeitalter machen\,\n•	die den Unterricht bereichern können\,\n•	die Schülerinnen und Schüler motivieren\,\n•	die zu gemeinsamem wie individuellem Arbeiten und Lernen anregen\n•	uvm. \n\n			\n				\n			\n			Teilnahmekriterien & Info\n		 \n		\n			Lernziele\n		 \n		\n			Voraussetzungen\n		\n		 \n		\n			\n				\n					\n			Die Teilnahme an allen im Rahmen des Online-Programms angebotenen Online-Seminaren der Virtuellen PH ist für österreichische Lehrkräfte und Studierende eines Lehramts kostenlos. Die Seminarplätze werden nach dem Prinzip first come\, first served – also chronologisch nach dem Zeitpunkt Ihrer Seminarbuchung über PH-Online – vergeben. Bis Mittwoch vor Beginn des jeweiligen Online-Seminars können Sie über PH-Online Ihr gebuchtes Online-Seminar selber kostenlos stornieren. Für ein allfälliges Storno zu einem späteren Zeitpunkt wenden Sie sich bitte an: info@virtuelle-ph.at\n		 \n		\n			Die Teilnehmenden werden von einem Tutor/einer Tutorin angeleitet und dabei unterstützt\, neues für ihren Unterricht zu entdecken und ihr Repertoire zu erweitern\, sowie ihre Unterrichtsarbeit – von administrativen über vorbereitende Tätigkeiten bis hin zur Durchführung selbst – mit kostenfreien Onlinetools zu planen\, zu testen und gemeinsam mit den anderen SeminarteilnehmerInnen zu reflektieren. \nDie Seminarteilnehmenden werden zudem angeregt\, häufiger digitale Geräte (vom Computer bis hin zum Smartphone) schul- und unterrichtswirksam einzusetzen. Sie erhalten neue Impulse und steigern die eigenen digitalen Kompetenzen\, sowie ihre Fähigkeiten in der Vermittlung an die SchülerInnen.\n		 \n		\n			Internetzugang und Grundwissen im Umgang mit dem Internet und dem Computer\, sowie Aufgeschlossenheit für Neues
URL:https://www.virtuelle-ph.at/veranstaltung/20-tage-20-tools-lass-das-internet-fuer-dich-arbeiten-6/
CATEGORIES:Online-Programm Sommerprogramm,Online-Seminar
END:VEVENT
BEGIN:VEVENT
DTSTART;VALUE=DATE:20160613
DTEND;VALUE=DATE:20160704
DTSTAMP:20260420T095210
CREATED:20160509T124407Z
LAST-MODIFIED:20160612T033500Z
UID:10002257-1465776000-1467590399@www.virtuelle-ph.at
SUMMARY:20 Tage\, 20 Tools. Lass das Internet für dich arbeiten!
DESCRIPTION:Auf die Lehrkräfte kommt es an!  \nDiese simple und sehr verknappte Schlussfolgerung der Hattie-Studie zeigt\, dass die Lehrperson im Zentrum steht: mit ihrer Arbeit steht oder fällt der Lernerfolg von Schüler/innen. \nIm Mittelpunkt modernen Unterrichts und Lerngeschehens stehen somit u.a. folgende  Fragen: \n•	Wie leitet und steuert die Lehrkraft den Unterricht?\n•	Wie kann die Lehrkraft die Schülerinnen und Schüler motivieren?\n•	Wie kann die Lehrkraft dazu beitragen\, dass lernförderliche Lernorte und -szenarien entstehen?\n•	Wie kann sich die Lehrkraft selbst ständig weiterentwickeln?\n•	Wie kann die Lehrkraft auf sich und ihre/seine Zeitressourcen achten?\n … \nVon außen herangetragene Forderungen wie „Kein Kind ohne digitale Kompetenzen“\, d.h. die Vermittlung digitaler Kompetenzen in allen Fächern\, wirken auf den ersten Blick für viele Lehrkräfte als eine weitere Aufgabe\, die ihnen die Arbeit zusätzlich erschwert.  \nIm Gegensatz dazu soll dieses Kooperative Online-Seminar Lehrkräfte dabei unterstützen\, Tools für Ihre Tätigkeit kennen zu lernen\, \n•	die ihre Arbeit erleichtern\,\n•	die Zeit für andere Tätigkeiten freischaufeln\,\n•	die sie anschlussfähig für das digitale Zeitalter machen\,\n•	die den Unterricht bereichern können\,\n•	die Schülerinnen und Schüler motivieren\,\n•	die zu gemeinsamem wie individuellem Arbeiten und Lernen anregen\n•	uvm. \n\n			\n				\n			\n			Teilnahmekriterien & Info\n		 \n		\n			Lernziele\n		 \n		\n			Voraussetzungen\n		\n		 \n		\n			\n				\n					\n			Die Teilnahme an allen im Rahmen des Online-Programms angebotenen Online-Seminaren der Virtuellen PH ist für österreichische Lehrkräfte und Studierende eines Lehramts kostenlos. Die Seminarplätze werden nach dem Prinzip first come\, first served – also chronologisch nach dem Zeitpunkt Ihrer Seminarbuchung über PH-Online – vergeben. Bis Mittwoch vor Beginn des jeweiligen Online-Seminars können Sie über PH-Online Ihr gebuchtes Online-Seminar selber kostenlos stornieren. Für ein allfälliges Storno zu einem späteren Zeitpunkt wenden Sie sich bitte an: info@virtuelle-ph.at\n		 \n		\n			Die Teilnehmenden werden von einem Tutor/einer Tutorin angeleitet und dabei unterstützt\, neues für ihren Unterricht zu entdecken und ihr Repertoire zu erweitern\, sowie ihre Unterrichtsarbeit – von administrativen über vorbereitende Tätigkeiten bis hin zur Durchführung selbst – mit kostenfreien Onlinetools zu planen\, zu testen und gemeinsam mit den anderen SeminarteilnehmerInnen zu reflektieren. \nDie Seminarteilnehmenden werden zudem angeregt\, häufiger digitale Geräte (vom Computer bis hin zum Smartphone) schul- und unterrichtswirksam einzusetzen. Sie erhalten neue Impulse und steigern die eigenen digitalen Kompetenzen\, sowie ihre Fähigkeiten in der Vermittlung an die SchülerInnen.\n		 \n		\n			Internetzugang und Grundwissen im Umgang mit dem Internet und dem Computer\, sowie Aufgeschlossenheit für Neues
URL:https://www.virtuelle-ph.at/veranstaltung/20-tage-20-tools-lass-das-internet-fuer-dich-arbeiten-5/
CATEGORIES:Online-Programm Sommerprogramm,Online-Seminar
END:VEVENT
BEGIN:VEVENT
DTSTART;VALUE=DATE:20160418
DTEND;VALUE=DATE:20160419
DTSTAMP:20260420T095210
CREATED:20160419T102312Z
LAST-MODIFIED:20160419T102316Z
UID:10002249-1460937600-1461023999@www.virtuelle-ph.at
SUMMARY:Recherchieren\, Dokumentieren\, Zitieren
DESCRIPTION:In diesem Online-Seminar beschäftigen Sie sich mit drei wichtigen Teilbereichen der VWA: mit der Internetrecherche\, der Ordnung\, Aufbereitung und Bewertung von Informationen aus dem Internet und den digitalen Möglichkeiten des Zitierens. Dabei spielen vor allem neue Informationstechnologien eine tragende Rolle. Doch nicht nur einzelne (vor-)wissenschaftliche Arbeitstechniken stehen im Zentrum des Kurses\, sondern auch Überlegungen zu ihrer didaktischen Aufbereitung. \nWeiters bietet Ihnen das Seminar breiten Raum für den Austausch von Erfahrungswerten und Diskussionsmöglichkeit zu den Kursinhalten. \n[Online-Programm: Frühjahrsprogramm] \n\n			\n				\n			\n			Teilnahmekriterien & Info\n		 \n		\n			Lernziele\n		 \n		\n			Voraussetzungen\n		\n		 \n		\n			\n				\n					\n			Die Teilnahme an allen im Rahmen des Onlineprogramms angebotenen Online-Seminaren der Virtuellen PH ist für österreichische Lehrkräfte und Studierende eines Lehramts kostenlos. Die Seminarplätze werden nach dem Prinzip first come\, first served – also chronologisch nach dem Zeitpunkt Ihrer Seminarbuchung über PH-Online – vergeben. Bis Mittwoch vor Beginn des jeweiligen Online-Seminars können Sie über PH-Online Ihr gebuchtes Online-Seminar selber kostenlos stornieren. Für ein allfälliges Storno zu einem späteren Zeitpunkt wenden Sie sich bitte an: info@virtuelle-ph.at\n		 \n		\n			Ziel des Seminars ist\, dass die Teilnehmer/innen sich mit zentralen Arbeitstechniken zur VWA beschäftigen\, diese dann in ihren Unterricht integrieren bzw. in ihrer Betreuungsarbeit zur VWA weitervermitteln können.\n		 \n		\n			grundlegende Internetkenntnisse
URL:https://www.virtuelle-ph.at/veranstaltung/recherchieren-dokumentieren-zitieren/
CATEGORIES:Online-Seminar
END:VEVENT
BEGIN:VEVENT
DTSTART;VALUE=DATE:20160411
DTEND;VALUE=DATE:20160412
DTSTAMP:20260420T095210
CREATED:20160419T102246Z
LAST-MODIFIED:20160419T102250Z
UID:10002227-1460332800-1460419199@www.virtuelle-ph.at
SUMMARY:In the Cloud – Gemeinsam online arbeiten
DESCRIPTION:Schon seit einigen Jahren nutzen immer mehr Internet-NutzerInnen die „Cloud“\, die „Datenwolke“ im Internet\, in die wir Dokumente oder Fotos abspeichern\, um sie dann von einem anderen Gerät aus aufzurufen oder mit Freunden und KollegInnen zu teilen.\nAuch in der Schule haben Cloud-Anwendungen wie „Dropbox“\, „Google Docs“ oder „Flickr“ längst Einzug gehalten – sei es\, um Arbeitsprozesse mit KollegInnen zu vereinfachen oder um Lehr-/Lernszenarien mit SchülerInnen zu realisieren. \nIn diesem dreiwöchigen kooperativen Online-Seminar erhalten Sie Einblicke in die „Cloud“ aus unterschiedlichen Perspektiven: \n• Sie erfahren\, welche Vorteile die Arbeit mit der Datenwolke bietet\, diskutieren aber auch mögliche Nachteile bzw. Gefahren – speziell im Schulkontext.\n• Sie untersuchen verschiedene methodische Zugänge und didaktische Szenarien\, die sich cloudbasierte Anwendungen zunutze machen und lernen innovative Projekte kennen\, die ohne die Datenwolke gar nicht denkbar wären.\n• Schließlich erarbeiten Sie Ihr eigenes Lehr-/Lernszenario unter Nutzung von cloudbasierten Diensten – maßgeschneidert für eine konkrete SchülerInnengruppe\, unterstützt von Ihren KollegInnen im Seminar und Ihrem Tutor / Ihrer Tutorin. \nBegeben Sie sich mit uns auf einen anregenden Flug in die Datenwolke und erleben Sie selbst\, warum die Freiheit dort oben wohl grenzenlos ist… \n[Online-Programm: Frühjahrsprogramm] \n\n			\n				\n			\n			Teilnahmekriterien & Info\n		 \n		\n			Lernziele\n		 \n		\n			Voraussetzungen\n		\n		 \n		\n			\n				\n					\n			Die Teilnahme an allen im Rahmen des Online-Programms angebotenen Online-Seminaren der Virtuellen PH ist für österreichische Lehrkräfte und Studierende eines Lehramts kostenlos. Die Seminarplätze werden nach dem Prinzip first come\, first served – also chronologisch nach dem Zeitpunkt Ihrer Seminarbuchung über PH-Online – vergeben. Bis Mittwoch vor Beginn des jeweiligen Online-Seminars können Sie über PH-Online Ihr gebuchtes Online-Seminar selber kostenlos stornieren. Für ein allfälliges Storno zu einem späteren Zeitpunkt wenden Sie sich bitte an: info@virtuelle-ph.at\n		 \n		\n			Die Möglichkeiten des Arbeitens mit Coud-Programmen im Unterricht und im Alltag kennenlernen sowie Potentiale und Gefahren erkennen können.\n		 \n		\n			Grundwissen im Umgang mit dem Internet
URL:https://www.virtuelle-ph.at/veranstaltung/in-the-cloud-gemeinsam-online-arbeiten/
CATEGORIES:Online-Seminar
END:VEVENT
END:VCALENDAR