BEGIN:VCALENDAR
VERSION:2.0
PRODID:-//Virtuelle PH - ECPv6.6.4.2//NONSGML v1.0//EN
CALSCALE:GREGORIAN
METHOD:PUBLISH
X-ORIGINAL-URL:https://www.virtuelle-ph.at
X-WR-CALDESC:Veranstaltungen für Virtuelle PH
REFRESH-INTERVAL;VALUE=DURATION:PT1H
X-Robots-Tag:noindex
X-PUBLISHED-TTL:PT1H
BEGIN:VTIMEZONE
TZID:Europe/Berlin
BEGIN:DAYLIGHT
TZOFFSETFROM:+0100
TZOFFSETTO:+0200
TZNAME:CEST
DTSTART:20190331T010000
END:DAYLIGHT
BEGIN:STANDARD
TZOFFSETFROM:+0200
TZOFFSETTO:+0100
TZNAME:CET
DTSTART:20191027T010000
END:STANDARD
END:VTIMEZONE
BEGIN:VEVENT
DTSTART;TZID=Europe/Berlin:20190314T190000
DTEND;TZID=Europe/Berlin:20190314T193000
DTSTAMP:20260420T092835
CREATED:20190211T100708Z
LAST-MODIFIED:20190315T075452Z
UID:10003196-1552590000-1552591800@www.virtuelle-ph.at
SUMMARY:digiPH2 eLecture: Den "Digitalen Dresscode" verstehen: erfolgreich Self-Marketing betreiben
DESCRIPTION:zur Aufzeichnung\n\n\n						Self-Marketing gewinnt in der zunehmend digitalen Arbeitswelt immer stärker an Bedeutung. Nicht selten wird in Bewerbungsprozessen der Name von Kandidat*innen in Suchmaschinen eingegeben und Suchergebnisse fließen oftmals in die Bewertung von Bewerber*innen ein. Die eigene Darstellung im Internet ist somit enorm wichtig. Nicht zuletzt kann man sich mit einem gelungenen Self-Marketing auch als Marke und Experte etablieren.    \nJacqueline Gerland ist Germanistin und derzeit bei einem Wirtschaftsunternehmen für die Unternehmenskommunikation zuständig. Sie ist verantwortlich für Online-Marketing und beschäftigt sich schwerpunktmäßig mit dem strategischen Aufbau und der Pflege der Social Media-Kanäle.\nSusan Höntzsch ist Psychologin\, freiberufliche Autorin und Karrierecoach. Sie ist Gründerin der Website www.karrierepfa.de und veröffentlicht in einschlägigen Online-Journalen regelmäßig Artikel zu Jobsuche und Self-Marketing. \nGeplante Inhalte\nIn der eLecture wird der Frage nachgegangen\, welche sozialen Online-Netzwerke sich zur beruflichen Selbstdarstellung eignen\, wie man sich auf den unterschiedlichen Plattformen bestmöglich präsentiert und wo die Vor- und Nachteile bei der Nutzung liegen. Außerdem gibt es einen Blick hinter die Kulissen: Wie agieren Unternehmen im Social Media-Kontext? Worauf achten sie bei Bewerber*innen?  \nZielgruppe\nDie eLecture ist für Sie geeignet\, wenn …\n… sie Ihr Wissen zur digitalen Karriereplanung professionalisieren wollen.\n… sie endlich den Social Media-Dschungel erobern wollen.        \nCoModeration: Walter Fikisz \n\n			\n				\n			\n			Teilnahmekriterien & Info\n		 \n		\n			Lernziele\n		 \n		\n			Voraussetzungen\n		\n		 \n		\n			\n				\n					\n			Technische Voraussetzungen: Grundlegende Computerkenntnisse\, gute Internetverbindung; optional: Headset. \nSo treten Sie der eLecture im virtuellen Lernraum bei:  \n1. Rufen Sie 10 min vor Terminstart folgende Seite auf:  \nvph.adobeconnect.com/digiph4/ \n2. Geben Sie bitte Ihren Vor- und Nachnamen ein und „Betreten Sie den Raum“ mit Klick auf den Button. \n3. Folgen Sie den Anweisungen auf dem Bildschirm. Sie werden in Kürze eingelassen. \nWenn Sie noch an keiner eLecture teilgenommen haben\, finden Sie alle Infos zum Einstieg unter: www.virtuelle-ph.at/electures/#einstieg \nDie Teilnahme an allen eLectures der Virtuellen PH ist für österreichische Lehrkräfte und Studierende eines Lehramts kostenlos.\n		 \n		\n			• Die Teilnehmenden können unterschiedliche Social Media-Plattformen aufzählen und geeignete Plattformen zum digitalen Self-Marketing identifizieren. \n• Die Teilnehmenden können die Begrifflichkeiten Digitale Identität\, Self-Marketing\, Personalmarketing und Karriereplanung unterscheiden. \n• Die Teilnehmenden können eine eigene Strategie zur Erarbeitung ihrer digitalen Identität entwickeln. \n• Die Teilnehmenden können die Bedeutung des (digitalen) Self-Marketings bei der Karriereplanung begründen.
URL:https://www.virtuelle-ph.at/veranstaltung/digiph2-electure-den-digitalen-dresscode-verstehen-erfolgreich-self-marketing-betreiben/
CATEGORIES:eLecture,Online-Tagung digiPH2 EL
END:VEVENT
END:VCALENDAR