BEGIN:VCALENDAR
VERSION:2.0
PRODID:-//Virtuelle PH - ECPv6.6.4.2//NONSGML v1.0//EN
CALSCALE:GREGORIAN
METHOD:PUBLISH
X-ORIGINAL-URL:https://www.virtuelle-ph.at
X-WR-CALDESC:Veranstaltungen für Virtuelle PH
REFRESH-INTERVAL;VALUE=DURATION:PT1H
X-Robots-Tag:noindex
X-PUBLISHED-TTL:PT1H
BEGIN:VTIMEZONE
TZID:Europe/Vienna
BEGIN:DAYLIGHT
TZOFFSETFROM:+0100
TZOFFSETTO:+0200
TZNAME:CEST
DTSTART:20260329T010000
END:DAYLIGHT
BEGIN:STANDARD
TZOFFSETFROM:+0200
TZOFFSETTO:+0100
TZNAME:CET
DTSTART:20261025T010000
END:STANDARD
END:VTIMEZONE
BEGIN:VEVENT
DTSTART;VALUE=DATE:20260306
DTEND;VALUE=DATE:20260307
DTSTAMP:20260420T134347
CREATED:20260307T033019Z
LAST-MODIFIED:20260307T033019Z
UID:10006681-1772755200-1772841599@www.virtuelle-ph.at
SUMMARY:#DigiPH9 - Learn.Innovate.Transform. Digitale Werkzeuge und Methodenvielfalt Tag2
DESCRIPTION:Zur Anmeldung\n						\n\n						Unter dem Motto „Learn. Innovate. Transform.“ lädt die Tagung Lehrende\, Forschende\, Bildungsdesigner:innen und Studierende ein\, sich in einem transdisziplinären Dialog über die Zukunft der Hochschullehre zu vernetzen. Im Mittelpunkt stehen die Themen digitale Transformation\, didaktische Vielfalt und Diversität. \nDie Tagung bietet eine Plattform für wissenschaftlichen Austausch und praxisnahe Impulse. \nHier gelangen Sie direkt zum Zoom-Raum der Tagung:\nvirtuelle-ph-at.zoom.us/my/digiph \n\n			\n				\n			\n			Teilnahmekriterien & Info\n		 \n		\n			Lernziele\n		 \n		\n			Voraussetzungen\n		\n		 \n		\n			\n				\n					\n			\n		 \n		\n			Die Teilnehmer*innen können: \n– digitale Werkzeuge kennenlernen und reflektiert in die eigene Lehre integrieren\, um Methodenvielfalt als Chance für didaktische Weiterentwicklung zu nutzen. \n– eigene Lehrpraktiken kritisch hinterfragen und weiterentwickeln\, indem sie neue Ansätze erproben und deren Potenziale für unterschiedliche Lernsettings einschätzen. \n– innovative Lehr-Lern-Formate gestalten\, die digitale Möglichkeiten mit bewährten Methoden verbinden und Studierende aktiv einbeziehen. \n– den Dialog zwischen Digitalisierung und Diversität produktiv aufgreifen\, um Lehrangebote inklusiver und chancengerechter zu gestalten. \n– Impulse für eine nachhaltige Transformation der Hochschullehre umsetzen\, indem sie neue Lernkulturen anstoßen\, die zukunftsorientiert und anschlussfähig sind. \n– uvm.
URL:https://www.virtuelle-ph.at/veranstaltung/digiph9-learn-innovate-transform-digitale-werkzeuge-und-methodenvielfalt-tag2-3/
CATEGORIES:Fortbildungsveranstaltung
END:VEVENT
BEGIN:VEVENT
DTSTART;VALUE=DATE:20260306
DTEND;VALUE=DATE:20260307
DTSTAMP:20260420T134347
CREATED:20260110T033049Z
LAST-MODIFIED:20260305T143916Z
UID:10006529-1772755200-1772841599@www.virtuelle-ph.at
SUMMARY:#DigiPH9 - Learn.Innovate.Transform. Digitale Werkzeuge und Methodenvielfalt Tag2
DESCRIPTION:Zur Anmeldung\n						\n\n						Unter dem Motto „Learn. Innovate. Transform.“ lädt die Tagung Lehrende\, Forschende\, Bildungsdesigner:innen und Studierende ein\, sich in einem transdisziplinären Dialog über die Zukunft der Hochschullehre zu vernetzen. Im Mittelpunkt stehen die Themen digitale Transformation\, didaktische Vielfalt und Diversität. \nDie Tagung bietet eine Plattform für wissenschaftlichen Austausch und praxisnahe Impulse. \nHier gelangen Sie direkt zum Zoom-Raum der Tagung:\nvirtuelle-ph-at.zoom.us/my/digiph \n\n			\n				\n			\n			Teilnahmekriterien & Info\n		 \n		\n			Lernziele\n		 \n		\n			Voraussetzungen\n		\n		 \n		\n			\n				\n					\n			\n		 \n		\n			Die Teilnehmer*innen können: \n– digitale Werkzeuge kennenlernen und reflektiert in die eigene Lehre integrieren\, um Methodenvielfalt als Chance für didaktische Weiterentwicklung zu nutzen. \n– eigene Lehrpraktiken kritisch hinterfragen und weiterentwickeln\, indem sie neue Ansätze erproben und deren Potenziale für unterschiedliche Lernsettings einschätzen. \n– innovative Lehr-Lern-Formate gestalten\, die digitale Möglichkeiten mit bewährten Methoden verbinden und Studierende aktiv einbeziehen. \n– den Dialog zwischen Digitalisierung und Diversität produktiv aufgreifen\, um Lehrangebote inklusiver und chancengerechter zu gestalten. \n– Impulse für eine nachhaltige Transformation der Hochschullehre umsetzen\, indem sie neue Lernkulturen anstoßen\, die zukunftsorientiert und anschlussfähig sind. \n– uvm.
URL:https://www.virtuelle-ph.at/veranstaltung/digiph9-learn-innovate-transform-digitale-werkzeuge-und-methodenvielfalt-tag2-2/
CATEGORIES:Fortbildungsveranstaltung
END:VEVENT
BEGIN:VEVENT
DTSTART;VALUE=DATE:20260305
DTEND;VALUE=DATE:20260306
DTSTAMP:20260420T134347
CREATED:20260306T033012Z
LAST-MODIFIED:20260306T033012Z
UID:10006678-1772668800-1772755199@www.virtuelle-ph.at
SUMMARY:#DigiPH9 - Learn.Innovate.Transform. Digitale Werkzeuge und Methodenvielfalt Tag1
DESCRIPTION:Zur Anmeldung\n						\n\n						Unter dem Motto „Learn. Innovate. Transform.“ lädt die Tagung Lehrende\, Forschende\, Bildungsdesigner:innen und Studierende ein\, sich in einem transdisziplinären Dialog über die Zukunft der Hochschullehre zu vernetzen. Im Mittelpunkt stehen die Themen digitale Transformation\, didaktische Vielfalt und Diversität. \nDie Tagung bietet eine Plattform für wissenschaftlichen Austausch und praxisnahe Impulse. \nHier gelangen Sie direkt zum Zoom-Raum der Tagung:\nvirtuelle-ph-at.zoom.us/my/digiph \n\n			\n				\n			\n			Teilnahmekriterien & Info\n		 \n		\n			Lernziele\n		 \n		\n			Voraussetzungen\n		\n		 \n		\n			\n				\n					\n			\n		 \n		\n			Die Teilnehmer*innen können: \n– digitale Werkzeuge kennenlernen und reflektiert in die eigene Lehre integrieren\, um Methodenvielfalt als Chance für didaktische Weiterentwicklung zu nutzen. \n– eigene Lehrpraktiken kritisch hinterfragen und weiterentwickeln\, indem sie neue Ansätze erproben und deren Potenziale für unterschiedliche Lernsettings einschätzen. \n– innovative Lehr-Lern-Formate gestalten\, die digitale Möglichkeiten mit bewährten Methoden verbinden und Studierende aktiv einbeziehen. \n– den Dialog zwischen Digitalisierung und Diversität produktiv aufgreifen\, um Lehrangebote inklusiver und chancengerechter zu gestalten. \n– Impulse für eine nachhaltige Transformation der Hochschullehre umsetzen\, indem sie neue Lernkulturen anstoßen\, die zukunftsorientiert und anschlussfähig sind. \n– uvm.
URL:https://www.virtuelle-ph.at/veranstaltung/digiph9-learn-innovate-transform-digitale-werkzeuge-und-methodenvielfalt-tag1-3/
CATEGORIES:Fortbildungsveranstaltung
END:VEVENT
BEGIN:VEVENT
DTSTART;VALUE=DATE:20260305
DTEND;VALUE=DATE:20260306
DTSTAMP:20260420T134347
CREATED:20260110T033124Z
LAST-MODIFIED:20260304T033057Z
UID:10006530-1772668800-1772755199@www.virtuelle-ph.at
SUMMARY:#DigiPH9 - Learn.Innovate.Transform. Digitale Werkzeuge und Methodenvielfalt Tag1
DESCRIPTION:Zur Anmeldung\n						\n\n						Unter dem Motto „Learn. Innovate. Transform.“ lädt die Tagung Lehrende\, Forschende\, Bildungsdesigner:innen und Studierende ein\, sich in einem transdisziplinären Dialog über die Zukunft der Hochschullehre zu vernetzen. Im Mittelpunkt stehen die Themen digitale Transformation\, didaktische Vielfalt und Diversität. \nDie Tagung bietet eine Plattform für wissenschaftlichen Austausch und praxisnahe Impulse. \nHier gelangen Sie direkt zum Zoom-Raum der Tagung:\nvirtuelle-ph-at.zoom.us/my/digiph \n\n			\n				\n			\n			Teilnahmekriterien & Info\n		 \n		\n			Lernziele\n		 \n		\n			Voraussetzungen\n		\n		 \n		\n			\n				\n					\n			\n		 \n		\n			Die Teilnehmer*innen können: \n– digitale Werkzeuge kennenlernen und reflektiert in die eigene Lehre integrieren\, um Methodenvielfalt als Chance für didaktische Weiterentwicklung zu nutzen. \n– eigene Lehrpraktiken kritisch hinterfragen und weiterentwickeln\, indem sie neue Ansätze erproben und deren Potenziale für unterschiedliche Lernsettings einschätzen. \n– innovative Lehr-Lern-Formate gestalten\, die digitale Möglichkeiten mit bewährten Methoden verbinden und Studierende aktiv einbeziehen. \n– den Dialog zwischen Digitalisierung und Diversität produktiv aufgreifen\, um Lehrangebote inklusiver und chancengerechter zu gestalten. \n– Impulse für eine nachhaltige Transformation der Hochschullehre umsetzen\, indem sie neue Lernkulturen anstoßen\, die zukunftsorientiert und anschlussfähig sind. \n– uvm.
URL:https://www.virtuelle-ph.at/veranstaltung/digiph9-learn-innovate-transform-digitale-werkzeuge-und-methodenvielfalt-tag1-2/
CATEGORIES:Fortbildungsveranstaltung
END:VEVENT
BEGIN:VEVENT
DTSTART;VALUE=DATE:20260202
DTEND;VALUE=DATE:20260203
DTSTAMP:20260420T134347
CREATED:20260203T033023Z
LAST-MODIFIED:20260203T033023Z
UID:10006627-1769990400-1770076799@www.virtuelle-ph.at
SUMMARY:PowerPoint – durchstarten statt einschlafen!
DESCRIPTION:Zur Anmeldung\n						\n\n						PowerPoint ist ein gängiges\, leicht zu erlernendes Programm zum Erstellen von Präsentationen. In diesem Online-Seminar lernen Sie mit Hilfe von PowerPoint Präsentationen für Ihren Privatgebrauch\, aber auch für den Einsatz im Unterricht zu erstellen. Neben vielen technischen Tipps und Tricks\, werden im Seminar auch Präsentationstechniken vermittelt. Der didaktische Einsatz von PowerPoint im Unterricht steht vor allem im Zentrum der letzten Seminarwoche. Sie brauchen keine Vorkenntnisse in PowerPoint\, um an diesem Online-Seminar teilnehmen zu können. Ihr/e Trainer/in führen Sie Schritt für Schritt durch PowerPoint. Im Nu haben Sie den Dreh heraus und schon ist eine eindrucksvolle Präsentation fertig! \nIn diesem Online-Seminar ist Ihre aktive Mitarbeit gefragt. Jede Woche gibt es verschiedene Übungen zu erledigen – so lernen Sie Schritt für Schritt den Umgang mit PowerPoint. Durch die kleinen Übungen zwischendurch gibt es zum Schluss keine große Abschlussarbeit! \nwww.virtuelle-ph.at/online-seminare \n\nExpert_in: Michael Leitgeb\, Susanne Verena Dunst \n\n\n			\n				\n			\n			Teilnahmekriterien & Info\n		 \n		\n			Lernziele\n		 \n		\n			Voraussetzungen\n		\n		 \n		\n			\n				\n					\n			Für die Anmeldung zur Teilnahme müssen Sie sich in PH-Online als Studierende/r identifizieren.\nAnmerkung: Anmerkung: Die Teilnahme an allen im Rahmen des Online-Programms angebotenen Online-Seminaren der Virtuellen PH ist für österreichische Lehrkräfte\, PH-Lehrende und Studierende eines Lehramts kostenlos. Die Seminarplätze werden nach dem Prinzip first come\, first served – also chronologisch nach dem Zeitpunkt Ihrer Seminarbuchung über PH-Online – vergeben. Bis Mittwoch vor Beginn des jeweiligen Online-Seminars können Sie über PH-Online Ihr gebuchtes Online-Seminar selber kostenlos stornieren. Für ein allfälliges Storno zu einem späteren Zeitpunkt wenden Sie sich bitte an: info@virtuelle-ph.at\n		 \n		\n			Lernen Sie das Office Programm Powerpoint\, das standardmaßig an vielen Computern zu finden ist\, von einer neuen Seite – nämlich für den optimalen Einsatz in Ihrem Unterricht – kennen. Sammeln Sie dazu selbst Erfahrungen\, entwickeln Sie eigene Ideen und reflektieren Sie Ihre Einfälle mit Kolleginnen und Kollegen.\n		 \n		\n			Grundlegende Internet-Kenntnisse.
URL:https://www.virtuelle-ph.at/veranstaltung/powerpoint-durchstarten-statt-einschlafen-112/
CATEGORIES:Online-Seminar
END:VEVENT
END:VCALENDAR