BEGIN:VCALENDAR
VERSION:2.0
PRODID:-//Virtuelle PH - ECPv6.6.4.2//NONSGML v1.0//EN
CALSCALE:GREGORIAN
METHOD:PUBLISH
X-WR-CALNAME:Virtuelle PH
X-ORIGINAL-URL:https://www.virtuelle-ph.at
X-WR-CALDESC:Veranstaltungen für Virtuelle PH
REFRESH-INTERVAL;VALUE=DURATION:PT1H
X-Robots-Tag:noindex
X-PUBLISHED-TTL:PT1H
BEGIN:VTIMEZONE
TZID:Europe/Vienna
BEGIN:DAYLIGHT
TZOFFSETFROM:+0100
TZOFFSETTO:+0200
TZNAME:CEST
DTSTART:20230326T010000
END:DAYLIGHT
BEGIN:STANDARD
TZOFFSETFROM:+0200
TZOFFSETTO:+0100
TZNAME:CET
DTSTART:20231029T010000
END:STANDARD
END:VTIMEZONE
BEGIN:VEVENT
DTSTART;TZID=Europe/Vienna:20230421T160000
DTEND;TZID=Europe/Vienna:20230421T170000
DTSTAMP:20260425T121616
CREATED:20230328T213616Z
LAST-MODIFIED:20230421T033053Z
UID:10004144-1682092800-1682096400@www.virtuelle-ph.at
SUMMARY:energie:bewusst Methodenwerkstatt: Klimapolitik
DESCRIPTION:Zur Anmeldung \n\n						Zum virtuellen Lernraum\n						\n\n						Methodenwerkstatt Klimapolitik – Suzanne Whitby \nGemeinsam nutzen wir in dieser Methodenwerkstatt ein Online-Tool\, um herauszufinden\, ob wir den Temperaturanstieg unter 2 Grad Celsius halten können\, indem wir die Energiepolitik und andere Aktivitäten steuern. Ihr entscheidet\, welche Maßnahmen wir wählen\, die modellierten Auswirkungen werden sofort sichtbar und wir werden aufgefordert über die Auswirkungen unserer politischen Entscheidungen nachzudenken! Dies ist ein großartiges Instrument\, um auch Schüler/innen einen Einblick zu geben\, wie politische Maßnahmen einen großen Unterschied machen können UND wie komplex und miteinander verbunden diese Entscheidungen sind. \n\nExpert_in: Suzanne Whitby \n\n\n			\n				\n			\n			Teilnahmekriterien & Info\n		 \n		\n			Lernziele\n		 \n		\n			Voraussetzungen\n		\n		 \n		\n			\n				\n					\n			So treten Sie der Veranstaltung im virtuellen Lernraum bei: \n1. Rufen Sie 5-10 min vor Terminstart den Link zum Virtuellen Lernraum auf: \nvirtuelle-ph-at.zoom.us/my/energiebewusst \n2. Geben Sie bitte Ihren vollen Namen ein und klicken Sie den Button „Einem Meeting Beitreten“.                              \n3. Klicken Sie dann auch den grünen Button „Per Computer dem Audio beitreten“ an.\nDas bewirkt\, dass Sie uns hören und sehen können. Sie werden in Kürze eingelassen. \nDie Teilnahme an allen Veranstaltungen der Virtuellen PH ist für österreichische Hochschullehrende\, Lehrkräfte und Studierende eines Lehramts kostenlos.\n		 \n		\n			#Kennenlernen eines Tools zum Thema Klimapolitik
URL:https://www.virtuelle-ph.at/veranstaltung/energiebewusst-methodenwerkstatt-klimapolitik/
CATEGORIES:eLecture,Online-Tagung energiebewusst EL
END:VEVENT
BEGIN:VEVENT
DTSTART;TZID=Europe/Vienna:20230420T160000
DTEND;TZID=Europe/Vienna:20230420T170000
DTSTAMP:20260425T121616
CREATED:20230328T213609Z
LAST-MODIFIED:20230420T065313Z
UID:10004128-1682006400-1682010000@www.virtuelle-ph.at
SUMMARY:energie:bewusst Keynote: Klimakommunikation und Klimabewusstsein
DESCRIPTION:Zur Anmeldung\n						\n\n						Als Gründerin von klimafit und make SHIFT happen\, setzt sich dafür ein\, den Klimawandel und seine Ursachen und Folgen so zu erklären\, dass sich die Menschen damit identifizieren können. Die Fähigkeit zu kommunizieren\, was das Problem für uns bedeutet\, ist die Grundlage für ein Umdenken und Verhalten. Diese Art der Kommunikation wird in der Keynote zur Online-Tagung beleuchtet. \n\n			\n				\n			\n			Teilnahmekriterien & Info\n		 \n		\n			Lernziele\n		 \n		\n			Voraussetzungen\n		\n		 \n		\n			\n				\n					\n			So treten Sie der Veranstaltung im virtuellen Lernraum bei: \n1. Rufen Sie 5-10 min vor Terminstart den Link zum Virtuellen Lernraum auf: \nvirtuelle-ph-at.zoom.us/my/energiebewusst \n2. Geben Sie bitte Ihren vollen Namen ein und klicken Sie den Button „Einem Meeting Beitreten“.                              \n3. Klicken Sie dann auch den grünen Button „Per Computer dem Audio beitreten“ an.\nDas bewirkt\, dass Sie uns hören und sehen können. Sie werden in Kürze eingelassen. \nDie Teilnahme an allen Veranstaltungen der Virtuellen PH ist für österreichische Hochschullehrende\, Lehrkräfte und Studierende eines Lehramts kostenlos.\n		 \n		\n			#Klimakommunikation und Klimabewusstsein
URL:https://www.virtuelle-ph.at/veranstaltung/energiebewusst-keynote-klimakommunikation-und-klimabewusstsein/
CATEGORIES:Fortbildungsveranstaltung,Online-Tagung energiebewusst EL
END:VEVENT
END:VCALENDAR