BEGIN:VCALENDAR
VERSION:2.0
PRODID:-//Virtuelle PH - ECPv6.6.4.2//NONSGML v1.0//EN
CALSCALE:GREGORIAN
METHOD:PUBLISH
X-ORIGINAL-URL:https://www.virtuelle-ph.at
X-WR-CALDESC:Veranstaltungen für Virtuelle PH
REFRESH-INTERVAL;VALUE=DURATION:PT1H
X-Robots-Tag:noindex
X-PUBLISHED-TTL:PT1H
BEGIN:VTIMEZONE
TZID:Europe/Berlin
BEGIN:DAYLIGHT
TZOFFSETFROM:+0100
TZOFFSETTO:+0200
TZNAME:CEST
DTSTART:20180325T010000
END:DAYLIGHT
BEGIN:STANDARD
TZOFFSETFROM:+0200
TZOFFSETTO:+0100
TZNAME:CET
DTSTART:20181028T010000
END:STANDARD
END:VTIMEZONE
BEGIN:VEVENT
DTSTART;TZID=Europe/Berlin:20181204T170000
DTEND;TZID=Europe/Berlin:20181204T180000
DTSTAMP:20260420T172927
CREATED:20181022T142349Z
LAST-MODIFIED:20181205T100042Z
UID:10003030-1543942800-1543946400@www.virtuelle-ph.at
SUMMARY:eLecture: Mit E-Books in der Volksschule unterrichten – ein Erfahrungsbericht
DESCRIPTION:zur Aufzeichnung\n\n\n						Der Einsatz von neuen Medien im Unterricht bringt so manche Herausforderung mit sich. Die Volksschule 6 in Wels (Oberösterreich) hat sich auf Entdeckungsreise gemacht und sich dazu entschieden\, digitale Medien im Unterricht verstärkt einzusetzen.  \nTanja Rauch ist seit 2010 VS-Lehrerin in Wels und verfolgt neben anderen laufenden Fortbildungen derzeit das Masterstudium Primarstufe. \nWie die Volksschule 6\, an der sie unterrichtet\, diesen Weg beschritten hat und welchen konkreten Herausforderungen begegnet wurde\, schildert Tanja Rauch aus ihrer eigenen Unterrichtspraxis. Anhand von konkreten Unterrichtsszenarien und Beispielen werden außerdem konkrete Einsatzmöglichkeiten von digitalen Inhalten\, basierend auf E-Books von VERITAS\, im Volksschulunterricht aufgezeigt. Der Schwerpunkt liegt hierbei auf den Fächern Mathematik und Deutsch. \nCoModeration: Thomas Winkler \n\n			\n				\n			\n			Teilnahmekriterien & Info\n		 \n		\n			Lernziele\n		 \n		\n			Voraussetzungen\n		\n		 \n		\n			\n				\n					\n			Technische Voraussetzungen: Grundlegende Computerkenntnisse\, gute Internetverbindung; optional: Headset. \nSo treten Sie der eLecture im virtuellen Lernraum bei:  \n1. Rufen Sie 10 min vor Terminstart folgende Seite auf:  \nvph.adobeconnect.com/zwei/ \n2. Geben Sie bitte Ihren Vor- und Nachnamen ein und „Betreten Sie den Raum“ mit Klick auf den Button. \n3. Folgen Sie den Anweisungen auf dem Bildschirm. Sie werden in Kürze eingelassen. \nWenn Sie noch an keiner eLecture teilgenommen haben\, finden Sie alle Infos zum Einstieg unter: www.virtuelle-ph.at/electures/#einstieg \nDie Teilnahme an allen eLectures der Virtuellen PH ist für österreichische Lehrkräfte und Studierende eines Lehramts kostenlos.\n		 \n		\n			# Einblick in Unterrichtspraxis einer Volksschule\, die neue Medien im Unterricht verstärkt einsetzt\, gewinnen\n# Anregungen für den eigenen Unterricht bekommen
URL:https://www.virtuelle-ph.at/veranstaltung/electure-mit-e-books-in-der-volksschule-unterrichten-ein-erfahrungsbericht-2/
CATEGORIES:eLecture
END:VEVENT
BEGIN:VEVENT
DTSTART;TZID=Europe/Berlin:20180607T180000
DTEND;TZID=Europe/Berlin:20180607T190000
DTSTAMP:20260420T172927
CREATED:20180515T072411Z
LAST-MODIFIED:20180608T082920Z
UID:10002891-1528394400-1528398000@www.virtuelle-ph.at
SUMMARY:eLecture: Mit E-Books in der Volksschule unterrichten – ein Erfahrungsbericht
DESCRIPTION:zur Aufzeichnung \n\n\n						Der Einsatz von neuen Medien im Unterricht bringt so manche Herausforderung mit sich. Die Volksschule 6 in Wels (Oberösterreich) hat sich auf Entdeckungsreise gemacht und sich dazu entschieden\, digitale Medien im Unterricht verstärkt einzusetzen.  \nTanja Rauch ist seit 2010 VS-Lehrerin in Wels und verfolgt neben anderen laufenden Fortbildungen derzeit das Masterstudium Primarstufe. \nWie die Volksschule 6\, an der sie unterrichtet\, diesen Weg beschritten hat und welchen konkreten Herausforderungen begegnet wurde\, schildert Tanja Rauch aus ihrer eigenen Unterrichtspraxis. Anhand von konkreten Unterrichtsszenarien und \n Beispielen werden außerdem konkrete Einsatzmöglichkeiten von digitalen Inhalten\, basierend auf E-Books von VERITAS\, im Volksschulunterricht aufgezeigt. Der Schwerpunkt liegt hierbei auf den Fächern Mathematik und Deutsch \nCoModeration: Thomas Winkler \n\n			\n				\n			\n			Teilnahmekriterien & Info\n		 \n		\n			Lernziele\n		 \n		\n			Voraussetzungen\n		\n		 \n		\n			\n				\n					\n			Technische Voraussetzungen: Grundlegende Computerkenntnisse\, gute Internetverbindung; optional: Headset. \nSo treten Sie der eLecture im virtuellen Lernraum bei:  \n1. Rufen Sie 10 min vor Terminstart folgende Seite auf:  \nvph.adobeconnect.com/drei/ \n2. Geben Sie bitte Ihren Vor- und Nachnamen ein und „Betreten Sie den Raum“ mit Klick auf den Button. \n3. Folgen Sie den Anweisungen auf dem Bildschirm. Sie werden in Kürze eingelassen. \nWenn Sie noch an keiner eLecture teilgenommen haben\, finden Sie alle Infos zum Einstieg unter: www.virtuelle-ph.at/electures/#einstieg \nDie Teilnahme an allen eLectures der Virtuellen PH ist für österreichische Lehrkräfte und Studierende eines Lehramts kostenlos.\n		 \n		\n			\nEinblick in Unterrichtspraxis einer Volksschule\, die neue Medien im Unterricht verstärkt einsetzt\, gewinnen\nAnregungen für den eigenen Unterricht bekommen
URL:https://www.virtuelle-ph.at/veranstaltung/electure-mit-e-books-in-der-volksschule-unterrichten-ein-erfahrungsbericht/
CATEGORIES:eLecture
END:VEVENT
END:VCALENDAR