BEGIN:VCALENDAR
VERSION:2.0
PRODID:-//Virtuelle PH - ECPv6.6.4.2//NONSGML v1.0//EN
CALSCALE:GREGORIAN
METHOD:PUBLISH
X-WR-CALNAME:Virtuelle PH
X-ORIGINAL-URL:https://www.virtuelle-ph.at
X-WR-CALDESC:Veranstaltungen für Virtuelle PH
REFRESH-INTERVAL;VALUE=DURATION:PT1H
X-Robots-Tag:noindex
X-PUBLISHED-TTL:PT1H
BEGIN:VTIMEZONE
TZID:Europe/Berlin
BEGIN:DAYLIGHT
TZOFFSETFROM:+0100
TZOFFSETTO:+0200
TZNAME:CEST
DTSTART:20190331T010000
END:DAYLIGHT
BEGIN:STANDARD
TZOFFSETFROM:+0200
TZOFFSETTO:+0100
TZNAME:CET
DTSTART:20191027T010000
END:STANDARD
END:VTIMEZONE
BEGIN:VEVENT
DTSTART;TZID=Europe/Berlin:20190123T190000
DTEND;TZID=Europe/Berlin:20190123T200000
DTSTAMP:20260420T144012
CREATED:20180920T092716Z
LAST-MODIFIED:20190204T091312Z
UID:10003019-1548270000-1548273600@www.virtuelle-ph.at
SUMMARY:eLecture #DigiGruBi: Betriebssysteme und Standard-Anwendungen
DESCRIPTION:Keine Aufzeichnung verfügbar\n\n\nBYOD (Bring your own device) im Kontext Schule ist eine besondere Herausforderung. Als Nicht-Informatik-Lehrender sich mit all den unterschiedlichen Betriebssystemen zurecht zu finden ist nicht einfach. \nThomas Baldauf ist IT Manager am GRG 21 Ödenburger Straße und beschäftigt sich bereits seit Jahren mit eLearning und Fachdidaktik Informatik. \nAm Beispiel von unterschiedlichen Präsentationsprogrammen wird die Handhabung unterschiedlicher Smartphone Betriebssysteme erörtert:\n# Powerpoint aus der Cloud\n# Prezi\n# CoSpaces.EDU \nDiese eLecture ist für Sie geeignet\, wenn Sie mit ihren Schülerinnen und Schülern\, trotz heterogener Technik\, Präsentationen erstellen\, die zumindest ein WOW auslösen \nCo-Referent: Michael Steiner \nCoModeration: Daniel Handle-Pfeiffer \n———————————— \n\n			\n				\n			\n			Teilnahmekriterien & Info\n		 \n		\n			Lernziele\n		 \n		\n			Voraussetzungen\n		\n		 \n		\n			\n				\n					\n			Technische Voraussetzungen: Grundlegende Computerkenntnisse\, gute Internetverbindung; optional: Headset. \nSo treten Sie der eLecture im virtuellen Lernraum bei: \n1. Rufen Sie 10 min vor Terminstart folgende Seite auf: \nvph.adobeconnect.com/drei/ \n2. Geben Sie bitte Ihren Vor- und Nachnamen ein und „Betreten Sie den Raum“ mit Klick auf den Button. \n3. Folgen Sie den Anweisungen auf dem Bildschirm. Sie werden in Kürze eingelassen. \nWenn Sie noch an keiner eLecture teilgenommen haben\, finden Sie alle Infos zum Einstieg unter: www.virtuelle-ph.at/electures/#einstieg \nDie Teilnahme an allen eLectures der Virtuellen PH ist für österreichische Lehrkräfte und Studierende eines Lehramts kostenlos.\n		 \n		\n			# Nutzen die zum Normalbetrieb notwendigen Funktionen eines Betriebssystems \n# Gestalten Präsentationen unter Einbeziehung von Bildern\, Grafiken und anderen Objekten \n# Beachten Grundregeln der Präsentation (z.B. aussagekräftige Bilder\, kurze Texte)\,
URL:https://www.virtuelle-ph.at/veranstaltung/electure-digigrubi-betriebssysteme-und-standard-anwendungen/
CATEGORIES:eLecture,Reihe Digitale Grundbildung
END:VEVENT
END:VCALENDAR