BEGIN:VCALENDAR
VERSION:2.0
PRODID:-//Virtuelle PH - ECPv6.6.4.2//NONSGML v1.0//EN
CALSCALE:GREGORIAN
METHOD:PUBLISH
X-WR-CALNAME:Virtuelle PH
X-ORIGINAL-URL:https://www.virtuelle-ph.at
X-WR-CALDESC:Veranstaltungen für Virtuelle PH
REFRESH-INTERVAL;VALUE=DURATION:PT1H
X-Robots-Tag:noindex
X-PUBLISHED-TTL:PT1H
BEGIN:VTIMEZONE
TZID:Europe/Vienna
BEGIN:DAYLIGHT
TZOFFSETFROM:+0100
TZOFFSETTO:+0200
TZNAME:CEST
DTSTART:20240331T010000
END:DAYLIGHT
BEGIN:STANDARD
TZOFFSETFROM:+0200
TZOFFSETTO:+0100
TZNAME:CET
DTSTART:20241027T010000
END:STANDARD
END:VTIMEZONE
BEGIN:VEVENT
DTSTART;VALUE=DATE:20240207
DTEND;VALUE=DATE:20240208
DTSTAMP:20260420T111943
CREATED:20240208T033027Z
LAST-MODIFIED:20240208T033027Z
UID:10005107-1707264000-1707350399@www.virtuelle-ph.at
SUMMARY:#digiPH7 - Tag 1 - Künstliche Intelligenz in der Hochschullehre
DESCRIPTION:Zur Anmeldung\n						\n\n						Die Veranstaltung #digiPH7 widmet sich der komplexen Rolle von Künstlicher Intelligenz (KI) in der hochschulischen Lehre. Ziel der Online-Konferenz ist es\, die Auswirkungen von KI auf Lehr- und Lernstrategien und darauf aufbauend den Studienerfolg systematisch zu erfassen. Dabei werden sowohl die Potenziale als auch die Herausforderungen\, die KI für die Hochschulbildung mit sich bringt\, in den Fokus gerückt. Darüber hinaus werden konkrete Anpassungsstrategien für Hochschulen diskutiert und Maßnahmen\, die zur Sicherstellung einer zukunftsorientierten Bildung notwendig sind\, erörtert. \nAlle Informationen dazu finden Sie unter: www.virtuelle-ph.at/digiph \n\n			\n				\n			\n			Teilnahmekriterien & Info\n		 \n		\n			Lernziele\n		 \n		\n			Voraussetzungen\n		\n		 \n		\n			\n				\n					\n			\n		 \n		\n			Informationen zum Thema KI in der Hochschullehre
URL:https://www.virtuelle-ph.at/veranstaltung/digiph7-tag-1-kuenstliche-intelligenz-in-der-hochschullehre-2/
CATEGORIES:Fortbildungsveranstaltung
END:VEVENT
BEGIN:VEVENT
DTSTART;VALUE=DATE:20240207
DTEND;VALUE=DATE:20240208
DTSTAMP:20260420T111943
CREATED:20231213T033023Z
LAST-MODIFIED:20240206T033004Z
UID:10004768-1707264000-1707350399@www.virtuelle-ph.at
SUMMARY:#digiPH7 - Tag 1 - Künstliche Intelligenz in der Hochschullehre
DESCRIPTION:Zur Anmeldung\n						\n\n						Die Veranstaltung #digiPH7 widmet sich der komplexen Rolle von Künstlicher Intelligenz (KI) in der hochschulischen Lehre. Ziel der Online-Konferenz ist es\, die Auswirkungen von KI auf Lehr- und Lernstrategien und darauf aufbauend den Studienerfolg systematisch zu erfassen. Dabei werden sowohl die Potenziale als auch die Herausforderungen\, die KI für die Hochschulbildung mit sich bringt\, in den Fokus gerückt. Darüber hinaus werden konkrete Anpassungsstrategien für Hochschulen diskutiert und Maßnahmen\, die zur Sicherstellung einer zukunftsorientierten Bildung notwendig sind\, erörtert. \nAlle Informationen dazu finden Sie unter: www.virtuelle-ph.at/digiph \n\n			\n				\n			\n			Teilnahmekriterien & Info\n		 \n		\n			Lernziele\n		 \n		\n			Voraussetzungen\n		\n		 \n		\n			\n				\n					\n			\n		 \n		\n			Informationen zum Thema KI in der Hochschullehre
URL:https://www.virtuelle-ph.at/veranstaltung/digiph7-tag-1-kuenstliche-intelligenz-in-der-hochschullehre/
CATEGORIES:Fortbildungsveranstaltung
END:VEVENT
END:VCALENDAR