BEGIN:VCALENDAR
VERSION:2.0
PRODID:-//Virtuelle PH - ECPv6.6.4.2//NONSGML v1.0//EN
CALSCALE:GREGORIAN
METHOD:PUBLISH
X-ORIGINAL-URL:https://www.virtuelle-ph.at
X-WR-CALDESC:Veranstaltungen für Virtuelle PH
REFRESH-INTERVAL;VALUE=DURATION:PT1H
X-Robots-Tag:noindex
X-PUBLISHED-TTL:PT1H
BEGIN:VTIMEZONE
TZID:Europe/Vienna
BEGIN:DAYLIGHT
TZOFFSETFROM:+0100
TZOFFSETTO:+0200
TZNAME:CEST
DTSTART:20220327T010000
END:DAYLIGHT
BEGIN:STANDARD
TZOFFSETFROM:+0200
TZOFFSETTO:+0100
TZNAME:CET
DTSTART:20221030T010000
END:STANDARD
END:VTIMEZONE
BEGIN:VEVENT
DTSTART;TZID=Europe/Vienna:20220124T180000
DTEND;TZID=Europe/Vienna:20220124T193000
DTSTAMP:20260425T202237
CREATED:20210902T061644Z
LAST-MODIFIED:20220125T093330Z
UID:10003928-1643047200-1643052600@www.virtuelle-ph.at
SUMMARY:eLecture: Agile Methodenbausteine im Unterricht: Modernes Projektmanagement
DESCRIPTION:zur Aufzeichnung\n    \n\n						Wir sind Schule. Als solches sollen wir die uns anvertrauten Schüler_innen auf ihre Zukunft vorbereiten\, eine Zukunft\, die gerade ziemlich unvorhersehbar ist\, VUKA eben: volatil\, unsicher\, komplex und mehrdeutig. Was es hier braucht sind Eigenverantwortung\, Flexibilität\, Selbstmotivation\, Teamwork und Partizipation. Im Kontext der Agilität\, bzw. des agilen Projektmanagements finden wir für den pädagogischen Gestaltungsraum durchaus ansprechende und vielversprechende Methoden\, die eben genau diese Kompetenzen fördern. Lassen Sie sich einladen zu einem Ausflug in das agile Mindset und lernen Sie neue Herangehensweisen und erprobte Methoden kennen\, die sich sehr gut im Klassenzimmer umsetzen lassen können. Denn Schule kann einen Raum bieten\, in dem Schüler_innen mehr Energie in ihr Lernen hineinstecken\, und dabei von KonsumentInnen zu GestalterInnen werden. \n\nUlli Horak ist  Possibilistin und Zwischenraumsucherin. Sie verfügt über eine über 20Jahre lange Erfahrung im Lehrberuf an AHS und MS und ist seit 15 Jahren an der KPH Wien/Krems und anderen Hochschulen in der Fort-und Weiterbildung durch Workshops\, Supervisionen und Prozessbegleitungen schulentwickelnd anzutreffen. Dabei verbindet sie Praxis mit einer großen Neugierde und Freude\, Ausflüge über den Tellerrand in angrenzende Gebiete wie zB. Neurowissenschaften und agile Organisationsentwicklung zu unternehmen\, bei denen sie neue Inspirationen für die Schule sammelt und in die Tat umsetzt.\nLesen Sie auch gerne Ihre Blogbeiträge „Ullis agile Ecke“ unter www.kphvie.ac.at/beraten-begleiten/schulentwicklung-und-leadership/aktuelles.html \nGeplante Inhalte: \n– Konzept und Mindset Agilität \n– ausgewählte Methodenbausteine kennenlernen\, ausprobieren und Good Practice Beispiele bzw. Inspirationen zur Umsetzung erleben \n–  Transfer in das eigene Unterrichtssetting \nDiese eLecture ist für Sie geeignet\, wenn\n– Sie neue Wege finden möchten\, um Ihre Schüler_innen in Richtung Eigenverantwortung und New Work zu begleiten. \n– Sie Agilität als neues Mindset auch für den schulischen Kontext kennenlernen wollen \n– Sie immer nach neuen Methoden oder Tools suchen\, um Ihren Unterricht zu gestalten \nCoModeration: Gerlinde Schwabl \n\nExpert_in: Ulrike Horak \n\n\n			\n				\n			\n			Teilnahmekriterien & Info\n		 \n		\n			Lernziele\n		 \n		\n			Voraussetzungen\n		\n		 \n		\n			\n				\n					\n			So treten Sie der Veranstaltung im virtuellen Lernraum bei: \n1. Rufen Sie 5 min vor Terminstart den Link zum Virtuellen Lernraum auf: \nvirtuelle-ph-at.zoom.us/my/virtuelleph.electureeins \n2. Geben Sie bitte Ihren vollen Namen ein und klicken Sie den Button „Einem Meeting Beitreten“.                              \n3. Klicken Sie den grünen Button „Per Computer dem Audio beitreten“ an. \nDas bewirkt\, dass Sie uns hören und sehen können. Sie werden in Kürze eingelassen. \nDie Teilnahme an allen eLectures der Virtuellen PH ist für österreichische Hochschullehrende\, Lehrkräfte und Studierende eines Lehramts kostenlos.\n		 \n		\n			– Konzept Agilität kennenlernen und in den pädagogischen Kontext transferieren können. \n– 2 agile Methodenbausteine für den eigenen Kontext anwenden können. \n– agile Methodenbausteine für den eigenen Unterricht adaptieren können. \n-Sich weiterhin durch Inspirationen und Impulse auf den Weg der Agilität im Schulalltag machen können.
URL:https://www.virtuelle-ph.at/veranstaltung/electure-agile-methodenbausteine-im-unterricht-modernes-projektmanagement/
CATEGORIES:eLecture
END:VEVENT
END:VCALENDAR