BEGIN:VCALENDAR
VERSION:2.0
PRODID:-//Virtuelle PH - ECPv6.6.4.2//NONSGML v1.0//EN
CALSCALE:GREGORIAN
METHOD:PUBLISH
X-ORIGINAL-URL:https://www.virtuelle-ph.at
X-WR-CALDESC:Veranstaltungen für Virtuelle PH
REFRESH-INTERVAL;VALUE=DURATION:PT1H
X-Robots-Tag:noindex
X-PUBLISHED-TTL:PT1H
BEGIN:VTIMEZONE
TZID:Europe/Berlin
BEGIN:DAYLIGHT
TZOFFSETFROM:+0100
TZOFFSETTO:+0200
TZNAME:CEST
DTSTART:20170326T010000
END:DAYLIGHT
BEGIN:STANDARD
TZOFFSETFROM:+0200
TZOFFSETTO:+0100
TZNAME:CET
DTSTART:20171029T010000
END:STANDARD
END:VTIMEZONE
BEGIN:VEVENT
DTSTART;TZID=Europe/Berlin:20170309T170000
DTEND;TZID=Europe/Berlin:20170309T183000
DTSTAMP:20260420T173834
CREATED:20170204T033823Z
LAST-MODIFIED:20170303T033714Z
UID:10002429-1489078800-1489084200@www.virtuelle-ph.at
SUMMARY:voXmi eLecture: Flucht und Migration – Einflüsse auf die Schulentwicklung: Teil 1: Schulleitung und Leadership
DESCRIPTION:CoModeration: Walter Fikisz \nWie begegnet eine Schule\, die den deutschen Schulpreis gewonnen hat und somit ausgewiesen als «good practice» ein Vorbild darstellt\, den Veränderungen durch die andauernde Fluchtwelle? Wie gelingt es der Schulleitung\, gemeinsam mit dem Lehrkörper und der gesamten Schulgemeinschaft Ängsten zu begegnen und Herausforderungen zu bewältigen\, die sich dem Schulsystem allgemein stellen? Welche Rolle spielen an der Montessori-Gesamtschule in diesem Zusammenhang die Sprachen der Kinder? \nHinweis: «Flucht und Migration» ist 2017 das gemeinsame Jahresthema für Schulentwicklung im Schulnetzwerk voXmi. In einer Reihe von Online-Vorträgen\, die für ein breites Publikum geöffnet sind und in Kooperation mit dem Onlinecampus Virtuelle PH angeboten werden\, werden Ansätze zur Arbeit mit diesem komplexen Themenfeld im Rahmen der Entwicklung am eigenen Standort vorgestellt.  \nDie Vortragenden erzählen aus der eigenen Praxis und richten den Blick dabei jeweils auf einen der zentralen Qualitätsbereiche von Schule: Leadership in Leitung und Management (09.03.2017)\, Unterricht (29.03.2017)\, und Schule als Lebensraum (20.04.2017). \n\n			\n				\n			\n			Teilnahmekriterien & Info\n		 \n		\n			Lernziele\n		 \n		\n			Voraussetzungen\n		\n		 \n		\n			\n				\n					\n			Technische Voraussetzungen: Grundlegende Computerkenntnisse\, gute Internetverbindung; optional: Headset.  \nSo treten Sie der eLecture im virtuellen Lernraum bei:  \n1. Rufen Sie 10 min vor Terminstart folgende Seite auf:  \nvph.adobeconnect.com/vier/ \n2. Geben Sie bitte Ihren Vor- und Nachnamen ein und „Betreten Sie den Raum“ mit Klick auf den Button. \n3. Folgen Sie den Anweisungen auf dem Bildschirm. Sie werden in Kürze eingelassen. \nWenn Sie noch an keiner eLecture teilgenommen haben\, finden Sie alle Infos zum Einstieg unter:\nwww.virtuelle-ph.at/electures/#einstieg \nDie Teilnahme an allen eLectures der Virtuellen PH ist für österreichische Lehrkräfte und Studierende eines Lehramts kostenlos.\n		 \n		\n			# Die Teilnehmer_innen betrachten die Arbeit an Schulen im Kontext von Flucht und Migration aus der Perspektive der Schulleitung.\n# Sie setzen sich dabei vor allem mit der Rolle und dem Leadership von Schulleitung auseinander und erhalten Einblick in die Praxis der Montessori-Gesamtschule Potsdam.
URL:https://www.virtuelle-ph.at/veranstaltung/voxmi-electure-flucht-und-migration-einfluesse-auf-die-schulentwicklung-teil-1-schulleitung-und-leadership/
CATEGORIES:eLecture
END:VEVENT
END:VCALENDAR