BEGIN:VCALENDAR
VERSION:2.0
PRODID:-//Virtuelle PH - ECPv6.6.4.2//NONSGML v1.0//EN
CALSCALE:GREGORIAN
METHOD:PUBLISH
X-WR-CALNAME:Virtuelle PH
X-ORIGINAL-URL:https://www.virtuelle-ph.at
X-WR-CALDESC:Veranstaltungen für Virtuelle PH
REFRESH-INTERVAL;VALUE=DURATION:PT1H
X-Robots-Tag:noindex
X-PUBLISHED-TTL:PT1H
BEGIN:VTIMEZONE
TZID:Europe/Berlin
BEGIN:DAYLIGHT
TZOFFSETFROM:+0100
TZOFFSETTO:+0200
TZNAME:CEST
DTSTART:20170326T010000
END:DAYLIGHT
BEGIN:STANDARD
TZOFFSETFROM:+0200
TZOFFSETTO:+0100
TZNAME:CET
DTSTART:20171029T010000
END:STANDARD
END:VTIMEZONE
BEGIN:VEVENT
DTSTART;TZID=Europe/Berlin:20170330T190000
DTEND;TZID=Europe/Berlin:20170330T200000
DTSTAMP:20260420T170021
CREATED:20170210T034010Z
LAST-MODIFIED:20170330T082700Z
UID:10002471-1490900400-1490904000@www.virtuelle-ph.at
SUMMARY:eLecture: Praxistipps zur gendersensiblen Pädagogik im Unterrichtsalltag
DESCRIPTION:CoModeration: Walter Fikisz \nEine aktuelle Web-Umfrage zum Thema „Gendersensible Pädagogik“ www.oeliug.at/pv-akademie/aktuelle-umfragen/gendersensible-pädagogik\, an der sich 126 Lehrpersonen beteiligt haben\, zeigt die Bandbreite von voller Zustimmung bis vehementer Ablehnung\, wenn es darum geht\, Geschlecht im Unterricht zu thematisieren. \nDer Verein EfEU setzt sich seit seiner Gründung vor 30 Jahren für mehr Geschlechtergerechtigkeit in der Schule ein und verfolgt das Ziel\, Pädagog*innen für eine theoretische Auseinandersetzung mit dem Thema zu gewinnen\, aber auch konkrete Handreichungen für den Unterrichtsalltag zu geben.  \nDie eLecture bietet\n# Informationen zu den rechtlichen Rahmenbedingungen für geschlechtssensiblen Unterricht\,\n# praktische Beispiele und Materialien für gendersensible Pädagogik\,\n# Erfahrungen aus der Arbeit mit Lehrer*innen und Schüler*innen\,\n# Vorstellen des Vereins EfEU. \nDie eLecture ist für Sie interessant\, wenn\n# Sie schon immer wissen wollte\, was es mit dem Thema „gendersensible Pädagogik“ auf sich hat\,\n# Sie in Ihrem Unterricht geschlechtssensibel agieren und sich mit anderen darüber austauschen wollen\,\n# wenn Sie dem Thema gegenüber skeptisch\, aber prinzipiell interessiert sind\, „wozu das Ganze gut sein soll“. \n\n			\n				\n			\n			Teilnahmekriterien & Info\n		 \n		\n			Lernziele\n		 \n		\n			Voraussetzungen\n		\n		 \n		\n			\n				\n					\n			Technische Voraussetzungen: Grundlegende Computerkenntnisse\, gute Internetverbindung; optional: Headset.  \nSo treten Sie der eLecture im virtuellen Lernraum bei:  \n1. Rufen Sie 10 min vor Terminstart folgende Seite auf:  \nvph.adobeconnect.com/vier/ \n2. Geben Sie bitte Ihren Vor- und Nachnamen ein und „Betreten Sie den Raum“ mit Klick auf den Button. \n3. Folgen Sie den Anweisungen auf dem Bildschirm. Sie werden in Kürze eingelassen. \nWenn Sie noch an keiner eLecture teilgenommen haben\, finden Sie alle Infos zum Einstieg unter:\nwww.virtuelle-ph.at/electures/#einstieg \nDie Teilnahme an allen eLectures der Virtuellen PH ist für österreichische Lehrkräfte und Studierende eines Lehramts kostenlos.\n		 \n		\n			Am Ende der eLecture wissen Sie\,\n# wo im Web Sie konkrete gendersensible Materialien für Ihren Unterricht finden\,\n# welche rechtlichen Rahmenbedingungen Sie stärken\, wenn Sie geschlechter¬gerecht unterrichten wollen\,\n# welche Unterstützung Sie vom Verein EfEU bekommen können\, um dem Ziel „Geschlechter-gerechtigkeit“ ein paar Schritte näher zu kommen.
URL:https://www.virtuelle-ph.at/veranstaltung/electure-praxistipps-zur-gendersensiblen-paedagogik-im-unterrichtsalltag/
CATEGORIES:eLecture
END:VEVENT
END:VCALENDAR