BEGIN:VCALENDAR
VERSION:2.0
PRODID:-//Virtuelle PH - ECPv6.6.4.2//NONSGML v1.0//EN
CALSCALE:GREGORIAN
METHOD:PUBLISH
X-ORIGINAL-URL:https://www.virtuelle-ph.at
X-WR-CALDESC:Veranstaltungen für Virtuelle PH
REFRESH-INTERVAL;VALUE=DURATION:PT1H
X-Robots-Tag:noindex
X-PUBLISHED-TTL:PT1H
BEGIN:VTIMEZONE
TZID:Europe/Vienna
BEGIN:DAYLIGHT
TZOFFSETFROM:+0100
TZOFFSETTO:+0200
TZNAME:CEST
DTSTART:20220327T010000
END:DAYLIGHT
BEGIN:STANDARD
TZOFFSETFROM:+0200
TZOFFSETTO:+0100
TZNAME:CET
DTSTART:20221030T010000
END:STANDARD
END:VTIMEZONE
BEGIN:VEVENT
DTSTART;VALUE=DATE:20220112
DTEND;VALUE=DATE:20220131
DTSTAMP:20260421T011803
CREATED:20220113T033003Z
LAST-MODIFIED:20220113T033034Z
UID:10003998-1641945600-1643587199@www.virtuelle-ph.at
SUMMARY:Digitale Lesekompetenz fördern - Sek.1
DESCRIPTION:Zur Anmeldung\n						\n\n						Seit PISA 2009 wissen wir\, dass nur 3% der österreichischen Schülerinnen und Schüler im Lesen digitaler Texte besonders leistungsstark sind. Jedoch war das Interesse der Schülerinnen und Schüler an digitalen Medien nie größer als heute. Warum sollte man nicht diese Motivation und ihre Fähigkeiten in diesem Bereich nutzen\, um durch das Lesen von digitalen Texten die digitale Lesekompetenz zu erhöhen? Dies würde sich laut aktueller Studien auch auf die Leselust und die Leseleistung bei gedruckten\, linearen Texten auswirken. \nwww.virtuelle-ph.at/online-seminare \nBei diesem Online-Seminar handelt es sich um ein begleitetes OTA Praktikum. Mehr zur OTA unter www.virtuelle-ph.at/ota \n\nExpert_in: Verena Eule-Stauder\, Martina Hochenauer \n\n\n			\n				\n			\n			Teilnahmekriterien & Info\n		 \n		\n			Lernziele\n		 \n		\n			Voraussetzungen\n		\n		 \n		\n			\n				\n					\n			Die Teilnahme an allen im Rahmen des Onlineprogramms angebotenen Online-Seminaren der Virtuellen PH ist für österreichische Lehrkräfte und Studierende eines Lehramts kostenlos. Die Seminarplätze werden nach dem Prinzip first come\, first served – also chronologisch nach dem Zeitpunkt Ihrer Seminarbuchung über PH-Online – vergeben. Bis Mittwoch vor Beginn des jeweiligen Online-Seminars können Sie über PH-Online Ihr gebuchtes Online-Seminar selber kostenlos stornieren. Für ein allfälliges Storno zu einem späteren Zeitpunkt wenden Sie sich bitte an: info@virtuelle-ph.at\n		 \n		\n			• Unterschiede von gedruckten und digitalen Texten benennen können\n• Lesestrategien zum Erfassen digitaler Texte kennen\n• Lernziele von digitalen Leseübungen benennen können\n• Digitale Leseübungen erstellen können\n• Leistungsrückmeldungen geben können\n• Digitale Kompetenzen (Kompetenzmodelle\, BIST\, Schlüsselkompetenzen) kennen\n• Digitale Leseförderangebote kennen und nutzen\n• Digitale Lesekompetenzen überprüfen können\n		 \n		\n			Grundlegende Internet-Kenntnisse.
URL:https://www.virtuelle-ph.at/veranstaltung/digitale-lesekompetenz-foerdern-sek-1-10/
CATEGORIES:Online-Programm HerbstWinterprogramm,Online-Seminar
END:VEVENT
BEGIN:VEVENT
DTSTART;VALUE=DATE:20220110
DTEND;VALUE=DATE:20220131
DTSTAMP:20260421T011803
CREATED:20210920T094055Z
LAST-MODIFIED:20220109T033015Z
UID:10003950-1641772800-1643587199@www.virtuelle-ph.at
SUMMARY:Digitale Lesekompetenz fördern - Sek.1
DESCRIPTION:Zur Anmeldung\n						\n\n						Seit PISA 2009 wissen wir\, dass nur 3% der österreichischen Schülerinnen und Schüler im Lesen digitaler Texte besonders leistungsstark sind. Jedoch war das Interesse der Schülerinnen und Schüler an digitalen Medien nie größer als heute. Warum sollte man nicht diese Motivation und ihre Fähigkeiten in diesem Bereich nutzen\, um durch das Lesen von digitalen Texten die digitale Lesekompetenz zu erhöhen? Dies würde sich laut aktueller Studien auch auf die Leselust und die Leseleistung bei gedruckten\, linearen Texten auswirken. \nwww.virtuelle-ph.at/online-seminare \nBei diesem Online-Seminar handelt es sich um ein begleitetes OTA Praktikum. Mehr zur OTA unter www.virtuelle-ph.at/ota \n\nExpert_in: Verena Eule-Stauder\, Martina Hochenauer \n\n\n			\n				\n			\n			Teilnahmekriterien & Info\n		 \n		\n			Lernziele\n		 \n		\n			Voraussetzungen\n		\n		 \n		\n			\n				\n					\n			Die Teilnahme an allen im Rahmen des Onlineprogramms angebotenen Online-Seminaren der Virtuellen PH ist für österreichische Lehrkräfte und Studierende eines Lehramts kostenlos. Die Seminarplätze werden nach dem Prinzip first come\, first served – also chronologisch nach dem Zeitpunkt Ihrer Seminarbuchung über PH-Online – vergeben. Bis Mittwoch vor Beginn des jeweiligen Online-Seminars können Sie über PH-Online Ihr gebuchtes Online-Seminar selber kostenlos stornieren. Für ein allfälliges Storno zu einem späteren Zeitpunkt wenden Sie sich bitte an: info@virtuelle-ph.at\n		 \n		\n			• Unterschiede von gedruckten und digitalen Texten benennen können\n• Lesestrategien zum Erfassen digitaler Texte kennen\n• Lernziele von digitalen Leseübungen benennen können\n• Digitale Leseübungen erstellen können\n• Leistungsrückmeldungen geben können\n• Digitale Kompetenzen (Kompetenzmodelle\, BIST\, Schlüsselkompetenzen) kennen\n• Digitale Leseförderangebote kennen und nutzen\n• Digitale Lesekompetenzen überprüfen können\n		 \n		\n			Grundlegende Internet-Kenntnisse.
URL:https://www.virtuelle-ph.at/veranstaltung/digitale-lesekompetenz-foerdern-sek-1-9/
CATEGORIES:Online-Programm HerbstWinterprogramm,Online-Seminar
END:VEVENT
END:VCALENDAR