BEGIN:VCALENDAR
VERSION:2.0
PRODID:-//Virtuelle PH - ECPv6.6.4.2//NONSGML v1.0//EN
CALSCALE:GREGORIAN
METHOD:PUBLISH
X-WR-CALNAME:Virtuelle PH
X-ORIGINAL-URL:https://www.virtuelle-ph.at
X-WR-CALDESC:Veranstaltungen für Virtuelle PH
REFRESH-INTERVAL;VALUE=DURATION:PT1H
X-Robots-Tag:noindex
X-PUBLISHED-TTL:PT1H
BEGIN:VTIMEZONE
TZID:Europe/Vienna
BEGIN:DAYLIGHT
TZOFFSETFROM:+0100
TZOFFSETTO:+0200
TZNAME:CEST
DTSTART:20220327T010000
END:DAYLIGHT
BEGIN:STANDARD
TZOFFSETFROM:+0200
TZOFFSETTO:+0100
TZNAME:CET
DTSTART:20221030T010000
END:STANDARD
TZID:Europe/Berlin
BEGIN:DAYLIGHT
TZOFFSETFROM:+0100
TZOFFSETTO:+0200
TZNAME:CEST
DTSTART:20180325T010000
END:DAYLIGHT
BEGIN:STANDARD
TZOFFSETFROM:+0200
TZOFFSETTO:+0100
TZNAME:CET
DTSTART:20181028T010000
END:STANDARD
END:VTIMEZONE
BEGIN:VEVENT
DTSTART;TZID=Europe/Vienna:20220330T170000
DTEND;TZID=Europe/Vienna:20220330T180000
DTSTAMP:20260425T135441
CREATED:20211222T082031Z
LAST-MODIFIED:20220331T063534Z
UID:10003990-1648659600-1648663200@www.virtuelle-ph.at
SUMMARY:eLecture: So geht Blended Learning international
DESCRIPTION:zur Aufzeichnung\n    \n\n						Der Einsatz von Technologie im Unterricht kann sich manchmal wie nur eine weitere Aufgabe unter vielen anfühlen. In pandemiebedingten Zeiten des Fernunterrichts hat sich gezeigt\, dass die Einbindung einer Partnerklasse durch ein Online-Projekt den Enthusiasmus der Schüler/innen merklich erhöhte. Die Zusammenarbeit mit einer oder mehreren Partnerschulen aus dem In- und Ausland in einem eTwinning-Projekt ermöglicht den Einsatz diverser Online-Tools\, gemeinsame Bearbeitung des Lehrstoffes\, Austausch über Methoden\, sowie interessante Anreize für die Schüler/innen. \nVesna Babaja ist seit 2017 in der nationalen eTwinning-Koordinierungstelle beim OeAD\, der österreichischen Agentur für Bildung und Internationalisierung\, tätig. Sie bietet Schulungen und Unterstützung in eTwinning an und bringt jahrelange Erfahrung in europäischen Programmen mit. In der eLecture wird sie von einer eTwinning-Botschafterin unterstützt – d.h. einer Lehrerin mit Erfahrung im Einbinden von eTwinning-Projekten in ihren Unterricht. \nDiese eLecture wird Ihnen zeigen\, wie und wo das eTwinning-Programm läuft; wie man teilnehmen kann; wie man Partnerschulen finden kann; welche Online-Tools zur Verfügung stehen sowie wie man weitere Tools verknüpfen kann; und schließlich\, wie die Erfahrungen mit Blended Learning in der großen eTwinning-Gemeinschaft geteilt werden. \nDie vorgestellten Methoden eignen sich für alle Schulstufen. \nCoModeration: Sabrina Gerth \n\nExpert_in: Vesna Babaja \n\n\n			\n				\n			\n			Teilnahmekriterien & Info\n		 \n		\n			Lernziele\n		 \n		\n			Voraussetzungen\n		\n		 \n		\n			\n				\n					\n			So treten Sie der Veranstaltung im virtuellen Lernraum bei: \n1. Rufen Sie 5 min vor Terminstart den Link zum Virtuellen Lernraum auf: \nvirtuelle-ph-at.zoom.us/my/virtuelleph.electuredrei \n2. Geben Sie bitte Ihren vollen Namen ein und klicken Sie den Button „Einem Meeting Beitreten“.                              \n3. Klicken Sie den grünen Button „Per Computer dem Audio beitreten“ an. \nDas bewirkt\, dass Sie uns hören und sehen können. Sie werden in Kürze eingelassen. \nDie Teilnahme an allen eLectures der Virtuellen PH ist für österreichische Hochschullehrende\, Lehrkräfte und Studierende eines Lehramts kostenlos.\n		 \n		\n			* Registrierung an der eTwinning-Plattform verstehen und durchführen können \n* Methoden zur Findung einer Partnerschule kennen \n* Struktur eines eTwinning-Projektes verstehen \n* Konzept für die Einbindung eines eTwinning-Projektes in den Unterricht entwickeln können
URL:https://www.virtuelle-ph.at/veranstaltung/electure-so-geht-blended-learning-international/
CATEGORIES:eLecture
END:VEVENT
BEGIN:VEVENT
DTSTART;TZID=Europe/Berlin:20181009T170000
DTEND;TZID=Europe/Berlin:20181009T180000
DTSTAMP:20260425T135441
CREATED:20181015T104116Z
LAST-MODIFIED:20181130T104119Z
UID:10003031-1539104400-1539108000@www.virtuelle-ph.at
SUMMARY:eLecture: eTwinning Programm - Europa in Ihrem Klassenzimmer
DESCRIPTION:zur Aufzeichnung\n\n\n						Internationaler Austausch bringt sowohl Schüler/innen als auch Lehrer/innen viele Vorteile. Eine unkomplizierte Möglichkeit dafür stellt die Internetplattform eTwinning dar\, die die Vernetzung europäischer Schulen und vorschulischer Einrichtungen über das Internet ermöglicht. \nDas Programm ist für alle Schulformen\, Fächer und Altersstufen offen. Es nehmen schon über 500\,000 Lehrkräfte aus 47 Staaten teil. \nVesna Babaja von der österreichischen eTwinning-Koordinierungsstelle zeigt Ihnen\, wie die eTwinning-Plattform funktioniert und welche praktischen Tools und Weiterbildungsmöglichkeiten den Lehrkräften zur Verfügung stehen. \nDiese eLecture wird Sie interessieren\, falls Sie transnationale Kommunikation und digitale Medien Ihren Schüler_innen näher bringen wollen und in die EU Programme einsteigen wollen. \nCoModeration: Thomas Winkler \n\n			\n				\n			\n			Teilnahmekriterien & Info\n		 \n		\n			Lernziele\n		 \n		\n			Voraussetzungen\n		\n		 \n		\n			\n				\n					\n			Technische Voraussetzungen: Grundlegende Computerkenntnisse\, gute Internetverbindung; optional: Headset. \nSo treten Sie der eLecture im virtuellen Lernraum bei:  \n1. Rufen Sie 10 min vor Terminstart folgende Seite auf:  \nvph.adobeconnect.com/zwei/ \n2. Geben Sie bitte Ihren Vor- und Nachnamen ein und „Betreten Sie den Raum“ mit Klick auf den Button. \n3. Folgen Sie den Anweisungen auf dem Bildschirm. Sie werden in Kürze eingelassen. \nWenn Sie noch an keiner eLecture teilgenommen haben\, finden Sie alle Infos zum Einstieg unter: www.virtuelle-ph.at/electures/#einstieg \nDie Teilnahme an allen eLectures der Virtuellen PH ist für österreichische Lehrkräfte und Studierende eines Lehramts kostenlos.\n		 \n		\n			\nSich auf der eTwinning-Plattform registrieren\nProjektpartner_innen finden können\nEin Projekt auf der eTwinning-Plattform starten und durchführen können\nGeeignete Apps für Ihr Projekt auswählen und anwenden können
URL:https://www.virtuelle-ph.at/veranstaltung/electure-etwinning-programm-europa-in-ihrem-klassenzimmer/
CATEGORIES:eLecture
END:VEVENT
END:VCALENDAR