BEGIN:VCALENDAR
VERSION:2.0
PRODID:-//Virtuelle PH - ECPv6.6.4.2//NONSGML v1.0//EN
CALSCALE:GREGORIAN
METHOD:PUBLISH
X-WR-CALNAME:Virtuelle PH
X-ORIGINAL-URL:https://www.virtuelle-ph.at
X-WR-CALDESC:Veranstaltungen für Virtuelle PH
REFRESH-INTERVAL;VALUE=DURATION:PT1H
X-Robots-Tag:noindex
X-PUBLISHED-TTL:PT1H
BEGIN:VTIMEZONE
TZID:Europe/Berlin
BEGIN:DAYLIGHT
TZOFFSETFROM:+0100
TZOFFSETTO:+0200
TZNAME:CEST
DTSTART:20200329T010000
END:DAYLIGHT
BEGIN:STANDARD
TZOFFSETFROM:+0200
TZOFFSETTO:+0100
TZNAME:CET
DTSTART:20201025T010000
END:STANDARD
END:VTIMEZONE
BEGIN:VEVENT
DTSTART;TZID=Europe/Berlin:20200528T190000
DTEND;TZID=Europe/Berlin:20200528T200000
DTSTAMP:20260420T155231
CREATED:20200416T153024Z
LAST-MODIFIED:20200529T083722Z
UID:10003331-1590692400-1590696000@www.virtuelle-ph.at
SUMMARY:eLecture: Die Lernapp "Fliehen vor dem Holocaust. Meine Begegnung mit Geflüchteten"
DESCRIPTION:zur Aufzeichnung\n\n\n						Noch nie in der Menschheitsgeschichte waren so viele Menschen auf der Flucht wie heute: 66 Millionen. Sie alle haben vorher Schreckliches erlebt\, befinden sich jetzt in einer prekären Lage und wissen nicht\, wie ihre Zukunft aussehen wird. Fliehen mussten die Menschen auch vor der Vernichtung im Holocaust. Flucht ist also ein bedrängendes gegenwärtiges und ein historisches Phänomen. \nImmer weniger der in den 1930er- und 1940er-Jahren geflohenen Menschen können von ihren Erfahrungen erzählen; und trotzdem bleibt die Erzählung von Betroffenen für Jugendliche die eindrucksvollste Quelle. \nDie App „Fliehen vor dem Holocaust. Meine Begegnung mit Geflüchteten“ erschließt Jugendlichen über das Medium Film einen Zugang zu diesen historischen Erfahrungen. Sie kann sowohl im Unterricht als auch in der Jugendarbeit oder individuell genutzt werden. Für Lehrpersonen steht ein informatives Handbuch bereit. Die App ermöglicht individuelles Lernen: Die Jugendlichen wählen eine Person aus\, vertiefen einzelne sie interessierende Aspekte und erstellen ein persönliches Album ihrer Begegnung. Indem sie diese Ergebnisse jemandem mitteilen und/oder in der Klasse austauschen\, lernen sie voneinander. \nSie lernen Erinnerungen mit historischen Dokumenten zusammenzubringen sowie beide quellenkritisch zu betrachten. \nCoModeration: Walter Fikisz \n\nExpert_in: Werner Dreier \n\n\n			\n				\n			\n			Teilnahmekriterien & Info\n		 \n		\n			Lernziele\n		 \n		\n			Voraussetzungen\n		\n		 \n		\n			\n				\n					\n			Technische Voraussetzungen: Grundlegende Computerkenntnisse\, gute Internetverbindung; optional: Headset.  \nSo treten Sie der eLecture im virtuellen Lernraum bei:  \n1. Rufen Sie 10 min vor Terminstart folgende Seite auf:  \n	vph.adobeconnect.com/vier/ \n2. Geben Sie bitte Ihren Vor- und Nachnamen ein und „Betreten Sie den Raum“ mit Klick auf den Button. \n3. Folgen Sie den Anweisungen auf dem Bildschirm. Sie werden in Kürze eingelassen. \nWenn Sie noch an keiner eLecture teilgenommen haben\, finden Sie alle Infos zum Einstieg unter: www.virtuelle-ph.at/electures/#einstieg \nDie Teilnahme an allen eLectures der Virtuellen PH ist für österreichische Lehrkräfte und Studierende eines Lehramts kostenlos.\n		 \n		\n			Grundfunktionen der App und Handbuch kennenlernen \nErinnerungen mit historischen Dokumenten zusammenbringen sowie beide quellenkritisch betrachten lernen
URL:https://www.virtuelle-ph.at/veranstaltung/electure-die-lernapp-fliehen-vor-dem-holocaust-meine-begegnung-mit-gefluechteten/
CATEGORIES:eLecture
END:VEVENT
END:VCALENDAR