BEGIN:VCALENDAR
VERSION:2.0
PRODID:-//Virtuelle PH - ECPv6.6.4.2//NONSGML v1.0//EN
CALSCALE:GREGORIAN
METHOD:PUBLISH
X-ORIGINAL-URL:https://www.virtuelle-ph.at
X-WR-CALDESC:Veranstaltungen für Virtuelle PH
REFRESH-INTERVAL;VALUE=DURATION:PT1H
X-Robots-Tag:noindex
X-PUBLISHED-TTL:PT1H
BEGIN:VTIMEZONE
TZID:Europe/Berlin
BEGIN:DAYLIGHT
TZOFFSETFROM:+0100
TZOFFSETTO:+0200
TZNAME:CEST
DTSTART:20200329T010000
END:DAYLIGHT
BEGIN:STANDARD
TZOFFSETFROM:+0200
TZOFFSETTO:+0100
TZNAME:CET
DTSTART:20201025T010000
END:STANDARD
END:VTIMEZONE
BEGIN:VEVENT
DTSTART;TZID=Europe/Berlin:20201126T190000
DTEND;TZID=Europe/Berlin:20201126T203000
DTSTAMP:20260420T004220
CREATED:20201020T095258Z
LAST-MODIFIED:20201124T165415Z
UID:10003808-1606417200-1606422600@www.virtuelle-ph.at
SUMMARY:LEIDER ABGESAGT: PH-Praxis-Plausch mit Wolfgang Kolleritsch: Radioigel und IgelTV
DESCRIPTION:Zur Anmeldung \n\nZum virtuellen Lernraum \n\n\nAudiovisuelle Medienproduktion von Studierenden und Lehrenden als didaktische Möglichkeit im Bereich von Wissenserwerb und -vermittlung\, Dokumentation und Praxistransfer. \nSie sind interessiert an einem Erfahrungsaustausch oder haben vor\, an Ihrer Hochschule audiovisuelle Medienproduktion zu professionalisieren\, dann laden wir Sie herzlich zu unserem Praxisplausch live in das IgelTV Studio an der PH Steiermark ein. \nWolfgang Kolleritsch ist Professor für Mediendidaktik an der PH Steiermark und hat die Lernform Radio- und TV initiiert und seit 2010 kontinuierlich auf- und ausgebaut. Derzeit gibt es zwölf Radioigel und IgelTV-Studios mit dem Zentrum an der PH Steiermark. \nCoModeration: Walter Fikisz \n\nExpert_in: Harald MeyerWolfgang Kolleritsch \n\n\n			\n				\n			\n			Teilnahmekriterien & Info\n		 \n		\n			Lernziele\n		 \n		\n			Voraussetzungen\n		\n		 \n		\n			\n				\n					\n			So treten Sie der Veranstaltung im virtuellen Lernraum bei: \n1. Rufen Sie 5 min vor Terminstart den Link zum Virtuellen Lernraum auf. Der link zum virtuellen Lernraum wird Ihnen rechtzeitig vor der Lehveranstaltung per Mail zugesendet. \n2. Geben Sie bitte Ihre Email-Adresse und Ihren vollen Namen ein und klicken Sie den Button\n„Dem Webinar beitreten“. \n3. Klicken Sie den grünen Button „Per Computer dem Audio beitreten“ an.\nDas bewirkt\, dass Sie uns hören und sehen können. Sie werden in Kürze eingelassen. \nDie Teilnahme an allen eLectures der Virtuellen PH ist für österreichische Hochschullehrende\, Lehrkräfte und Studierende eines Lehramts kostenlos.\n		 \n		\n			# Einblick in die audiovisuelle Medienproduktion an der PH Steiermark \n# Kennenlernen von Vor- und Nachteilen unterschiedlicher Settings \n# Vernetzung
URL:https://www.virtuelle-ph.at/veranstaltung/ph-praxis-plausch-mit-wolfgang-kolleritsch-radioigel-und-igeltv/
CATEGORIES:eLecture,Reihe PHPraxisPlausch
END:VEVENT
END:VCALENDAR