BEGIN:VCALENDAR
VERSION:2.0
PRODID:-//Virtuelle PH - ECPv6.6.4.2//NONSGML v1.0//EN
CALSCALE:GREGORIAN
METHOD:PUBLISH
X-ORIGINAL-URL:https://www.virtuelle-ph.at
X-WR-CALDESC:Veranstaltungen für Virtuelle PH
REFRESH-INTERVAL;VALUE=DURATION:PT1H
X-Robots-Tag:noindex
X-PUBLISHED-TTL:PT1H
BEGIN:VTIMEZONE
TZID:Europe/Berlin
BEGIN:DAYLIGHT
TZOFFSETFROM:+0100
TZOFFSETTO:+0200
TZNAME:CEST
DTSTART:20170326T010000
END:DAYLIGHT
BEGIN:STANDARD
TZOFFSETFROM:+0200
TZOFFSETTO:+0100
TZNAME:CET
DTSTART:20171029T010000
END:STANDARD
BEGIN:DAYLIGHT
TZOFFSETFROM:+0100
TZOFFSETTO:+0200
TZNAME:CEST
DTSTART:20180325T010000
END:DAYLIGHT
BEGIN:STANDARD
TZOFFSETFROM:+0200
TZOFFSETTO:+0100
TZNAME:CET
DTSTART:20181028T010000
END:STANDARD
BEGIN:DAYLIGHT
TZOFFSETFROM:+0100
TZOFFSETTO:+0200
TZNAME:CEST
DTSTART:20190331T010000
END:DAYLIGHT
BEGIN:STANDARD
TZOFFSETFROM:+0200
TZOFFSETTO:+0100
TZNAME:CET
DTSTART:20191027T010000
END:STANDARD
END:VTIMEZONE
BEGIN:VEVENT
DTSTART;TZID=Europe/Berlin:20190514T190000
DTEND;TZID=Europe/Berlin:20190514T200000
DTSTAMP:20260420T110944
CREATED:20190314T161611Z
LAST-MODIFIED:20190515T070809Z
UID:10003379-1557860400-1557864000@www.virtuelle-ph.at
SUMMARY:eLecture: Cybermobbing: Prävention und Intervention mit dem no-blame-approach
DESCRIPTION:zur Aufzeichnung\n\n\n						Cybermobbing ist ein rasch zunehmendes Phänomen an Schulen und verdeutlicht\, dass der richtige Umgang mit digitalen Medien bewusst gemacht und geübt werden muss. \nDigitale Kompetenz kann jedoch nicht isoliert erworben werden\, sondern ist im Kontext mit der Persönlichkeitsentwicklung und der Beziehung des Einzelnen zur Gruppe zu sehen. Wir verfolgen daher einen ganzheitlichen Ansatz. Neben der Vermittlung von umfassender Information liegt ein weiterer Schwerpunkt unserer Arbeit daher im individuellen und sozialen Bereich. \nDie Referent_innen\, Mag. Marianne Altena und Mag. Birgit Sowa sind AHS-Lehrerinnen\, eingetragene Mediatorinnen\, zertifizierte Mobbing-Beraterinnen und arbeiten gemeinsam unter AL.SO (www.al-so.at) im Konfliktmanagement. Wolfgang Pospischill ist SaferInternet-Trainer und Medienpädagoge. \nNach einer kurzen Klärung des Begriffs Cybermobbing gilt der erste Teil der eLecture der Prävention. Das in diesem Kontext notwendige Basiswissen wird vermittelt und der oben angeführte Ansatz an Hand zweier Beispiele verdeutlicht. \nTritt Cybermobbing innerhalb einer Klasse auf\, bewährt sich der no-blame-approach als Interventionsmethode\, dessen Ablauf die Teilnehmer_innen im zweiten Teil kennenlernen. \nCoModeration: Thomas Winkler \n\n			\n				\n			\n			Teilnahmekriterien & Info\n		 \n		\n			Lernziele\n		 \n		\n			Voraussetzungen\n		\n		 \n		\n			\n				\n					\n			Technische Voraussetzungen: Grundlegende Computerkenntnisse\, gute Internetverbindung; optional: Headset. \nSo treten Sie der eLecture im virtuellen Lernraum bei:  \n1. Rufen Sie 10 min vor Terminstart folgende Seite auf:  \nvph.adobeconnect.com/zwei/ \n2. Geben Sie bitte Ihren Vor- und Nachnamen ein und „Betreten Sie den Raum“ mit Klick auf den Button. \n3. Folgen Sie den Anweisungen auf dem Bildschirm. Sie werden in Kürze eingelassen. \nWenn Sie noch an keiner eLecture teilgenommen haben\, finden Sie alle Infos zum Einstieg unter: www.virtuelle-ph.at/electures/#einstieg \nDie Teilnahme an allen eLectures der Virtuellen PH ist für österreichische Lehrkräfte und Studierende eines Lehramts kostenlos.\n		 \n		\n			# Erwerb der Basisinformationen zum Thema Cybermobbing \n# Einblicke in Strategien zur Prävention und Intervention \n# Erkennen des Zusammenhangs zwischen Cybermobbing-Prävention und dem Erwerb von digitaler Kompetenz
URL:https://www.virtuelle-ph.at/veranstaltung/electure-cybermobbing-praevention-und-intervention-mit-dem-no-blame-approach-3/
CATEGORIES:eLecture
END:VEVENT
BEGIN:VEVENT
DTSTART;TZID=Europe/Berlin:20181023T170000
DTEND;TZID=Europe/Berlin:20181023T180000
DTSTAMP:20260420T110944
CREATED:20180925T112326Z
LAST-MODIFIED:20181130T103039Z
UID:10002995-1540314000-1540317600@www.virtuelle-ph.at
SUMMARY:eLecture: Cybermobbing: Prävention und Intervention mit dem no-blame-approach
DESCRIPTION:zur Aufzeichnung\n\n\n						Cybermobbing ist ein rasch zunehmendes Phänomen an Schulen und verdeutlicht\, dass der richtige Umgang mit digitalen Medien bewusst gemacht und geübt werden muss. \nDigitale Kompetenz kann jedoch nicht isoliert erworben werden\, sondern ist im Kontext mit der Persönlichkeitsentwicklung und der Beziehung des Einzelnen zur Gruppe zu sehen. Wir verfolgen daher einen ganzheitlichen Ansatz. Neben der Vermittlung von umfassender Information liegt ein weiterer Schwerpunkt unserer Arbeit daher im individuellen und sozialen Bereich. \nDie Referent_innen\, Mag. Marianne Altena und Mag. Birgit Sowa sind AHS-Lehrerinnen\, eingetragene Mediatorinnen\, zertifizierte Mobbing-Beraterinnen und arbeiten gemeinsam unter AL.SO (www.al-so.at) im Konfliktmanagement. Wolfgang Pospischill ist SaferInternet-Trainer und Medienpädagoge. \nNach einer kurzen Klärung des Begriffs Cybermobbing gilt der erste Teil der eLecture der Prävention. Das in diesem Kontext notwendige Basiswissen wird vermittelt und der oben angeführte Ansatz an Hand zweier Beispiele verdeutlicht. \nTritt Cybermobbing innerhalb einer Klasse auf\, bewährt sich der no-blame-approach als Interventionsmethode\, dessen Ablauf die Teilnehmer_innen im zweiten Teil kennenlernen. \nCoModeration: Thomas Winkler \n\n			\n				\n			\n			Teilnahmekriterien & Info\n		 \n		\n			Lernziele\n		 \n		\n			Voraussetzungen\n		\n		 \n		\n			\n				\n					\n			Technische Voraussetzungen: Grundlegende Computerkenntnisse\, gute Internetverbindung; optional: Headset. \nSo treten Sie der eLecture im virtuellen Lernraum bei:  \n1. Rufen Sie 10 min vor Terminstart folgende Seite auf:  \nvph.adobeconnect.com/zwei/ \n2. Geben Sie bitte Ihren Vor- und Nachnamen ein und „Betreten Sie den Raum“ mit Klick auf den Button. \n3. Folgen Sie den Anweisungen auf dem Bildschirm. Sie werden in Kürze eingelassen. \nWenn Sie noch an keiner eLecture teilgenommen haben\, finden Sie alle Infos zum Einstieg unter: www.virtuelle-ph.at/electures/#einstieg \nDie Teilnahme an allen eLectures der Virtuellen PH ist für österreichische Lehrkräfte und Studierende eines Lehramts kostenlos.\n		 \n		\n			# Erwerb der Basisinformationen zum Thema Cybermobbing \n# Einblicke in Strategien zur Prävention und Intervention \n# Erkennen des Zusammenhangs zwischen Cybermobbing-Prävention und dem Erwerb von digitaler Kompetenz
URL:https://www.virtuelle-ph.at/veranstaltung/electure-cybermobbing-praevention-und-intervention-mit-dem-no-blame-approach-2/
CATEGORIES:eLecture
END:VEVENT
BEGIN:VEVENT
DTSTART;TZID=Europe/Berlin:20170627T170000
DTEND;TZID=Europe/Berlin:20170627T180000
DTSTAMP:20260420T110944
CREATED:20170516T154427Z
LAST-MODIFIED:20170627T090420Z
UID:10002546-1498582800-1498586400@www.virtuelle-ph.at
SUMMARY:eLecture: Cybermobbing: Prävention und Intervention mit dem no-blame-approach
DESCRIPTION:CoModeration: Elisabeth Eder-Janca \nCybermobbing ist ein rasch zunehmendes Phänomen an Schulen und verdeutlicht\, dass der richtige Umgang mit digitalen Medien bewusst gemacht und geübt werden muss. \nDigitale Kompetenz kann jedoch nicht isoliert erworben werden\, sondern ist im Kontext mit der Persönlichkeitsentwicklung und der Beziehung des Einzelnen zur Gruppe zu sehen. Wir verfolgen daher einen ganzheitlichen Ansatz. Neben der Vermittlung von umfassender Information liegt ein weiterer Schwerpunkt unserer Arbeit daher im individuellen und sozialen Bereich. \nDie Referent_innen\, Mag. Marianne Altena und Mag. Birgit Sowa sind AHS-Lehrerinnen\, eingetragene Mediatorinnen\, zertifizierte Mobbing-Beraterinnen und arbeiten gemeinsam unter AL.SO (www.al-so.at) im Konfliktmanagement. Wolfgang Pospischill ist SaferInternet-Trainer und Medienpädagoge. \nNach einer kurzen Klärung des Begriffs Cybermobbing gilt der erste Teil der eLecture der Prävention. Das in diesem Kontext notwendige Basiswissen wird vermittelt und der oben angeführte Ansatz an Hand zweier Beispiele verdeutlicht. \nTritt Cybermobbing innerhalb einer Klasse auf\, bewährt sich der no-blame-approach als Interventionsmethode\, dessen Ablauf die Teilnehmer_innen im zweiten Teil kennenlernen. \n\n			\n				\n			\n			Teilnahmekriterien & Info\n		 \n		\n			Lernziele\n		 \n		\n			Voraussetzungen\n		\n		 \n		\n			\n				\n					\n			Technische Voraussetzungen: Grundlegende Computerkenntnisse\, gute Internetverbindung; optional: Headset.  \nSo treten Sie der eLecture im virtuellen Lernraum bei:  \n1. Rufen Sie 10 min vor Terminstart folgende Seite auf:  \nvph.adobeconnect.com/zwei/ \n2. Geben Sie bitte Ihren Vor- und Nachnamen ein und „Betreten Sie den Raum“ mit Klick auf den Button. \n3. Folgen Sie den Anweisungen auf dem Bildschirm. Sie werden in Kürze eingelassen. \nWenn Sie noch an keiner eLecture teilgenommen haben\, finden Sie alle Infos zum Einstieg unter:\nwww.virtuelle-ph.at/electures/#einstieg \nDie Teilnahme an allen eLectures der Virtuellen PH ist für österreichische Lehrkräfte und Studierende eines Lehramts kostenlos.\n		 \n		\n			# Erwerb der Basisinformationen zum Thema Cybermobbing \n# Einblicke in Strategien zur Prävention und Intervention \n# Erkennen des Zusammenhangs zwischen Cybermobbing-Prävention und dem Erwerb von digitaler Kompetenz
URL:https://www.virtuelle-ph.at/veranstaltung/electure-cybermobbing-praevention-und-intervention-mit-dem-no-blame-approach/
CATEGORIES:eLecture
END:VEVENT
BEGIN:VEVENT
DTSTART;TZID=Europe/Berlin:20170515T170000
DTEND;TZID=Europe/Berlin:20170515T180000
DTSTAMP:20260420T110944
CREATED:20170330T081001Z
LAST-MODIFIED:20170515T033323Z
UID:10002513-1494867600-1494871200@www.virtuelle-ph.at
SUMMARY:eLecture: Die dunkle Seite des Internets - Dark Net\, Phishing\, Grooming\, Sexting\, Racheporno & Co
DESCRIPTION:CoModeration: Robert Schrenk \nDas Internet bietet tolle Möglichkeiten zur Kommunikation\, Recherche\, Unterhaltung\, etc. Leider gibt es neben dieser absolut positiven auch eine dunkle Seite der Internetnutzung. Dark Net\, Phishing\, Grooming und Sexting sind hier nur einige von vielen Stichwörtern\, die dieses Thema betreffen. Bei dieser eLecture werden „dunkle“ Machenschaften im Internet sowie Präventions- und Lösungsmöglichkeiten aufgezeigt. \n\n			\n				\n			\n			Teilnahmekriterien & Info\n		 \n		\n			Lernziele\n		 \n		\n			Voraussetzungen\n		\n		 \n		\n			\n				\n					\n			Technische Voraussetzungen: Grundlegende Computerkenntnisse\, gute Internetverbindung; optional: Headset. Grundlegende Erfahrung mit Apps und Sozialen Netzwerken. \nSo treten Sie der eLecture im virtuellen Lernraum bei:  \n1. Rufen Sie 10 min vor Terminstart folgende Seite auf:  \nvph.adobeconnect.com/eins/ \n2. Geben Sie bitte Ihren Vor- und Nachnamen ein und „Betreten Sie den Raum“ mit Klick auf den Button. \n3. Folgen Sie den Anweisungen auf dem Bildschirm. Sie werden in Kürze eingelassen. \nWenn Sie noch an keiner eLecture teilgenommen haben\, finden Sie alle Infos zum Einstieg unter:\nwww.virtuelle-ph.at/electures/#einstieg \nDie Teilnahme an allen eLectures der Virtuellen PH ist für österreichische Lehrkräfte und Studierende eines Lehramts kostenlos.\n		 \n		\n			# Kennenlernen verschiedener „dunkler“ Machenschaften im Internet \n# Wie erkenne ich potentielle Fallen und wie kann ich verhindern hineinzutappen \n# Präventionsmöglichkeiten \n# Lösungsmöglichkeiten
URL:https://www.virtuelle-ph.at/veranstaltung/electure-die-dunkle-seite-des-internets-dark-net-phishing-grooming-sexting-racheporno-co/
CATEGORIES:eLecture
END:VEVENT
END:VCALENDAR