BEGIN:VCALENDAR
VERSION:2.0
PRODID:-//Virtuelle PH - ECPv6.6.4.2//NONSGML v1.0//EN
CALSCALE:GREGORIAN
METHOD:PUBLISH
X-WR-CALNAME:Virtuelle PH
X-ORIGINAL-URL:https://www.virtuelle-ph.at
X-WR-CALDESC:Veranstaltungen für Virtuelle PH
REFRESH-INTERVAL;VALUE=DURATION:PT1H
X-Robots-Tag:noindex
X-PUBLISHED-TTL:PT1H
BEGIN:VTIMEZONE
TZID:Europe/Vienna
BEGIN:DAYLIGHT
TZOFFSETFROM:+0100
TZOFFSETTO:+0200
TZNAME:CEST
DTSTART:20260329T010000
END:DAYLIGHT
BEGIN:STANDARD
TZOFFSETFROM:+0200
TZOFFSETTO:+0100
TZNAME:CET
DTSTART:20261025T010000
END:STANDARD
END:VTIMEZONE
BEGIN:VEVENT
DTSTART;VALUE=DATE:20260420
DTEND;VALUE=DATE:20260519
DTSTAMP:20260419T232413
CREATED:20260310T033136Z
LAST-MODIFIED:20260419T033132Z
UID:10006686-1776643200-1779148799@www.virtuelle-ph.at
SUMMARY:eLecture: Bundesweites Lesegütesiegel für Volksschulen: Diagnosebasierte Leseförderung – deine Superkraft
DESCRIPTION:Zur Anmeldung \n\n						Zum virtuellen Lernraum\n						\n\n						Das bundesweite Lesegütesiegel für Volksschulen setzt einen Fokus auf die diagnosebasierte Leseförderung. Diese ist einer der wesentlichen Bausteine für die wirksame Förderung der Lesekompetenz. Die eLecture verfolgt das Ziel\, den Teilnehmenden ein umfassendes Verständnis für die Bedeutung des Zusammenspiels von Diagnose und Förderung im pädagogischen Kontext zu vermitteln. Sie lernen\, wie Diagnostik als Grundlage für eine zielgerichtete und individuelle Förderung eingesetzt wird und wie wichtig es ist\, Diagnostik und Förderung eng miteinander zu verzahnen\, um die bestmögliche Unterstützung für Lernende zu gewährleisten. In fünf aufeinander aufbauenden Einheiten werden sowohl die Grundlagen einer diagnosebasierten Leseförderung als auch die einzelnen Teilaspekte der Lesekompetenz behandelt. Die eLecture-Reihe orientiert sich am Schwerpunkt 3 des Kriterienkatalogs des bundesweiten Lesegütesiegels für Volksschulen. \neLecture 1: „Einführung in die diagnosebasierte Leseförderung“ Referent/innen: Marcel Illetschko\, Susanne Seifert \neLecture 2: „Graphem-Phonem-Korrespondenzen – Grundlagen\, Diagnose und Förderung“ Referentinnen: Konstanze Edtstadler\, Stefanie Jörgl \neLecture 3: „Lexikalisches und nicht-lexikalisches Lesen – Grundlagen\, Diagnose und Förderung“ Referentinnen: Doris Kurtagic-Heindl\, Elke Römer \neLecture 4: „Leseflüssigkeit – Grundlagen\, Diagnose und Förderung“ Referentin: Tanja Unterweger \neLecture 5: „Leseverstehen – Grundlagen\, Diagnose und Förderung“ Referentinnen: Julia Festman\, Simone Naphegyi \n\nExpert_in: Elke Römer\, Doris Kurtagic-Heindl\, Konstanze Edtstadler\, Stefanie Jörgl\, Susanne Seifert\, Julia Festman\, Simone Naphegyi \n\n\n			\n				\n			\n			Teilnahmekriterien & Info\n		 \n		\n			Lernziele\n		 \n		\n			Voraussetzungen\n		\n		 \n		\n			\n				\n					\n			So treten Sie der Veranstaltung im virtuellen Lernraum bei: \n1. Rufen Sie 5 min vor Terminstart den Link zum Virtuellen Lernraum auf: \nvirtuelle-ph-at.zoom.us/my/leseguetesiegel \n2. Geben Sie bitte Ihren vollen Namen ein und klicken Sie den Button „Einem Meeting Beitreten“.                              \n3. Klicken Sie den grünen Button „Per Computer dem Audio beitreten“ an. \nDas bewirkt\, dass Sie uns hören und sehen können. Sie werden in Kürze eingelassen. \nDie Teilnahme an allen eLectures der Virtuellen PH ist für österreichische Hochschullehrende\, Lehrkräfte und Studierende eines Lehramts kostenlos.\n		 \n		\n			– Sie können Grundkenntnisse der Lesediagnostik und diagnosebasierten Leseförderung auf den eigenen Unterricht anwenden.\n– Sie können passende Diagnoseinstrumente bzw. Fördermaterialen auswählen und zielgerichtet anwenden.\n– Sie können die Kriterien des Schwerpunkt 3 „Diagnosebasierte Leseförderung“ des bundesweiten Lesegütesiegels richtig einordnen und umsetzen.\n		 \n		\n			Sie sind Schulleiterin/Schulleiter oder Lehrerin/Lehrer in einer Volksschule\, die sich im Schuljahr 202/26 um das bundesweite Lesegütesiegel beworben hat. \nODER \nSie sind Schulleiterin/Schulleiter oder Lehrerin/Lehrer in einer Volksschule und planen eine Einreichung für das bundesweite Lesegütesiegel \nODER \nSie sind Schulleiterin/Schulleiter oder Lehrerin/Lehrer in einer Volksschule und haben Interesse\, die diagnosebasierte Leseförderung an Ihrem Schulstandort zu forcieren. \nFür die Ausstellung einer Teilnahmebestätigung ist der Besuch von mindestens vier Terminen der eLecture-Reihe erforderlich.
URL:https://www.virtuelle-ph.at/veranstaltung/electure-bundesweites-leseguetesiegel-fuer-volksschulen-diagnosebasierte-lesefoerderung-deine-superkraft-17/
CATEGORIES:eLecture
END:VEVENT
BEGIN:VEVENT
DTSTART;VALUE=DATE:20260420
DTEND;VALUE=DATE:20260512
DTSTAMP:20260419T232413
CREATED:20251022T033128Z
LAST-MODIFIED:20260419T033125Z
UID:10006381-1776643200-1778543999@www.virtuelle-ph.at
SUMMARY:Informationen beurteilen\, Fake News entlarven
DESCRIPTION:Zur Anmeldung\n						\n\n						Falschmeldungen\, also sogenannte Fake News\, sind in aller Munde – SchülerInnen als auch LehrerInnen sind sowohl im Kontext Schule als auch privat immer häufiger mit fragwürdigen Inhalten konfrontiert. Doch von welchen Falschmeldungen sprechen wir hier überhaupt? Welche Rolle spielen Bilder und Videos dabei? Wie können wir Informationen überprüfen? Wie beeinflussen Algorithmen und Social Bots was wir online sehen? Und wie können wir SchülerInnen für das Thema sensibilisieren\, um ihre Informations- und Medienkompetenz zu stärken? Antworten darauf erarbeiten wir in diesem Online-Seminar gemeinsam! \nwww.virtuelle-ph.at/online-seminare \n\nExpert_in: Paul David Perauer \n\n\n			\n				\n			\n			Teilnahmekriterien & Info\n		 \n		\n			Lernziele\n		 \n		\n			Voraussetzungen\n		\n		 \n		\n			\n				\n					\n			Die Teilnahme an allen im Rahmen des Onlineprogramms angebotenen Online-Seminaren der Virtuellen PH ist für österreichische Lehrkräfte und Studierende eines Lehramts kostenlos. Die Seminarplätze werden nach dem Prinzip first come\, first served – also chronologisch nach dem Zeitpunkt Ihrer Seminarbuchung über PH-Online – vergeben. Bis Mittwoch vor Beginn des jeweiligen Online-Seminars können Sie über PH-Online Ihr gebuchtes Online-Seminar selber kostenlos stornieren. Für ein allfälliges Storno zu einem späteren Zeitpunkt wenden Sie sich bitte an: info@virtuelle-ph.at\n		 \n		\n			Das eigene Wissen rund um das Thema Falschmeldungen erweitern und Materialien und Ideen für den eigenen Unterricht kennenlernen und gestalten.\n		 \n		\n			Grundlegende Internet-Kenntnisse.
URL:https://www.virtuelle-ph.at/veranstaltung/informationen-beurteilen-fake-news-entlarven-73/
CATEGORIES:Online-Programm Fruehjahrsprogramm,Online-Seminar
END:VEVENT
BEGIN:VEVENT
DTSTART;VALUE=DATE:20260420
DTEND;VALUE=DATE:20260512
DTSTAMP:20260419T232413
CREATED:20260116T033059Z
LAST-MODIFIED:20260419T033049Z
UID:10006551-1776643200-1778543999@www.virtuelle-ph.at
SUMMARY:PowerPoint – durchstarten statt einschlafen!
DESCRIPTION:Zur Anmeldung\n						\n\n						PowerPoint ist ein gängiges\, leicht zu erlernendes Programm zum Erstellen von Präsentationen. In diesem Online-Seminar lernen Sie mit Hilfe von PowerPoint Präsentationen für Ihren Privatgebrauch\, aber auch für den Einsatz im Unterricht zu erstellen. Neben vielen technischen Tipps und Tricks\, werden im Seminar auch Präsentationstechniken vermittelt. Der didaktische Einsatz von PowerPoint im Unterricht steht vor allem im Zentrum der letzten Seminarwoche. Sie brauchen keine Vorkenntnisse in PowerPoint\, um an diesem Online-Seminar teilnehmen zu können. Ihr/e Trainer/in führen Sie Schritt für Schritt durch PowerPoint. Im Nu haben Sie den Dreh heraus und schon ist eine eindrucksvolle Präsentation fertig! \nIn diesem Online-Seminar ist Ihre aktive Mitarbeit gefragt. Jede Woche gibt es verschiedene Übungen zu erledigen – so lernen Sie Schritt für Schritt den Umgang mit PowerPoint. Durch die kleinen Übungen zwischendurch gibt es zum Schluss keine große Abschlussarbeit! \nwww.virtuelle-ph.at/online-seminare \n\nExpert_in: Paul David Perauer \n\n\n			\n				\n			\n			Teilnahmekriterien & Info\n		 \n		\n			Lernziele\n		 \n		\n			Voraussetzungen\n		\n		 \n		\n			\n				\n					\n			Für die Anmeldung zur Teilnahme müssen Sie sich in PH-Online als Studierende/r identifizieren.\nAnmerkung: Die Teilnahme an allen im Rahmen des Online-Programms angebotenen Online-Seminaren der Virtuellen PH ist für österreichische Lehrkräfte\, PH-Lehrende und Studierende eines Lehramts kostenlos. Die Seminarplätze werden nach dem Prinzip first come\, first served – also chronologisch nach dem Zeitpunkt Ihrer Seminarbuchung über PH-Online – vergeben. Bis Mittwoch vor Beginn des jeweiligen Online-Seminars können Sie über PH-Online Ihr gebuchtes Online-Seminar selber kostenlos stornieren. Für ein allfälliges Storno zu einem späteren Zeitpunkt wenden Sie sich bitte an: info@virtuelle-ph.at\n		 \n		\n			Lernen Sie das Office Programm Powerpoint\, das standardmaßig an vielen Computern zu finden ist\, von einer neuen Seite – nämlich für den optimalen Einsatz in Ihrem Unterricht – kennen. Sammeln Sie dazu selbst Erfahrungen\, entwickeln Sie eigene Ideen und reflektieren Sie Ihre Einfälle mit Kolleginnen und Kollegen.\n		 \n		\n			Grundlegende Internet-Kenntnisse.
URL:https://www.virtuelle-ph.at/veranstaltung/powerpoint-durchstarten-statt-einschlafen-111/
CATEGORIES:Online-Seminar
END:VEVENT
BEGIN:VEVENT
DTSTART;VALUE=DATE:20260420
DTEND;VALUE=DATE:20260512
DTSTAMP:20260419T232413
CREATED:20260120T033126Z
LAST-MODIFIED:20260419T033115Z
UID:10006571-1776643200-1778543999@www.virtuelle-ph.at
SUMMARY:Bildretusche und Effekte mit GIMP für Fortgeschrittene
DESCRIPTION:Zur Anmeldung\n						\n\n						In einer Gruppe von maximal 12 Teilnehmerinnen und Teilnehmern lernen Sie unter Anleitung und Moderation einer erfahrenen Trainerin/ eines erfahrenen Trainers Ihr bisheriges Basiswissen in GIMP zu vertiefen.   \nSo lernen Sie in diesem zweiwöchigen Online-Seminar\, wie Sie Bildfarben optimieren und bearbeiten\, wie Sie feine Details freistellen und mittels Pfaden Grafiken erstellen können. Sie erfahren Interessantes über die Hintergründe und Tricks bei der Bildretusche und wie Sie mit dem Einsatz von verschiedenen Masken täuschend „echte“ Fotomontagen erstellen können. In Zuge dessen werden auch die gesellschaftlichen Konsequenzen der Bildmanipulation innerhalb der Seminargruppe thematisiert. \nwww.virtuelle-ph.at/online-seminare \n\nExpert_in: Alexander Neubach \n\n\n			\n				\n			\n			Teilnahmekriterien & Info\n		 \n		\n			Lernziele\n		 \n		\n			Voraussetzungen\n		\n		 \n		\n			\n				\n					\n			Die Teilnahme an allen im Rahmen des Onlineprogramms angebotenen Online-Seminaren der Virtuellen PH ist für österreichische Lehrkräfte und Studierende eines Lehramts kostenlos. Die Seminarplätze werden nach dem Prinzip first come\, first served – also chronologisch nach dem Zeitpunkt Ihrer Seminarbuchung über PH-Online – vergeben. Bis Mittwoch vor Beginn des jeweiligen Online-Seminars können Sie über PH-Online Ihr gebuchtes Online-Seminar selber kostenlos stornieren. Für ein allfälliges Storno zu einem späteren Zeitpunkt wenden Sie sich bitte an: info@virtuelle-ph.at\n		 \n		\n			In diesem Workshop soll das Basiswissen des kostenlosen Bildbearbeitungsprogramm GIMP gefestigt und vertieft werden. Sie lernen verschiedene Möglichkeiten der fortgeschrittenen Bildbearbeitung (Bildretusche\, -Montage\, Logoerstellung) kennen und diese einzusetzen und erhalten Anregungen für den eigenen Unterricht.\n		 \n		\n			Internetzugang und Grundwissen im Umgang mit dem Internet und dem Computer\, sowie Aufgeschlossenheit für Neues
URL:https://www.virtuelle-ph.at/veranstaltung/bildretusche-und-effekte-mit-gimp-fuer-fortgeschrittene-59/
CATEGORIES:Online-Programm HerbstWinterprogramm,Online-Seminar
END:VEVENT
BEGIN:VEVENT
DTSTART;VALUE=DATE:20260420
DTEND;VALUE=DATE:20260512
DTSTAMP:20260419T232413
CREATED:20260313T033025Z
LAST-MODIFIED:20260419T033021Z
UID:10006722-1776643200-1778543999@www.virtuelle-ph.at
SUMMARY:Sprachbewusst unterrichten in der Sekundarstufe leicht gemacht mit innovativen Methoden und KI-Tools
DESCRIPTION:Zur Anmeldung\n						\n\n						Häufig verläuft die mündliche Kommunikation im Fachunterricht erfolgreich. Wenn jedoch Lese- und Schreibaufträge zu erfüllen sind\, erkennt man als Lehrperson rasch\, ob wesentliche Inhalte aus einem Text erschlossen werden\, der Wortschatz eingeschränkt ist oder es an sprachlicher Korrektheit in einem Text mangelt. Rückmeldungen aus der Praxis zeigen\, dass manche Schüler*innen bereits mit der deutschen Alltagssprache Probleme haben und daher mit der Bildungs- und Fachsprache im Unterricht oft überfordert sind. In diesem Seminar vermitteln wir Ihnen\, wie man in der Sekundarstufe in allen Gegenständen gezielt am Fachwortschatz und am Ausbau der Lese- und Schreibkompetenzen arbeiten kann und welche – auch digitalen – Tools dabei einsetzbar sind. \n\nExpert_in: Robert Riegler\, Stefan Lamprechter \n\n\n			\n				\n			\n			Teilnahmekriterien & Info\n		 \n		\n			Lernziele\n		 \n		\n			Voraussetzungen\n		\n		 \n		\n			\n				\n					\n			Die Teilnahme an allen im Rahmen des Onlineprogramms angebotenen Online-Seminaren der Virtuellen PH ist für österreichische Lehrkräfte und Studierende eines Lehramts kostenlos. Die Seminarplätze werden nach dem Prinzip first come\, first served – also chronologisch nach dem Zeitpunkt Ihrer Seminarbuchung über PH-Online – vergeben. Bis Mittwoch vor Beginn des jeweiligen Online-Seminars können Sie über PH-Online Ihr gebuchtes Online-Seminar selber kostenlos stornieren. Für ein allfälliges Storno zu einem späteren Zeitpunkt wenden Sie sich bitte an: info@virtuelle-ph.at\n		 \n		\n			Vermittlung und Anwendung von Methoden des sprachbewussten Unterrichts zum Aufbau von Fachwortschatz und von Lese- und Schreibkompetenz
URL:https://www.virtuelle-ph.at/veranstaltung/sprachbewusst-unterrichten-in-der-sekundarstufe-leicht-gemacht-mit-innovativen-methoden-und-ki-tools-90/
CATEGORIES:Online-Seminar
END:VEVENT
BEGIN:VEVENT
DTSTART;VALUE=DATE:20260506
DTEND;VALUE=DATE:20260507
DTSTAMP:20260419T232413
CREATED:20251022T033112Z
LAST-MODIFIED:20251022T033112Z
UID:10006376-1778025600-1778111999@www.virtuelle-ph.at
SUMMARY:Informationen beurteilen\, Fake News entlarven
DESCRIPTION:Zur Anmeldung\n						\n\n						Falschmeldungen\, also sogenannte Fake News\, sind in aller Munde – SchülerInnen als auch LehrerInnen sind sowohl im Kontext Schule als auch privat immer häufiger mit fragwürdigen Inhalten konfrontiert. Doch von welchen Falschmeldungen sprechen wir hier überhaupt? Welche Rolle spielen Bilder und Videos dabei? Wie können wir Informationen überprüfen? Wie beeinflussen Algorithmen und Social Bots was wir online sehen? Und wie können wir SchülerInnen für das Thema sensibilisieren\, um ihre Informations- und Medienkompetenz zu stärken? Antworten darauf erarbeiten wir in diesem Online-Seminar gemeinsam! \nwww.virtuelle-ph.at/online-seminare \n\nExpert_in: Paul David Perauer \n\n\n			\n				\n			\n			Teilnahmekriterien & Info\n		 \n		\n			Lernziele\n		 \n		\n			Voraussetzungen\n		\n		 \n		\n			\n				\n					\n			Die Teilnahme an allen im Rahmen des Onlineprogramms angebotenen Online-Seminaren der Virtuellen PH ist für österreichische Lehrkräfte und Studierende eines Lehramts kostenlos. Die Seminarplätze werden nach dem Prinzip first come\, first served – also chronologisch nach dem Zeitpunkt Ihrer Seminarbuchung über PH-Online – vergeben. Bis Mittwoch vor Beginn des jeweiligen Online-Seminars können Sie über PH-Online Ihr gebuchtes Online-Seminar selber kostenlos stornieren. Für ein allfälliges Storno zu einem späteren Zeitpunkt wenden Sie sich bitte an: info@virtuelle-ph.at\n		 \n		\n			Das eigene Wissen rund um das Thema Falschmeldungen erweitern und Materialien und Ideen für den eigenen Unterricht kennenlernen und gestalten.\n		 \n		\n			Grundlegende Internet-Kenntnisse.
URL:https://www.virtuelle-ph.at/veranstaltung/informationen-beurteilen-fake-news-entlarven-70/
CATEGORIES:Online-Programm Fruehjahrsprogramm,Online-Seminar
END:VEVENT
BEGIN:VEVENT
DTSTART;VALUE=DATE:20260506
DTEND;VALUE=DATE:20260507
DTSTAMP:20260419T232413
CREATED:20260116T033055Z
LAST-MODIFIED:20260116T033055Z
UID:10006548-1778025600-1778111999@www.virtuelle-ph.at
SUMMARY:PowerPoint – durchstarten statt einschlafen!
DESCRIPTION:Zur Anmeldung\n						\n\n						PowerPoint ist ein gängiges\, leicht zu erlernendes Programm zum Erstellen von Präsentationen. In diesem Online-Seminar lernen Sie mit Hilfe von PowerPoint Präsentationen für Ihren Privatgebrauch\, aber auch für den Einsatz im Unterricht zu erstellen. Neben vielen technischen Tipps und Tricks\, werden im Seminar auch Präsentationstechniken vermittelt. Der didaktische Einsatz von PowerPoint im Unterricht steht vor allem im Zentrum der letzten Seminarwoche. Sie brauchen keine Vorkenntnisse in PowerPoint\, um an diesem Online-Seminar teilnehmen zu können. Ihr/e Trainer/in führen Sie Schritt für Schritt durch PowerPoint. Im Nu haben Sie den Dreh heraus und schon ist eine eindrucksvolle Präsentation fertig! \nIn diesem Online-Seminar ist Ihre aktive Mitarbeit gefragt. Jede Woche gibt es verschiedene Übungen zu erledigen – so lernen Sie Schritt für Schritt den Umgang mit PowerPoint. Durch die kleinen Übungen zwischendurch gibt es zum Schluss keine große Abschlussarbeit! \nwww.virtuelle-ph.at/online-seminare \n\nExpert_in: Paul David Perauer \n\n\n			\n				\n			\n			Teilnahmekriterien & Info\n		 \n		\n			Lernziele\n		 \n		\n			Voraussetzungen\n		\n		 \n		\n			\n				\n					\n			Für die Anmeldung zur Teilnahme müssen Sie sich in PH-Online als Studierende/r identifizieren.\nAnmerkung: Die Teilnahme an allen im Rahmen des Online-Programms angebotenen Online-Seminaren der Virtuellen PH ist für österreichische Lehrkräfte\, PH-Lehrende und Studierende eines Lehramts kostenlos. Die Seminarplätze werden nach dem Prinzip first come\, first served – also chronologisch nach dem Zeitpunkt Ihrer Seminarbuchung über PH-Online – vergeben. Bis Mittwoch vor Beginn des jeweiligen Online-Seminars können Sie über PH-Online Ihr gebuchtes Online-Seminar selber kostenlos stornieren. Für ein allfälliges Storno zu einem späteren Zeitpunkt wenden Sie sich bitte an: info@virtuelle-ph.at\n		 \n		\n			Lernen Sie das Office Programm Powerpoint\, das standardmaßig an vielen Computern zu finden ist\, von einer neuen Seite – nämlich für den optimalen Einsatz in Ihrem Unterricht – kennen. Sammeln Sie dazu selbst Erfahrungen\, entwickeln Sie eigene Ideen und reflektieren Sie Ihre Einfälle mit Kolleginnen und Kollegen.\n		 \n		\n			Grundlegende Internet-Kenntnisse.
URL:https://www.virtuelle-ph.at/veranstaltung/powerpoint-durchstarten-statt-einschlafen-108/
CATEGORIES:Online-Seminar
END:VEVENT
BEGIN:VEVENT
DTSTART;VALUE=DATE:20260506
DTEND;VALUE=DATE:20260507
DTSTAMP:20260419T232413
CREATED:20260120T033134Z
LAST-MODIFIED:20260120T033134Z
UID:10006574-1778025600-1778111999@www.virtuelle-ph.at
SUMMARY:20 Tage\, 20 Tools. Lassen Sie das Internet für sich arbeiten!
DESCRIPTION:Zur Anmeldung\n						\n\n						Auf die Lehrkräfte kommt es an! \nDiese simple und sehr verknappte Schlussfolgerung der Hattie-Studie zeigt\, dass die Lehrperson im Zentrum steht: mit ihrer Arbeit steht oder fällt der Lernerfolg von Schüler/innen. \nIm Mittelpunkt modernen Unterrichts und Lerngeschehens stehen somit u.a. folgende Fragen: \n• Wie leitet und steuert die Lehrkraft den Unterricht?\n• Wie kann die Lehrkraft die Schülerinnen und Schüler motivieren?\n• Wie kann die Lehrkraft dazu beitragen\, dass lernförderliche Lernorte und -szenarien entstehen?\n• Wie kann sich die Lehrkraft selbst ständig weiterentwickeln?\n• Wie kann die Lehrkraft auf sich und ihre/seine Zeitressourcen achten?\n… \nVon außen herangetragene Forderungen wie „Kein Kind ohne digitale Kompetenzen“\, d.h. die Vermittlung digitaler Kompetenzen in allen Fächern\, wirken auf den ersten Blick für viele Lehrkräfte als eine weitere Aufgabe\, die ihnen die Arbeit zusätzlich erschwert. \nIm Gegensatz dazu soll dieses Kooperative Online-Seminar Lehrkräfte dabei unterstützen\, Tools für Ihre Tätigkeit kennen zu lernen\, \n• die ihre Arbeit erleichtern\,\n• die Zeit für andere Tätigkeiten freischaufeln\,\n• die sie anschlussfähig für das digitale Zeitalter machen\,\n• die den Unterricht bereichern können\,\n• die Schülerinnen und Schüler motivieren\,\n• die zu gemeinsamem wie individuellem Arbeiten und Lernen anregen\n• uvm. \nwww.virtuelle-ph.at/online-seminare \n\nExpert_in: Sonja Schmid \n\n\n			\n				\n			\n			Teilnahmekriterien & Info\n		 \n		\n			Lernziele\n		 \n		\n			Voraussetzungen\n		\n		 \n		\n			\n				\n					\n			Die Teilnahme an allen im Rahmen des Onlineprogramms angebotenen Online-Seminaren der Virtuellen PH ist für österreichische Lehrkräfte und Studierende eines Lehramts kostenlos. Die Seminarplätze werden nach dem Prinzip first come\, first served – also chronologisch nach dem Zeitpunkt Ihrer Seminarbuchung über PH-Online – vergeben. Bis Mittwoch vor Beginn des jeweiligen Online-Seminars können Sie über PH-Online Ihr gebuchtes Online-Seminar selber kostenlos stornieren. Für ein allfälliges Storno zu einem späteren Zeitpunkt wenden Sie sich bitte an: info@virtuelle-ph.at\n		 \n		\n			Die Teilnehmenden werden von einem Tutor/einer Tutorin angeleitet und dabei unterstützt\, neues für ihren Unterricht zu entdecken und ihr Repertoire zu erweitern\, sowie ihre Unterrichtsarbeit – von administrativen über vorbereitende Tätigkeiten bis hin zur Durchführung selbst – mit kostenfreien Onlinetools zu planen\, zu testen und gemeinsam mit den anderen SeminarteilnehmerInnen zu reflektieren.\n		 \n		\n			Internetzugang und Grundwissen im Umgang mit dem Internet und dem Computer\, sowie Aufgeschlossenheit für Neues
URL:https://www.virtuelle-ph.at/veranstaltung/20-tage-20-tools-lassen-sie-das-internet-fuer-sich-arbeiten-166/
CATEGORIES:Online-Seminar
END:VEVENT
BEGIN:VEVENT
DTSTART;VALUE=DATE:20260506
DTEND;VALUE=DATE:20260507
DTSTAMP:20260419T232413
CREATED:20260312T033021Z
LAST-MODIFIED:20260312T033021Z
UID:10006702-1778025600-1778111999@www.virtuelle-ph.at
SUMMARY:Sprachbewusst unterrichten leicht gemacht! - Methodentraining für die Sekundarstufe
DESCRIPTION:Zur Anmeldung\n						\n\n						Häufig verläuft die mündliche Kommunikation im Fachunterricht erfolgreich. Wenn jedoch Lese- und Schreibaufträge zu erfüllen sind\, erkennt man als Lehrperson rasch\, ob wesentliche Inhalte aus einem Text erschlossen werden\, der Wortschatz eingeschränkt ist oder es an sprachlicher Korrektheit in einem Text mangelt. Rückmeldungen aus der Praxis zeigen\, dass manche Schüler*innen bereits mit der deutschen Alltagssprache Probleme haben und daher mit der Bildungs- und Fachsprache im Unterricht oft überfordert sind. In diesem Seminar vermitteln wir Ihnen\, wie man in der Sekundarstufe in allen Gegenständen gezielt am Fachwortschatz und am Ausbau der Lese- und Schreibkompetenzen arbeiten kann und welche – auch digitalen – Tools dabei einsetzbar sind. \n\nExpert_in: Robert Riegler\, Stefan Lamprechter \n\n\n			\n				\n			\n			Teilnahmekriterien & Info\n		 \n		\n			Lernziele\n		 \n		\n			Voraussetzungen\n		\n		 \n		\n			\n				\n					\n			Die Teilnahme an allen im Rahmen des Onlineprogramms angebotenen Online-Seminaren der Virtuellen PH ist für österreichische Lehrkräfte und Studierende eines Lehramts kostenlos. Die Seminarplätze werden nach dem Prinzip first come\, first served – also chronologisch nach dem Zeitpunkt Ihrer Seminarbuchung über PH-Online – vergeben. Bis Mittwoch vor Beginn des jeweiligen Online-Seminars können Sie über PH-Online Ihr gebuchtes Online-Seminar selber kostenlos stornieren. Für ein allfälliges Storno zu einem späteren Zeitpunkt wenden Sie sich bitte an: info@virtuelle-ph.at\n		 \n		\n			Vermittlung und Anwendung von Methoden des sprachbewussten Unterrichts zum Aufbau von Fachwortschatz und von Lese- und Schreibkompetenz
URL:https://www.virtuelle-ph.at/veranstaltung/sprachbewusst-unterrichten-leicht-gemacht-methodentraining-fuer-die-sekundarstufe-64/
CATEGORIES:Online-Seminar
END:VEVENT
BEGIN:VEVENT
DTSTART;VALUE=DATE:20260506
DTEND;VALUE=DATE:20260507
DTSTAMP:20260419T232413
CREATED:20260313T033021Z
LAST-MODIFIED:20260313T033021Z
UID:10006719-1778025600-1778111999@www.virtuelle-ph.at
SUMMARY:Sprachbewusst unterrichten in der Sekundarstufe leicht gemacht mit innovativen Methoden und KI-Tools
DESCRIPTION:Zur Anmeldung\n						\n\n						Häufig verläuft die mündliche Kommunikation im Fachunterricht erfolgreich. Wenn jedoch Lese- und Schreibaufträge zu erfüllen sind\, erkennt man als Lehrperson rasch\, ob wesentliche Inhalte aus einem Text erschlossen werden\, der Wortschatz eingeschränkt ist oder es an sprachlicher Korrektheit in einem Text mangelt. Rückmeldungen aus der Praxis zeigen\, dass manche Schüler*innen bereits mit der deutschen Alltagssprache Probleme haben und daher mit der Bildungs- und Fachsprache im Unterricht oft überfordert sind. In diesem Seminar vermitteln wir Ihnen\, wie man in der Sekundarstufe in allen Gegenständen gezielt am Fachwortschatz und am Ausbau der Lese- und Schreibkompetenzen arbeiten kann und welche – auch digitalen – Tools dabei einsetzbar sind. \n\nExpert_in: Robert Riegler\, Stefan Lamprechter \n\n\n			\n				\n			\n			Teilnahmekriterien & Info\n		 \n		\n			Lernziele\n		 \n		\n			Voraussetzungen\n		\n		 \n		\n			\n				\n					\n			Die Teilnahme an allen im Rahmen des Onlineprogramms angebotenen Online-Seminaren der Virtuellen PH ist für österreichische Lehrkräfte und Studierende eines Lehramts kostenlos. Die Seminarplätze werden nach dem Prinzip first come\, first served – also chronologisch nach dem Zeitpunkt Ihrer Seminarbuchung über PH-Online – vergeben. Bis Mittwoch vor Beginn des jeweiligen Online-Seminars können Sie über PH-Online Ihr gebuchtes Online-Seminar selber kostenlos stornieren. Für ein allfälliges Storno zu einem späteren Zeitpunkt wenden Sie sich bitte an: info@virtuelle-ph.at\n		 \n		\n			Vermittlung und Anwendung von Methoden des sprachbewussten Unterrichts zum Aufbau von Fachwortschatz und von Lese- und Schreibkompetenz
URL:https://www.virtuelle-ph.at/veranstaltung/sprachbewusst-unterrichten-in-der-sekundarstufe-leicht-gemacht-mit-innovativen-methoden-und-ki-tools-87/
CATEGORIES:Online-Seminar
END:VEVENT
BEGIN:VEVENT
DTSTART;TZID=Europe/Vienna:20260506T170000
DTEND;TZID=Europe/Vienna:20260506T183000
DTSTAMP:20260419T232413
CREATED:20251022T033138Z
LAST-MODIFIED:20260419T033154Z
UID:10006391-1778086800-1778092200@www.virtuelle-ph.at
SUMMARY:eLectureReihe: Datenschutz & Cyber-Security im Schulalltag
DESCRIPTION:Zur Anmeldung \n\n						Zum virtuellen Lernraum\n						\n\n						In einer zunehmend vernetzten Welt ist der bewusste Umgang mit persönlichen Daten essenziell – sowohl im privaten als auch im schulischen Bereich. Diese eLecture thematisiert grundlegende Datenschutzmaßnahmen\, darunter wichtige Einstellungen am Handy und Schutzmechanismen für den schulischen Kontext. Besondere Aufmerksamkeit gilt dem richtigen Umgang mit der Registrierungspflicht von Kindern bei schulischen Apps sowie der Nutzung von cloudbasierten Plattformen. Die Teilnehmenden erhalten praxisnahe Einblicke\, wie Datenschutz und Cyber-Security im Schulalltag gestärkt und an Schüler:innen vermittelt werden können. \n\nExpert_in: Paul Friedrich Sommeregger\, Anna Maria Reumann-Buczolich \n\n\n			\n				\n			\n			Teilnahmekriterien & Info\n		 \n		\n			Lernziele\n		 \n		\n			Voraussetzungen\n		\n		 \n		\n			\n				\n					\n			So treten Sie der Veranstaltung im virtuellen Lernraum bei: \n1. Rufen Sie 5 min vor Terminstart den Link zum Virtuellen Lernraum auf: \nvirtuelle-ph-at.zoom.us/my/electures \n2. Geben Sie bitte Ihren vollen Namen ein und klicken Sie den Button „Einem Meeting Beitreten“.                              \n3. Klicken Sie den grünen Button „Per Computer dem Audio beitreten“ an. \nDas bewirkt\, dass Sie uns hören und sehen können. Sie werden in Kürze eingelassen. \nDie Teilnahme an allen eLectures der Virtuellen PH ist für österreichische Hochschullehrende\, Lehrkräfte und Studierende eines Lehramts kostenlos.\n		 \n		\n			Die Teilnehmenden verstehen grundlegende Datenschutzmaßnahmen und lernen wichtige Sicherheitseinstellungen für mobile Geräte kennen.\nDie Teilnehmenden setzen sich mit datenschutzrechtlichen Aspekten in der Schule auseinander\, insbesondere im Hinblick auf die Nutzung von Apps und cloudbasierter Zusammenarbeit.\nDie Teilnehmenden entwickeln Strategien\, um Schüler:innen für Datenschutz und Cyber-Security zu sensibilisieren und ihnen einen sicheren Umgang mit digitalen Tools zu ermöglichen.
URL:https://www.virtuelle-ph.at/veranstaltung/electurereihe-datenschutz-cyber-security-im-schulalltag/
CATEGORIES:eLecture,Reihe DGBPPHB
END:VEVENT
END:VCALENDAR