BEGIN:VCALENDAR
VERSION:2.0
PRODID:-//Virtuelle PH - ECPv6.6.4.2//NONSGML v1.0//EN
CALSCALE:GREGORIAN
METHOD:PUBLISH
X-WR-CALNAME:Virtuelle PH
X-ORIGINAL-URL:https://www.virtuelle-ph.at
X-WR-CALDESC:Veranstaltungen für Virtuelle PH
REFRESH-INTERVAL;VALUE=DURATION:PT1H
X-Robots-Tag:noindex
X-PUBLISHED-TTL:PT1H
BEGIN:VTIMEZONE
TZID:Europe/Vienna
BEGIN:DAYLIGHT
TZOFFSETFROM:+0100
TZOFFSETTO:+0200
TZNAME:CEST
DTSTART:20250330T010000
END:DAYLIGHT
BEGIN:STANDARD
TZOFFSETFROM:+0200
TZOFFSETTO:+0100
TZNAME:CET
DTSTART:20251026T010000
END:STANDARD
END:VTIMEZONE
BEGIN:VEVENT
DTSTART;TZID=Europe/Vienna:20250318T180000
DTEND;TZID=Europe/Vienna:20250318T190000
DTSTAMP:20260426T055531
CREATED:20250304T033203Z
LAST-MODIFIED:20250318T033116Z
UID:10005816-1742320800-1742324400@www.virtuelle-ph.at
SUMMARY:eLecture: Digitale Lernmaterialien zu Schulbüchern: Unterrichten mit Smartphone\, Tablet & im Web
DESCRIPTION:Zur Anmeldung \n\n						Zum virtuellen Lernraum\n						\n\n						Mit eSquirrel erhalten Sie wertvolles digitales Lernmaterial passend zu bekannten Schulbüchern fast aller Verlage. Sie können diese Aufgaben nicht nur Ihren SchülerInnen zusätzlich zum Üben geben\, sondern sich auch durch einfache Auswertungen von Hausaufgaben oder Tests Ihren Unterrichtsalltag erleichtern. Wie das funktioniert und wie Sie damit unterrichten können\, erfahren Sie in dieser eLecture. \nDie eLecture gibt Einblick\, wie Sie mit einem Online-Kurs zu einem bestehenden Schulbuch unterrichten und setzt den Fokus darauf\, am Smartphone\, Tablet und Web damit zu lernen und zu unterrichten. Während der Referent die Rolle des Lehrers übernimmt\, schlüpfen Sie in die Rolle einer SchülerIn und können dadurch selbst beide Sichtweisen kennenlernen. \nPassend zu mehr als 200 Schulbüchern (VS\, Sek 1 und Sek 2) wie zB\n– Genial! Mathematik\, Das Mathematikbuch\, Lösungswege\, Mathematik verstehen\, Durchstarten Mathematik\n– More!\, Durchstarten Englisch\,\n– Starke Seiten\, Genial! Deutsch\, Deutsch für alle\, Deutsch-Lernheft (Hefte Helfen)\, Lernen mit Pfiff\, – Lese- und Lernprofi\,\n– GEOprofi\, Genial! Duo Geographie\, Geographie\,\n– Begegnungen mit der Natur\, BioTop\, Einfach Bio\, Biologie für alle\,\n– Geschichte für alle\, Genial! Duo Geschichte\,\n– Genial! Duo Physik\, big bang\, Physik verstehen\,\n– Medias in Res\, uvm. \nDr. Michael Maurer ist Gründer des Start-ups eSquirrel. Er hat an der TU Wien promoviert und als Vortragender an der FH Hagenberg\, sowie an Schulen\, Konferenzen und Seminaren über den Einsatz von modernen Technologien im Unterricht referiert. Er ist an der Konzeption und redaktionellen Betreuung vieler eSquirrel-Kurse beteiligt. \n\nExpert_in: Michael Maurer \n\n\n			\n				\n			\n			Teilnahmekriterien & Info\n		 \n		\n			Lernziele\n		 \n		\n			Voraussetzungen\n		\n		 \n		\n			\n				\n					\n			So treten Sie der Veranstaltung im virtuellen Lernraum bei: \n1. Rufen Sie 5 min vor Terminstart den Link zum Virtuellen Lernraum auf: \nvirtuelle-ph-at.zoom.us/my/electures \n2. Geben Sie bitte Ihren vollen Namen ein und klicken Sie den Button „Einem Meeting Beitreten“.                              \n3. Klicken Sie den grünen Button „Per Computer dem Audio beitreten“ an. \nDas bewirkt\, dass Sie uns hören und sehen können. Sie werden in Kürze eingelassen. \nDie Teilnahme an allen eLectures der Virtuellen PH ist für österreichische Hochschullehrende\, Lehrkräfte und Studierende eines Lehramts kostenlos.\n		 \n		\n			* Zu Schulbüchern digitale Hausübungen geben und kontrollieren können (auf Smartphone\, Tablet und im Web)\n* Digitale Tests erstellen und auswerten können (auf Smartphone\, Tablet und im Web)\n* Arbeitsblätter automatisiert erstellen und für den Druck optimieren können (auf Smartphone\, Tablet und im Web)
URL:https://www.virtuelle-ph.at/veranstaltung/electure-digitale-lernmaterialien-zu-schulbuechern-unterrichten-mit-smartphone-tablet-im-web-3/
CATEGORIES:eLecture
END:VEVENT
BEGIN:VEVENT
DTSTART;TZID=Europe/Vienna:20250318T180000
DTEND;TZID=Europe/Vienna:20250318T190000
DTSTAMP:20260426T055531
CREATED:20250319T033003Z
LAST-MODIFIED:20250319T033003Z
UID:10005927-1742320800-1742324400@www.virtuelle-ph.at
SUMMARY:eLecture: Digitale Lernmaterialien zu Schulbüchern: Unterrichten mit Smartphone\, Tablet & im Web
DESCRIPTION:Zur Anmeldung \n\n						Zum virtuellen Lernraum\n						\n\n						Mit eSquirrel erhalten Sie wertvolles digitales Lernmaterial passend zu bekannten Schulbüchern fast aller Verlage. Sie können diese Aufgaben nicht nur Ihren SchülerInnen zusätzlich zum Üben geben\, sondern sich auch durch einfache Auswertungen von Hausaufgaben oder Tests Ihren Unterrichtsalltag erleichtern. Wie das funktioniert und wie Sie damit unterrichten können\, erfahren Sie in dieser eLecture. \nDie eLecture gibt Einblick\, wie Sie mit einem Online-Kurs zu einem bestehenden Schulbuch unterrichten und setzt den Fokus darauf\, am Smartphone\, Tablet und Web damit zu lernen und zu unterrichten. Während der Referent die Rolle des Lehrers übernimmt\, schlüpfen Sie in die Rolle einer SchülerIn und können dadurch selbst beide Sichtweisen kennenlernen. \nPassend zu mehr als 200 Schulbüchern (VS\, Sek 1 und Sek 2) wie zB\n– Genial! Mathematik\, Das Mathematikbuch\, Lösungswege\, Mathematik verstehen\, Durchstarten Mathematik\n– More!\, Durchstarten Englisch\,\n– Starke Seiten\, Genial! Deutsch\, Deutsch für alle\, Deutsch-Lernheft (Hefte Helfen)\, Lernen mit Pfiff\, – Lese- und Lernprofi\,\n– GEOprofi\, Genial! Duo Geographie\, Geographie\,\n– Begegnungen mit der Natur\, BioTop\, Einfach Bio\, Biologie für alle\,\n– Geschichte für alle\, Genial! Duo Geschichte\,\n– Genial! Duo Physik\, big bang\, Physik verstehen\,\n– Medias in Res\, uvm. \nDr. Michael Maurer ist Gründer des Start-ups eSquirrel. Er hat an der TU Wien promoviert und als Vortragender an der FH Hagenberg\, sowie an Schulen\, Konferenzen und Seminaren über den Einsatz von modernen Technologien im Unterricht referiert. Er ist an der Konzeption und redaktionellen Betreuung vieler eSquirrel-Kurse beteiligt. \n\nExpert_in: Michael Maurer \n\n\n			\n				\n			\n			Teilnahmekriterien & Info\n		 \n		\n			Lernziele\n		 \n		\n			Voraussetzungen\n		\n		 \n		\n			\n				\n					\n			So treten Sie der Veranstaltung im virtuellen Lernraum bei: \n1. Rufen Sie 5 min vor Terminstart den Link zum Virtuellen Lernraum auf: \nvirtuelle-ph-at.zoom.us/my/electures \n2. Geben Sie bitte Ihren vollen Namen ein und klicken Sie den Button „Einem Meeting Beitreten“.                              \n3. Klicken Sie den grünen Button „Per Computer dem Audio beitreten“ an. \nDas bewirkt\, dass Sie uns hören und sehen können. Sie werden in Kürze eingelassen. \nDie Teilnahme an allen eLectures der Virtuellen PH ist für österreichische Hochschullehrende\, Lehrkräfte und Studierende eines Lehramts kostenlos.\n		 \n		\n			* Zu Schulbüchern digitale Hausübungen geben und kontrollieren können (auf Smartphone\, Tablet und im Web)\n* Digitale Tests erstellen und auswerten können (auf Smartphone\, Tablet und im Web)\n* Arbeitsblätter automatisiert erstellen und für den Druck optimieren können (auf Smartphone\, Tablet und im Web)
URL:https://www.virtuelle-ph.at/veranstaltung/electure-digitale-lernmaterialien-zu-schulbuechern-unterrichten-mit-smartphone-tablet-im-web-4/
CATEGORIES:eLecture
END:VEVENT
END:VCALENDAR