BEGIN:VCALENDAR
VERSION:2.0
PRODID:-//Virtuelle PH - ECPv6.6.4.2//NONSGML v1.0//EN
CALSCALE:GREGORIAN
METHOD:PUBLISH
X-ORIGINAL-URL:https://www.virtuelle-ph.at
X-WR-CALDESC:Veranstaltungen für Virtuelle PH
REFRESH-INTERVAL;VALUE=DURATION:PT1H
X-Robots-Tag:noindex
X-PUBLISHED-TTL:PT1H
BEGIN:VTIMEZONE
TZID:Europe/Vienna
BEGIN:DAYLIGHT
TZOFFSETFROM:+0100
TZOFFSETTO:+0200
TZNAME:CEST
DTSTART:20250330T010000
END:DAYLIGHT
BEGIN:STANDARD
TZOFFSETFROM:+0200
TZOFFSETTO:+0100
TZNAME:CET
DTSTART:20251026T010000
END:STANDARD
END:VTIMEZONE
BEGIN:VEVENT
DTSTART;VALUE=DATE:20250310
DTEND;VALUE=DATE:20250705
DTSTAMP:20260425T121828
CREATED:20250216T033141Z
LAST-MODIFIED:20250309T033029Z
UID:10005801-1741564800-1751673599@www.virtuelle-ph.at
SUMMARY:Onlineschulung zur Durchführung der iKMPLUS Primarstufe 2025
DESCRIPTION:Zur Anmeldung\n						\n\n						Seit dem Schuljahr 2021/22 erfolgt die Überprüfung der Bildungsstandards jährlich im Rahmen der individuellen Kompetenzmessung PLUS (iKMPLUS). Doch was ist die iKMPLUS eigentlich? Wann und in welchen Fächern wird sie durchgeführt? Und welche Aufgaben übernehmen Sie als Lehrperson dabei? Antworten auf diese und viele weitere Fragen liefert Ihnen die Onlineschulung zur Durchführung der iKMPLUS. \nDie Schulung bietet Informationen zur (technischen) Abwicklung und Durchführung der iKMPLUS Basismodule auf der Primarstufe und vermittelt das notwendige Wissen\, um die iKMPLUS mit Ihrer Klasse nach den standardisierten Vorgaben durchführen zu können. Die vier Schulungsmodule geben zunächst einen einführenden Blick auf die Kompetenzerhebung und gehen anschließend auf die wesentlichen Schritte im Rahmen der Vorbereitung\, Durchführung und Nachbereitung der iKMPLUS Basismodule ein. Auch Einblicke in die iKMPLUS-Plattform werden geboten. \n\nExpert_in: IQS Institut des Bundes für Qualitätssicherung im österreichischen Schulwesen \n\n\n			\n				\n			\n			Teilnahmekriterien & Info\n		 \n		\n			Lernziele\n		 \n		\n			Voraussetzungen\n		\n		 \n		\n			\n				\n					\n			Die Onlineschulung wurde für die Primarstufe konzipiert und steht allen Pädagoginnen und Pädagogen offen. Sie richtet sich aber vorwiegend an Lehrpersonen\, die die iKMPLUS im aktuellen Schuljahr mit ihrer 3. und/oder 4. Klasse in den Basismodulen Mathematik und/oder Deutsch (Lesen) durchführen werden.\n		 \n		\n			Nach Absolvierung der Onlineschulung können Teilnehmende… \n· grundlegende Aspekte der iKMPLUS benennen. \n· Vorbereitungen vor dem Durchführungstag sowie am Tag der Durchführung der iKMPLUS ausführen. \n· organisatorische Rahmenbedingungen für die Durchführung abklären. \n· die verschiedenen Materialien rund um die iKMPLUS einsetzen. \n· die iKMPLUS Basismodule nach den standardisierten Vorgaben durchführen. Zudem haben sie grundlegendes Wissen zu den iKMPLUS Fokusmodulen erhalten und wissen\, wo sie weitere Informationen dazu finden. \n· Schülerantworten richtig bewerten. \n· mit der iKMPLUS-Plattform umgehen (z. B. Antworten eingeben und Rückmeldungen generieren).\n		 \n		\n			Vorkenntnisse sind nicht notwendig. Die Pädagogischen Hochschulen in Ihrem Bundesland bieten darüber hinaus noch weitere Schulungen an. Ein Besuch dieser Schulungen wird empfohlen.
URL:https://www.virtuelle-ph.at/veranstaltung/onlineschulung-zur-durchfuehrung-der-ikmplus-primarstufe-2025-2/
CATEGORIES:Online-Seminar
END:VEVENT
BEGIN:VEVENT
DTSTART;VALUE=DATE:20250611
DTEND;VALUE=DATE:20250902
DTSTAMP:20260425T121828
CREATED:20250609T033011Z
LAST-MODIFIED:20250610T033012Z
UID:10006094-1749600000-1756771199@www.virtuelle-ph.at
SUMMARY:MOOC Kinderschutz #2
DESCRIPTION:Zur Anmeldung\n						\n\n						Sie können den MOOC unter https://onlinecampus.virtuelle-ph.at/course/view.php?id=3296 aufrufen. \nHinweis: Anmeldung im Onlinecampus mit Hilfe des Bildungsportals \nDieses Fortbildungsangebot wurde vom Bundesministerium für Bildung (BMB) initiiert und wird von inhaltlichen Expertinnen und Experten aus dem Feld des Kinderschutzes und der Schulentwicklung sowie der VPH umgesetzt. Es richtet sich an alle Schulleiterinnen und Schulleiter sowie Lehrerinnen und Lehrer Österreichs.   \nWorum geht es konkret in diesem Fortbildungsangebot?   \nDieser Kinderschutz MOOC #2 bietet Ihnen aufbauend auf dem Kinderschutz MOOC #1 einen Überblick über konkrete Herangehensweisen\, ein Kinderschutzkonzept am Standort zu planen und umzusetzen. In Form eines Selbstlernkurses (MOOC) können Sie das Thema selbstständig und in Ihrem eigenen Tempo erarbeiten. Alle Inhalte bleiben auch nach der Absolvierung für Sie als Nachschlagewerk erhalten.  \nDieser zweite MOOC besteht aus zwei Teilen mit insgesamt 8 Modulen. \nDer erste Teil (Modul 1 bis Modul 3) bietet Einblicke in die Handreichung „Kinderschutzkonzept am Schulstandort – Zum Schutz von Kindern und Jugendlichen“ des BMB sowie Möglichkeiten der Schulentwicklung zur Erarbeitung und Implementierung eines Kinderschutzkonzepts.  \nDer zweite Teil (Module 4 bis 8) bietet Informationen zu konkreten Maßnahmen und Methoden in Bezug auf die Bestandsaufnahme und Risikoanalyse sowie die standortspezifische Vertiefung von Maßnahmen in Bezug auf den Verhaltenskodex lt. Schulordnung 2024 sowie mögliche Vorgehensweisen zur Prävention und Intervention entlang ausgewählter Gewaltformen. \nSie finden in jedem Modul verschiedene eTivities\, die abwechslungsreich gestaltet\, entweder als \nVideo inkl. Präsentationsunterlage zum Video\, einem begleitenden Transkript und Podcast zum Video oder als \neBuch (auch als pdf herunterzuladen) \nErgänzend finden Sie an vielen Stellen eine Einladung zur individuellen Reflexion der Inhalte in Bezug auf Ihre Schule. \nSie entscheiden selbst\, in welcher Weise Sie die angebotenen Medien und Materialen nutzen möchten.  \nBeitragende Organisationen (in alphabetischer Reihenfolge):  \ndie möwe – Kinderschutz gemeinnützige GmbH  \nDIE ÖSTERREICHISCHEN KINDERSCHUTZZENTREN\nECPAT Österreich\, Arbeitsgemeinschaft zum Schutz der Rechte der Kinder vor sexueller Ausbeutung      \nSaferinternet.at \nSelbstlaut – Fachstelle gegen sexualisierte Gewalt an Kindern und Jugendlichen \nZGMP – Zentrum für Gewalt- und Mobbingprävention und Persönlichkeitsbildung der PPH Burgenland \n\nExpert_in: . BMBWF \n\n\n			\n				\n			\n			Teilnahmekriterien & Info\n		 \n		\n			Lernziele\n		 \n		\n			Voraussetzungen\n		\n		 \n		\n			\n				\n					\n			\n		 \n		\n			–\n		 \n		\n			–
URL:https://www.virtuelle-ph.at/veranstaltung/mooc-kinderschutz-2-2/
CATEGORIES:Online-Seminar
END:VEVENT
BEGIN:VEVENT
DTSTART;VALUE=DATE:20250704
DTEND;VALUE=DATE:20250705
DTSTAMP:20260425T121828
CREATED:20250705T033104Z
LAST-MODIFIED:20250705T033104Z
UID:10006166-1751587200-1751673599@www.virtuelle-ph.at
SUMMARY:Onlineschulung zur Durchführung der iKMPLUS Primarstufe 2025
DESCRIPTION:Zur Anmeldung\n						\n\n						Link zum Kursraum der Virtuellen PH:\nhttps://onlinecampus.virtuelle-ph.at/course/view.php?id=3329 \nHinweis: Anmeldung im Onlinecampus mit Hilfe des Bildungsportals \n\nSeit dem Schuljahr 2021/22 erfolgt die Überprüfung der Bildungsstandards jährlich im Rahmen der individuellen Kompetenzmessung PLUS (iKMPLUS). Doch was ist die iKMPLUS eigentlich? Wann und in welchen Fächern wird sie durchgeführt? Und welche Aufgaben übernehmen Sie als Lehrperson dabei? Antworten auf diese und viele weitere Fragen liefert Ihnen die Onlineschulung zur Durchführung der iKMPLUS. \nDie Schulung bietet Informationen zur (technischen) Abwicklung und Durchführung der iKMPLUS Basismodule auf der Primarstufe und vermittelt das notwendige Wissen\, um die iKMPLUS mit Ihrer Klasse nach den standardisierten Vorgaben durchführen zu können. Die vier Schulungsmodule geben zunächst einen einführenden Blick auf die Kompetenzerhebung und gehen anschließend auf die wesentlichen Schritte im Rahmen der Vorbereitung\, Durchführung und Nachbereitung der iKMPLUS Basismodule ein. Auch Einblicke in die iKMPLUS-Plattform werden geboten. \n\nExpert_in: IQS Institut des Bundes für Qualitätssicherung im österreichischen Schulwesen \n\n\n			\n				\n			\n			Teilnahmekriterien & Info\n		 \n		\n			Lernziele\n		 \n		\n			Voraussetzungen\n		\n		 \n		\n			\n				\n					\n			Die Onlineschulung wurde für die Primarstufe konzipiert und steht allen Pädagoginnen und Pädagogen offen. Sie richtet sich aber vorwiegend an Lehrpersonen\, die die iKMPLUS im aktuellen Schuljahr mit ihrer 3. und/oder 4. Klasse in den Basismodulen Mathematik und/oder Deutsch (Lesen) durchführen werden.\n		 \n		\n			Nach Absolvierung der Onlineschulung können Teilnehmende… \n· grundlegende Aspekte der iKMPLUS benennen. \n· Vorbereitungen vor dem Durchführungstag sowie am Tag der Durchführung der iKMPLUS ausführen. \n· organisatorische Rahmenbedingungen für die Durchführung abklären. \n· die verschiedenen Materialien rund um die iKMPLUS einsetzen. \n· die iKMPLUS Basismodule nach den standardisierten Vorgaben durchführen. Zudem haben sie grundlegendes Wissen zu den iKMPLUS Fokusmodulen erhalten und wissen\, wo sie weitere Informationen dazu finden. \n· Schülerantworten richtig bewerten. \n· mit der iKMPLUS-Plattform umgehen (z. B. Antworten eingeben und Rückmeldungen generieren).\n		 \n		\n			Vorkenntnisse sind nicht notwendig. Die Pädagogischen Hochschulen in Ihrem Bundesland bieten darüber hinaus noch weitere Schulungen an. Ein Besuch dieser Schulungen wird empfohlen.
URL:https://www.virtuelle-ph.at/veranstaltung/onlineschulung-zur-durchfuehrung-der-ikmplus-primarstufe-2025-3/
CATEGORIES:Online-Seminar
END:VEVENT
END:VCALENDAR