BEGIN:VCALENDAR
VERSION:2.0
PRODID:-//Virtuelle PH - ECPv6.6.4.2//NONSGML v1.0//EN
CALSCALE:GREGORIAN
METHOD:PUBLISH
X-ORIGINAL-URL:https://www.virtuelle-ph.at
X-WR-CALDESC:Veranstaltungen für Virtuelle PH
REFRESH-INTERVAL;VALUE=DURATION:PT1H
X-Robots-Tag:noindex
X-PUBLISHED-TTL:PT1H
BEGIN:VTIMEZONE
TZID:Europe/Vienna
BEGIN:DAYLIGHT
TZOFFSETFROM:+0100
TZOFFSETTO:+0200
TZNAME:CEST
DTSTART:20250330T010000
END:DAYLIGHT
BEGIN:STANDARD
TZOFFSETFROM:+0200
TZOFFSETTO:+0100
TZNAME:CET
DTSTART:20251026T010000
END:STANDARD
END:VTIMEZONE
BEGIN:VEVENT
DTSTART;TZID=Europe/Vienna:20251112T170000
DTEND;TZID=Europe/Vienna:20251112T180000
DTSTAMP:20260425T183056
CREATED:20251001T134121Z
LAST-MODIFIED:20251112T033312Z
UID:10006263-1762966800-1762970400@www.virtuelle-ph.at
SUMMARY:eLecture: Digitale Unterrichtsmaterialien selbst erstellen: Möglichkeiten & Limitationen von KI im Einsatz mit eSquirrel
DESCRIPTION:Zur Anmeldung \n\n						Zum virtuellen Lernraum\n						\n\n						Die zertifizierte Lehr- und Lernplattform von eSquirrel bietet rund 300 vorgefertigte\, geprüfte Kurse passend zu österreichischen Schulbüchern und Lehrplänen. Über das kostenlose AutorInnen-Tool haben Sie als LehrerIn außerdem die Möglichkeit\, mit wenigen Klicks eigene digitale Aufgaben für Ihren Unterricht zu erstellen und diese über die spielerisch gestaltete Lern-App mit Ihren SchülerInnen zu teilen. Heute stellen wir die Frage: Inwieweit können wir uns die Fortschritte im Bereich der KI zur Erstellung eigener digitaler Unterrichtsmaterialien zunutze machen? \nDr. Michael Maurer ist Gründer des österreichischen Start-ups eSquirrel. Er hat an der TU Wien promoviert und als Vortragender an der FH Hagenberg sowie auf internationalen Konferenzen über den Einsatz moderner Technologien im Unterricht referiert. \nIn dieser interaktiven eLecture sehen Sie anhand eines praktischen Beispiels\, wie Sie Chat GPT zur Erstellung digitaler Zusatzaufgaben basierend auf Schulbüchern nutzen können und worauf hierbei besonders zu achten ist. Nach einer detaillierten Einführung in die vielfältigen Gestaltungsmöglichkeiten\, die das kostenlose AutorInnen-Tool von eSquirrel bietet\, können Sie selbst Hand anlegen und – zum Thema Ihrer Wahl – Ihre erste eigene KI-unterstützte “Quest” erstellen. \nDiese eLecture ist für Sie geeignet\, wenn …\n* … Sie an einer VS/ASO/MS/AHS/BHS/Berufsschule unterrichten (werden).\n* … Sie sich für innovative Formen des Unterrichts interessieren (z. B. Blended Learning\, Mobile Learning\, Flipped Classroom\, Gamification). \n\nExpert_in: Michael Maurer \n\n\n			\n				\n			\n			Teilnahmekriterien & Info\n		 \n		\n			Lernziele\n		 \n		\n			Voraussetzungen\n		\n		 \n		\n			\n				\n					\n			So treten Sie der Veranstaltung im virtuellen Lernraum bei: \n1. Rufen Sie 5 min vor Terminstart den Link zum Virtuellen Lernraum auf: \nvirtuelle-ph-at.zoom.us/my/electures \n2. Geben Sie bitte Ihren vollen Namen ein und klicken Sie den Button „Einem Meeting Beitreten“.                              \n3. Klicken Sie den grünen Button „Per Computer dem Audio beitreten“ an. \nDas bewirkt\, dass Sie uns hören und sehen können. Sie werden in Kürze eingelassen. \nDie Teilnahme an allen eLectures der Virtuellen PH ist für österreichische Hochschullehrende\, Lehrkräfte und Studierende eines Lehramts kostenlos.\n		 \n		\n			* Mithilfe von Chat GPT pädagogisch sinnvolle Zusatzaufgaben basierend auf Schulbüchern erstellen können\n* Die Möglichkeiten\, Limitationen und “Stolperfallen” besser verstehen können\, die mit der Nutzung von KI einhergehen\n* Über das eSquirrel-AutorInnen-Tool eigene digitale Unterrichtsmaterialien erstellen können\n* Die multimedialen Gestaltungsmöglichkeiten digitaler Formate optimal nutzen können
URL:https://www.virtuelle-ph.at/veranstaltung/electure-digitale-unterrichtsmaterialien-selbst-erstellen-moeglichkeiten-limitationen-von-ki-im-einsatz-mit-esquirrel/
CATEGORIES:eLecture
END:VEVENT
BEGIN:VEVENT
DTSTART;TZID=Europe/Vienna:20251112T170000
DTEND;TZID=Europe/Vienna:20251112T180000
DTSTAMP:20260425T183056
CREATED:20251113T033326Z
LAST-MODIFIED:20251113T033326Z
UID:10006463-1762966800-1762970400@www.virtuelle-ph.at
SUMMARY:eLecture: Digitale Unterrichtsmaterialien selbst erstellen: Möglichkeiten & Limitationen von KI im Einsatz mit eSquirrel
DESCRIPTION:Zur Anmeldung \n\n						Zum virtuellen Lernraum\n						\n\n						Die zertifizierte Lehr- und Lernplattform von eSquirrel bietet rund 300 vorgefertigte\, geprüfte Kurse passend zu österreichischen Schulbüchern und Lehrplänen. Über das kostenlose AutorInnen-Tool haben Sie als LehrerIn außerdem die Möglichkeit\, mit wenigen Klicks eigene digitale Aufgaben für Ihren Unterricht zu erstellen und diese über die spielerisch gestaltete Lern-App mit Ihren SchülerInnen zu teilen. Heute stellen wir die Frage: Inwieweit können wir uns die Fortschritte im Bereich der KI zur Erstellung eigener digitaler Unterrichtsmaterialien zunutze machen? \nDr. Michael Maurer ist Gründer des österreichischen Start-ups eSquirrel. Er hat an der TU Wien promoviert und als Vortragender an der FH Hagenberg sowie auf internationalen Konferenzen über den Einsatz moderner Technologien im Unterricht referiert. \nIn dieser interaktiven eLecture sehen Sie anhand eines praktischen Beispiels\, wie Sie Chat GPT zur Erstellung digitaler Zusatzaufgaben basierend auf Schulbüchern nutzen können und worauf hierbei besonders zu achten ist. Nach einer detaillierten Einführung in die vielfältigen Gestaltungsmöglichkeiten\, die das kostenlose AutorInnen-Tool von eSquirrel bietet\, können Sie selbst Hand anlegen und – zum Thema Ihrer Wahl – Ihre erste eigene KI-unterstützte “Quest” erstellen. \nDiese eLecture ist für Sie geeignet\, wenn …\n* … Sie an einer VS/ASO/MS/AHS/BHS/Berufsschule unterrichten (werden).\n* … Sie sich für innovative Formen des Unterrichts interessieren (z. B. Blended Learning\, Mobile Learning\, Flipped Classroom\, Gamification). \n\nExpert_in: Michael Maurer \n\n\n			\n				\n			\n			Teilnahmekriterien & Info\n		 \n		\n			Lernziele\n		 \n		\n			Voraussetzungen\n		\n		 \n		\n			\n				\n					\n			So treten Sie der Veranstaltung im virtuellen Lernraum bei: \n1. Rufen Sie 5 min vor Terminstart den Link zum Virtuellen Lernraum auf: \nvirtuelle-ph-at.zoom.us/my/electures \n2. Geben Sie bitte Ihren vollen Namen ein und klicken Sie den Button „Einem Meeting Beitreten“.                              \n3. Klicken Sie den grünen Button „Per Computer dem Audio beitreten“ an. \nDas bewirkt\, dass Sie uns hören und sehen können. Sie werden in Kürze eingelassen. \nDie Teilnahme an allen eLectures der Virtuellen PH ist für österreichische Hochschullehrende\, Lehrkräfte und Studierende eines Lehramts kostenlos.\n		 \n		\n			* Mithilfe von Chat GPT pädagogisch sinnvolle Zusatzaufgaben basierend auf Schulbüchern erstellen können\n* Die Möglichkeiten\, Limitationen und “Stolperfallen” besser verstehen können\, die mit der Nutzung von KI einhergehen\n* Über das eSquirrel-AutorInnen-Tool eigene digitale Unterrichtsmaterialien erstellen können\n* Die multimedialen Gestaltungsmöglichkeiten digitaler Formate optimal nutzen können
URL:https://www.virtuelle-ph.at/veranstaltung/electure-digitale-unterrichtsmaterialien-selbst-erstellen-moeglichkeiten-limitationen-von-ki-im-einsatz-mit-esquirrel-2/
CATEGORIES:eLecture
END:VEVENT
END:VCALENDAR