BEGIN:VCALENDAR
VERSION:2.0
PRODID:-//Virtuelle PH - ECPv6.6.4.2//NONSGML v1.0//EN
CALSCALE:GREGORIAN
METHOD:PUBLISH
X-WR-CALNAME:Virtuelle PH
X-ORIGINAL-URL:https://www.virtuelle-ph.at
X-WR-CALDESC:Veranstaltungen für Virtuelle PH
REFRESH-INTERVAL;VALUE=DURATION:PT1H
X-Robots-Tag:noindex
X-PUBLISHED-TTL:PT1H
BEGIN:VTIMEZONE
TZID:Europe/Vienna
BEGIN:DAYLIGHT
TZOFFSETFROM:+0100
TZOFFSETTO:+0200
TZNAME:CEST
DTSTART:20260329T010000
END:DAYLIGHT
BEGIN:STANDARD
TZOFFSETFROM:+0200
TZOFFSETTO:+0100
TZNAME:CET
DTSTART:20261025T010000
END:STANDARD
END:VTIMEZONE
BEGIN:VEVENT
DTSTART;TZID=Europe/Vienna:20260114T170000
DTEND;TZID=Europe/Vienna:20260114T180000
DTSTAMP:20260425T152832
CREATED:20260103T033008Z
LAST-MODIFIED:20260114T033006Z
UID:10006525-1768410000-1768413600@www.virtuelle-ph.at
SUMMARY:eLecture: Mehr als Finanzierung: Der neue Bildungsgutschein für digitale Lernmittel als Chance für moderne Unterrichtspraxis
DESCRIPTION:Zur Anmeldung \n\n						Zum virtuellen Lernraum\n						\n\n						Seit mehreren Jahren verfügen Österreichs Schulen über digitale Endgeräte aus dem 8-Punkte-Plan. Was bisher jedoch fehlte\, war ein klares Finanzierungsmodell für passende Lern-Apps und Plattformen. Mit dem neuen Bildungsgutschein für digitale Lehr- und Lernmittel steht nun erstmals ein eigenes Budget zur Verfügung\, das den nachhaltigen Einsatz geprüfter digitaler Lernmittel gezielt fördert. \nDr. Michael Maurer\, Gründer des österreichischen EdTech-Start-ups eSquirrel\, referiert regelmäßig im In- und Ausland über den sinnvollen Einsatz moderner Technologien im Unterricht. Seine vielfach mit dem Gütesiegel Lern-Apps prämierte Lehr- und Lernplattform ist die Lösung mit den meisten Auszeichnungen des Bundesministeriums für Bildung und an Schulen in allen neun Bundesländern im Einsatz. \nIn dieser eLecture erhalten Sie praxisnah aufbereitete Informationen zum neuen Bildungsgutschein – gemäß dem aktuellen Stand der veröffentlichten Richtlinien. Gemeinsam beleuchten wir das Potenzial des Bildungsgutscheins für Österreichs Bildungslandschaft\, die Rahmenbedingungen seiner Umsetzung sowie die vom Bundesministerium für Bildung festgelegten Kriterien zur Qualitätssicherung digitaler Lehr- und Lernmittel. Mit einem standardisierten Evaluierungsverfahren bietet das Gütesiegel Lern-Apps Ihnen als Lehrkräften wertvolle Orientierung und Hilfestellung bei der Auswahl digitaler Tools. Abschließend sehen Sie am Beispiel eSquirrel\, wie Sie digitale Lösungen sinnvoll als fixen Bestandteil in Ihren Unterricht integrieren können. \nDiese eLecture ist für Sie geeignet\, wenn …\n* … Sie an einer MS/AHS/BHS/Berufsschule unterrichten (werden)\n* … Sie sich für innovative Formen des Unterrichts interessieren (z. B. Blended Learning\, Mobile Learning\, Flipped Classroom\, Gamification)\n* … Sie an Ihrer Schule als eLearning-Beauftragte:r für digitale Lehr- und Lernprozesse verantwortlich sind \n\nExpert_in: Michael Maurer \n\n\n			\n				\n			\n			Teilnahmekriterien & Info\n		 \n		\n			Lernziele\n		 \n		\n			Voraussetzungen\n		\n		 \n		\n			\n				\n					\n			So treten Sie der Veranstaltung im virtuellen Lernraum bei: \n1. Rufen Sie 5 min vor Terminstart den Link zum Virtuellen Lernraum auf: \nvirtuelle-ph-at.zoom.us/my/electures \n2. Geben Sie bitte Ihren vollen Namen ein und klicken Sie den Button „Einem Meeting Beitreten“.                              \n3. Klicken Sie den grünen Button „Per Computer dem Audio beitreten“ an. \nDas bewirkt\, dass Sie uns hören und sehen können. Sie werden in Kürze eingelassen. \nDie Teilnahme an allen eLectures der Virtuellen PH ist für österreichische Hochschullehrende\, Lehrkräfte und Studierende eines Lehramts kostenlos.\n		 \n		\n			* Das Potenzial des neuen Bildungsgutscheins für Österreichs Schullandschaft erfassen\n* Die konkreten Möglichkeiten kennenlernen\, die dieses Budget für Ihre Schule bietet\n* Die Qualitätskriterien verstehen\, nach denen das Gütesiegel Lern-Apps verliehen wird\n* Die für eine Bestellung über den Bildungsgutschein qualifizierten Lern-Apps und -Plattformen kennen und die richtige(n) Lösung(en) für Ihre Schule auswählen können\n		 \n		\n			–
URL:https://www.virtuelle-ph.at/veranstaltung/electure-mehr-als-finanzierung-der-neue-bildungsgutschein-fuer-digitale-lernmittel-als-chance-fuer-moderne-unterrichtspraxis/
CATEGORIES:eLecture
END:VEVENT
BEGIN:VEVENT
DTSTART;TZID=Europe/Vienna:20260114T170000
DTEND;TZID=Europe/Vienna:20260114T180000
DTSTAMP:20260425T152832
CREATED:20260115T033107Z
LAST-MODIFIED:20260115T033107Z
UID:10006532-1768410000-1768413600@www.virtuelle-ph.at
SUMMARY:eLecture: Mehr als Finanzierung: Der neue Bildungsgutschein für digitale Lernmittel als Chance für moderne Unterrichtspraxis
DESCRIPTION:Zur Anmeldung \n\n						Zum virtuellen Lernraum\n						\n\n						Seit mehreren Jahren verfügen Österreichs Schulen über digitale Endgeräte aus dem 8-Punkte-Plan. Was bisher jedoch fehlte\, war ein klares Finanzierungsmodell für passende Lern-Apps und Plattformen. Mit dem neuen Bildungsgutschein für digitale Lehr- und Lernmittel steht nun erstmals ein eigenes Budget zur Verfügung\, das den nachhaltigen Einsatz geprüfter digitaler Lernmittel gezielt fördert. \nDr. Michael Maurer\, Gründer des österreichischen EdTech-Start-ups eSquirrel\, referiert regelmäßig im In- und Ausland über den sinnvollen Einsatz moderner Technologien im Unterricht. Seine vielfach mit dem Gütesiegel Lern-Apps prämierte Lehr- und Lernplattform ist die Lösung mit den meisten Auszeichnungen des Bundesministeriums für Bildung und an Schulen in allen neun Bundesländern im Einsatz. \nIn dieser eLecture erhalten Sie praxisnah aufbereitete Informationen zum neuen Bildungsgutschein – gemäß dem aktuellen Stand der veröffentlichten Richtlinien. Gemeinsam beleuchten wir das Potenzial des Bildungsgutscheins für Österreichs Bildungslandschaft\, die Rahmenbedingungen seiner Umsetzung sowie die vom Bundesministerium für Bildung festgelegten Kriterien zur Qualitätssicherung digitaler Lehr- und Lernmittel. Mit einem standardisierten Evaluierungsverfahren bietet das Gütesiegel Lern-Apps Ihnen als Lehrkräften wertvolle Orientierung und Hilfestellung bei der Auswahl digitaler Tools. Abschließend sehen Sie am Beispiel eSquirrel\, wie Sie digitale Lösungen sinnvoll als fixen Bestandteil in Ihren Unterricht integrieren können. \nDiese eLecture ist für Sie geeignet\, wenn …\n* … Sie an einer MS/AHS/BHS/Berufsschule unterrichten (werden)\n* … Sie sich für innovative Formen des Unterrichts interessieren (z. B. Blended Learning\, Mobile Learning\, Flipped Classroom\, Gamification)\n* … Sie an Ihrer Schule als eLearning-Beauftragte:r für digitale Lehr- und Lernprozesse verantwortlich sind \n\nExpert_in: Michael Maurer \n\n\n			\n				\n			\n			Teilnahmekriterien & Info\n		 \n		\n			Lernziele\n		 \n		\n			Voraussetzungen\n		\n		 \n		\n			\n				\n					\n			So treten Sie der Veranstaltung im virtuellen Lernraum bei: \n1. Rufen Sie 5 min vor Terminstart den Link zum Virtuellen Lernraum auf: \nvirtuelle-ph-at.zoom.us/my/electures \n2. Geben Sie bitte Ihren vollen Namen ein und klicken Sie den Button „Einem Meeting Beitreten“.                              \n3. Klicken Sie den grünen Button „Per Computer dem Audio beitreten“ an. \nDas bewirkt\, dass Sie uns hören und sehen können. Sie werden in Kürze eingelassen. \nDie Teilnahme an allen eLectures der Virtuellen PH ist für österreichische Hochschullehrende\, Lehrkräfte und Studierende eines Lehramts kostenlos.\n		 \n		\n			* Das Potenzial des neuen Bildungsgutscheins für Österreichs Schullandschaft erfassen\n* Die konkreten Möglichkeiten kennenlernen\, die dieses Budget für Ihre Schule bietet\n* Die Qualitätskriterien verstehen\, nach denen das Gütesiegel Lern-Apps verliehen wird\n* Die für eine Bestellung über den Bildungsgutschein qualifizierten Lern-Apps und -Plattformen kennen und die richtige(n) Lösung(en) für Ihre Schule auswählen können\n		 \n		\n			–
URL:https://www.virtuelle-ph.at/veranstaltung/electure-mehr-als-finanzierung-der-neue-bildungsgutschein-fuer-digitale-lernmittel-als-chance-fuer-moderne-unterrichtspraxis-2/
CATEGORIES:eLecture
END:VEVENT
END:VCALENDAR